BEGIN:VCALENDAR
VERSION:2.0
PRODID:-//Mairie de Bouxwiller - ECPv6.15.18//NONSGML v1.0//EN
CALSCALE:GREGORIAN
METHOD:PUBLISH
X-ORIGINAL-URL:https://bouxwiller.eu
X-WR-CALDESC:Évènements pour Mairie de Bouxwiller
REFRESH-INTERVAL;VALUE=DURATION:PT1H
X-Robots-Tag:noindex
X-PUBLISHED-TTL:PT1H
BEGIN:VTIMEZONE
TZID:Europe/Paris
BEGIN:DAYLIGHT
TZOFFSETFROM:+0100
TZOFFSETTO:+0200
TZNAME:CEST
DTSTART:20210328T010000
END:DAYLIGHT
BEGIN:STANDARD
TZOFFSETFROM:+0200
TZOFFSETTO:+0100
TZNAME:CET
DTSTART:20211031T010000
END:STANDARD
BEGIN:DAYLIGHT
TZOFFSETFROM:+0100
TZOFFSETTO:+0200
TZNAME:CEST
DTSTART:20220327T010000
END:DAYLIGHT
BEGIN:STANDARD
TZOFFSETFROM:+0200
TZOFFSETTO:+0100
TZNAME:CET
DTSTART:20221030T010000
END:STANDARD
BEGIN:DAYLIGHT
TZOFFSETFROM:+0100
TZOFFSETTO:+0200
TZNAME:CEST
DTSTART:20230326T010000
END:DAYLIGHT
BEGIN:STANDARD
TZOFFSETFROM:+0200
TZOFFSETTO:+0100
TZNAME:CET
DTSTART:20231029T010000
END:STANDARD
END:VTIMEZONE
BEGIN:VEVENT
DTSTART;VALUE=DATE:20220612
DTEND;VALUE=DATE:20220613
DTSTAMP:20260421T074935
CREATED:20220520T074733Z
LAST-MODIFIED:20220525T124725Z
UID:15587-1654992000-1655078399@bouxwiller.eu
SUMMARY:Visite guidée de l’exposition « Inspiration Alsace » 15H00
DESCRIPTION:Visite guidée de l’exposition « Inspiration Alsace » \nDécouvrez le travail inspiré et inspirant de la couturière et costumière Rita Tataï\, mis en regard avec des pièces anciennes. En créant la marque Geht’s In\, cette créatrice de mode s’est inspirée de pièces du costume traditionnel alsacien pour remettre au goût du jour des motifs\, des tissus\, une allure…En compagnie de Laure Lickel\, chargée de médiation\, dépoussiérez votre vision du costume alsacien ! \nExposition visible jusqu’au 23 octobre 2022. \nDurée : 1h\nTarif : Gratuit\nPlaces limitées. Réservations au 03 88 00 38 39 ou contact@museedupaysdehanau.eu\nLieu : Musée du Pays de Hanau\, 3 place du Château\, 67330 Bouxwiller
URL:https://bouxwiller.eu/event/visite-guidee-de-lexposition-inspiration-alsace-15h00/
ATTACH;FMTTYPE=image/jpeg:https://bouxwiller.eu/wp-content/uploads/2022/05/VG-expo-29-juillet-scaled-e1653484928330.jpg
END:VEVENT
END:VCALENDAR