BEGIN:VCALENDAR
VERSION:2.0
PRODID:-//Mairie de Bouxwiller - ECPv6.15.18//NONSGML v1.0//EN
CALSCALE:GREGORIAN
METHOD:PUBLISH
X-ORIGINAL-URL:https://bouxwiller.eu
X-WR-CALDESC:Évènements pour Mairie de Bouxwiller
REFRESH-INTERVAL;VALUE=DURATION:PT1H
X-Robots-Tag:noindex
X-PUBLISHED-TTL:PT1H
BEGIN:VTIMEZONE
TZID:Europe/Paris
BEGIN:DAYLIGHT
TZOFFSETFROM:+0100
TZOFFSETTO:+0200
TZNAME:CEST
DTSTART:20210328T010000
END:DAYLIGHT
BEGIN:STANDARD
TZOFFSETFROM:+0200
TZOFFSETTO:+0100
TZNAME:CET
DTSTART:20211031T010000
END:STANDARD
BEGIN:DAYLIGHT
TZOFFSETFROM:+0100
TZOFFSETTO:+0200
TZNAME:CEST
DTSTART:20220327T010000
END:DAYLIGHT
BEGIN:STANDARD
TZOFFSETFROM:+0200
TZOFFSETTO:+0100
TZNAME:CET
DTSTART:20221030T010000
END:STANDARD
BEGIN:DAYLIGHT
TZOFFSETFROM:+0100
TZOFFSETTO:+0200
TZNAME:CEST
DTSTART:20230326T010000
END:DAYLIGHT
BEGIN:STANDARD
TZOFFSETFROM:+0200
TZOFFSETTO:+0100
TZNAME:CET
DTSTART:20231029T010000
END:STANDARD
END:VTIMEZONE
BEGIN:VEVENT
DTSTART;TZID=Europe/Paris:20220615T100000
DTEND;TZID=Europe/Paris:20220615T100000
DTSTAMP:20260421T093510
CREATED:20220310T155152Z
LAST-MODIFIED:20220310T155152Z
UID:15224-1655287200-1655287200@bouxwiller.eu
SUMMARY:Visite-atelier familial « Vive le sapin peint ! »
DESCRIPTION:Les enfants seront transportés jusqu’au 19e siècle par une guide costumée qui incarnera le personnage de Lisele. \nCelle-ci prépare un mariage\, mais le peintre qui devait décorer les meubles des futurs mariés est tombé malade. Pour sauver le mariage\, les enfants devront rechercher les motifs peints sur les meubles en sapin exposés pour s’en inspirer et réaliser un beau décor à l’aide de pochoirs et de tampons. \nÂge : 3-6 ans ; L’enfant doit être accompagné d’un adulte.\nDurée : 1h15\nTarif : 5€\nPlaces limitées. Réservations au 03 88 00 38 39 ou contact@museedupaysdehanau.eu\nLieu : Musée du Pays de Hanau\, 3 place du Château\, 67330 Bouxwiller \n 
URL:https://bouxwiller.eu/event/visite-atelier-familial-vive-le-sapin-peint/
LOCATION:Musée du Pays de Hanau\, 3 place du Château\, BOUXWILLER\, 67330\, France
ATTACH;FMTTYPE=image/jpeg:https://bouxwiller.eu/wp-content/uploads/2022/03/24102021vive_le_sapin_peint-scaled-e1646926889629.jpg
ORGANIZER;CN="Mus%C3%A9e du Pays de Hanau":MAILTO:contact@museedupaysdehanau.eu
END:VEVENT
END:VCALENDAR