BEGIN:VCALENDAR
VERSION:2.0
PRODID:-//Mairie de Bouxwiller - ECPv6.15.18//NONSGML v1.0//EN
CALSCALE:GREGORIAN
METHOD:PUBLISH
X-WR-CALNAME:Mairie de Bouxwiller
X-ORIGINAL-URL:https://bouxwiller.eu
X-WR-CALDESC:Évènements pour Mairie de Bouxwiller
REFRESH-INTERVAL;VALUE=DURATION:PT1H
X-Robots-Tag:noindex
X-PUBLISHED-TTL:PT1H
BEGIN:VTIMEZONE
TZID:Europe/Paris
BEGIN:DAYLIGHT
TZOFFSETFROM:+0100
TZOFFSETTO:+0200
TZNAME:CEST
DTSTART:20210328T010000
END:DAYLIGHT
BEGIN:STANDARD
TZOFFSETFROM:+0200
TZOFFSETTO:+0100
TZNAME:CET
DTSTART:20211031T010000
END:STANDARD
BEGIN:DAYLIGHT
TZOFFSETFROM:+0100
TZOFFSETTO:+0200
TZNAME:CEST
DTSTART:20220327T010000
END:DAYLIGHT
BEGIN:STANDARD
TZOFFSETFROM:+0200
TZOFFSETTO:+0100
TZNAME:CET
DTSTART:20221030T010000
END:STANDARD
BEGIN:DAYLIGHT
TZOFFSETFROM:+0100
TZOFFSETTO:+0200
TZNAME:CEST
DTSTART:20230326T010000
END:DAYLIGHT
BEGIN:STANDARD
TZOFFSETFROM:+0200
TZOFFSETTO:+0100
TZNAME:CET
DTSTART:20231029T010000
END:STANDARD
END:VTIMEZONE
BEGIN:VEVENT
DTSTART;VALUE=DATE:20220619
DTEND;VALUE=DATE:20220620
DTSTAMP:20260421T093239
CREATED:20220117T135906Z
LAST-MODIFIED:20220604T123937Z
UID:14910-1655596800-1655683199@bouxwiller.eu
SUMMARY:Fête du Bastberg avec la participation de l’Orchestre d’harmonie de Bouxwiller -10h30 le 19/06
DESCRIPTION:
URL:https://bouxwiller.eu/event/fete-du-bastberg-avec-la-participation-de-lorchestre-dharmonie-de-bouxwiller-10h30-le-19-06/
ATTACH;FMTTYPE=image/jpeg:https://bouxwiller.eu/wp-content/uploads/2022/01/bastberg_affiche_2022.jpg
END:VEVENT
BEGIN:VEVENT
DTSTART;TZID=Europe/Paris:20220619T160000
DTEND;TZID=Europe/Paris:20220619T160000
DTSTAMP:20260421T093239
CREATED:20220531T131320Z
LAST-MODIFIED:20220531T131320Z
UID:15670-1655654400-1655654400@bouxwiller.eu
SUMMARY:Conférence de Christophe Woehrlé au Musée Judéo Alsacien
DESCRIPTION:La Cité silencieuse – Strasbourg Clairvivre – 1939 1945. Conférence de Christophe Woehrlé \, sur le thème de son livre primé par l’Académie des sciences\, lettres et arts d’Alsace\, lui décernant le Prix de la Décapole 2020\, et par la Société Française d’Histoire des Hôpitaux lui décernant\, en 2020\, la Médaille d’Or. \nhttps://www.museejudeoalsacien.fr/copie-de-animations-2022
URL:https://bouxwiller.eu/event/conference-de-christophe-woehrle-au-musee-judeo-alsacien/
LOCATION:Musée Judéo-Alsacien\, 62 Grand'Rue\, Bouxwiller\, 67300
END:VEVENT
END:VCALENDAR