BEGIN:VCALENDAR
VERSION:2.0
PRODID:-//Mairie de Bouxwiller - ECPv6.15.18//NONSGML v1.0//EN
CALSCALE:GREGORIAN
METHOD:PUBLISH
X-WR-CALNAME:Mairie de Bouxwiller
X-ORIGINAL-URL:https://bouxwiller.eu
X-WR-CALDESC:Évènements pour Mairie de Bouxwiller
REFRESH-INTERVAL;VALUE=DURATION:PT1H
X-Robots-Tag:noindex
X-PUBLISHED-TTL:PT1H
BEGIN:VTIMEZONE
TZID:Europe/Paris
BEGIN:DAYLIGHT
TZOFFSETFROM:+0100
TZOFFSETTO:+0200
TZNAME:CEST
DTSTART:20210328T010000
END:DAYLIGHT
BEGIN:STANDARD
TZOFFSETFROM:+0200
TZOFFSETTO:+0100
TZNAME:CET
DTSTART:20211031T010000
END:STANDARD
BEGIN:DAYLIGHT
TZOFFSETFROM:+0100
TZOFFSETTO:+0200
TZNAME:CEST
DTSTART:20220327T010000
END:DAYLIGHT
BEGIN:STANDARD
TZOFFSETFROM:+0200
TZOFFSETTO:+0100
TZNAME:CET
DTSTART:20221030T010000
END:STANDARD
BEGIN:DAYLIGHT
TZOFFSETFROM:+0100
TZOFFSETTO:+0200
TZNAME:CEST
DTSTART:20230326T010000
END:DAYLIGHT
BEGIN:STANDARD
TZOFFSETFROM:+0200
TZOFFSETTO:+0100
TZNAME:CET
DTSTART:20231029T010000
END:STANDARD
END:VTIMEZONE
BEGIN:VEVENT
DTSTART;VALUE=DATE:20220803
DTEND;VALUE=DATE:20220804
DTSTAMP:20260421T043411
CREATED:20220520T075658Z
LAST-MODIFIED:20220520T083044Z
UID:15604-1659484800-1659571199@bouxwiller.eu
SUMMARY:Visite guidée de la colline du Bastberg « Mystérieuse colline » à 14H30
DESCRIPTION:Mercredi 3 août à 14h30 \nVisite guidée de la colline du Bastberg « Mystérieuse colline » \nVenez percer les mystères de cette colline et des plantes qui l’habitent. Admirez ce magnifique panorama et découvrez pourquoi certaines plantes ont été liées à la sorcellerie. Redécouvrez en compagnie de Laure Lickel\, chargée de médiation\, les secrets de ce lieu unique. \n  \nAnimation gratuite \nDurée : 3h \nPlaces limitées. Réservations obligatoires au 03 88 00 38 39 ou contact@museedupaysdehanau.eu\nSite internet : www.museedupaysdehanau.eu \nLieu de rendez-vous : Parking du Château d’eau
URL:https://bouxwiller.eu/event/visite-guidee-de-la-colline-du-bastberg-mysterieuse-colline-a-14h30/
ATTACH;FMTTYPE=image/jpeg:https://bouxwiller.eu/wp-content/uploads/2022/05/VG-03-aout.jpg
END:VEVENT
BEGIN:VEVENT
DTSTART;TZID=Europe/Paris:20220803T173000
DTEND;TZID=Europe/Paris:20220803T173000
DTSTAMP:20260421T043411
CREATED:20220718T113255Z
LAST-MODIFIED:20220718T121157Z
UID:16028-1659547800-1659547800@bouxwiller.eu
SUMMARY:Les Ateliers d'Alysses - jeux et grainothèque
DESCRIPTION:Apprenez à reconnaître et à récolter des graines du jardin avec lesquelles vous repartirez. Laurent vous partagera alors une grande partie de son savoir-faire.
URL:https://bouxwiller.eu/event/les-ateliers-dalysses-jeux-et-grainotheque/
LOCATION:Jardin de la place du Château\, Place du château\, Bouxwiller
ATTACH;FMTTYPE=image/jpeg:https://bouxwiller.eu/wp-content/uploads/2022/07/Capture-decran-2022-07-18-142316.jpg
END:VEVENT
END:VCALENDAR