BEGIN:VCALENDAR
VERSION:2.0
PRODID:-//Mairie de Bouxwiller - ECPv6.15.18//NONSGML v1.0//EN
CALSCALE:GREGORIAN
METHOD:PUBLISH
X-ORIGINAL-URL:https://bouxwiller.eu
X-WR-CALDESC:Évènements pour Mairie de Bouxwiller
REFRESH-INTERVAL;VALUE=DURATION:PT1H
X-Robots-Tag:noindex
X-PUBLISHED-TTL:PT1H
BEGIN:VTIMEZONE
TZID:Europe/Paris
BEGIN:DAYLIGHT
TZOFFSETFROM:+0100
TZOFFSETTO:+0200
TZNAME:CEST
DTSTART:20210328T010000
END:DAYLIGHT
BEGIN:STANDARD
TZOFFSETFROM:+0200
TZOFFSETTO:+0100
TZNAME:CET
DTSTART:20211031T010000
END:STANDARD
BEGIN:DAYLIGHT
TZOFFSETFROM:+0100
TZOFFSETTO:+0200
TZNAME:CEST
DTSTART:20220327T010000
END:DAYLIGHT
BEGIN:STANDARD
TZOFFSETFROM:+0200
TZOFFSETTO:+0100
TZNAME:CET
DTSTART:20221030T010000
END:STANDARD
BEGIN:DAYLIGHT
TZOFFSETFROM:+0100
TZOFFSETTO:+0200
TZNAME:CEST
DTSTART:20230326T010000
END:DAYLIGHT
BEGIN:STANDARD
TZOFFSETFROM:+0200
TZOFFSETTO:+0100
TZNAME:CET
DTSTART:20231029T010000
END:STANDARD
END:VTIMEZONE
BEGIN:VEVENT
DTSTART;VALUE=DATE:20220804
DTEND;VALUE=DATE:20220805
DTSTAMP:20260421T043734
CREATED:20220520T075743Z
LAST-MODIFIED:20220525T122705Z
UID:15606-1659571200-1659657599@bouxwiller.eu
SUMMARY:Chasse au trésor pour les 8-11 ans à 14h30
DESCRIPTION:Jeudi 4 août : 14h30 – 16h \nChasse au trésor pour les 8-11 ans \nIl y a très longtemps\, à Bouxwiller\, le prince de Hesse-Darmstadt a caché son trésor dans un endroit secret non loin de sa demeure. Les enfants partiront à la recherche des vestiges du château et des jardins disparus et devront relever des défis et résoudre des énigmes pour découvrir l’emplacement du mystérieux trésor. \n  \nTarif : 5€\, goûter offert\nDurée : 1h45\nPlaces limitées. Réservations obligatoires au 03 88 00 38 39 ou contact@museedupaysdehanau.eu\nDépart : Musée du Pays de Hanau – 3 place du Château 67330 Bouxwiller
URL:https://bouxwiller.eu/event/chasse-au-tresor-pour-les-8-11-ans-a-14h30/
ATTACH;FMTTYPE=image/jpeg:https://bouxwiller.eu/wp-content/uploads/2022/05/chasse-au-tresor-4-aout-scaled-e1653485221834.jpg
END:VEVENT
END:VCALENDAR