BEGIN:VCALENDAR
VERSION:2.0
PRODID:-//Mairie de Bouxwiller - ECPv6.15.18//NONSGML v1.0//EN
CALSCALE:GREGORIAN
METHOD:PUBLISH
X-ORIGINAL-URL:https://bouxwiller.eu
X-WR-CALDESC:Évènements pour Mairie de Bouxwiller
REFRESH-INTERVAL;VALUE=DURATION:PT1H
X-Robots-Tag:noindex
X-PUBLISHED-TTL:PT1H
BEGIN:VTIMEZONE
TZID:Europe/Paris
BEGIN:DAYLIGHT
TZOFFSETFROM:+0100
TZOFFSETTO:+0200
TZNAME:CEST
DTSTART:20210328T010000
END:DAYLIGHT
BEGIN:STANDARD
TZOFFSETFROM:+0200
TZOFFSETTO:+0100
TZNAME:CET
DTSTART:20211031T010000
END:STANDARD
BEGIN:DAYLIGHT
TZOFFSETFROM:+0100
TZOFFSETTO:+0200
TZNAME:CEST
DTSTART:20220327T010000
END:DAYLIGHT
BEGIN:STANDARD
TZOFFSETFROM:+0200
TZOFFSETTO:+0100
TZNAME:CET
DTSTART:20221030T010000
END:STANDARD
BEGIN:DAYLIGHT
TZOFFSETFROM:+0100
TZOFFSETTO:+0200
TZNAME:CEST
DTSTART:20230326T010000
END:DAYLIGHT
BEGIN:STANDARD
TZOFFSETFROM:+0200
TZOFFSETTO:+0100
TZNAME:CET
DTSTART:20231029T010000
END:STANDARD
END:VTIMEZONE
BEGIN:VEVENT
DTSTART;VALUE=DATE:20220817
DTEND;VALUE=DATE:20220818
DTSTAMP:20260421T060123
CREATED:20220520T080008Z
LAST-MODIFIED:20220520T083207Z
UID:15610-1660694400-1660780799@bouxwiller.eu
SUMMARY:Visite guidée de la ville : « Bouxwiller au temps des Mines » à 15H
DESCRIPTION:Mercredi 17 août à 15h \nVisite guidée de la ville : « Bouxwiller au temps des Mines » \nAu 19ème siècle\, Bouxwiller participe à la Révolution industrielle grâce à un homme\, Charles Henri Schattenmann\, célèbre directeur de l’Administration des Mines. En compagnie de Laure LICKEL\, chargée de médiation\, replongez dans le passé industriel de la ville et découvrez le célèbre « Bleu de Bouxwiller ». \n  \nAnimation gratuite \nDurée : 1h30 \nPlaces limitées. Réservations obligatoires au 03 88 00 38 39 ou contact@museedupaysdehanau.eu\nSite internet : www.museedupaysdehanau.eu \nLieu de rendez-vous : Musée du Pays de Hanau\, 3 place du Château\, 67330 Bouxwiller
URL:https://bouxwiller.eu/event/visite-guidee-de-la-ville-bouxwiller-au-temps-des-mines-a-15h/
ATTACH;FMTTYPE=image/jpeg:https://bouxwiller.eu/wp-content/uploads/2022/05/VG-mines-17-aout_photo_Frederic-HARSTER.jpg
END:VEVENT
BEGIN:VEVENT
DTSTART;TZID=Europe/Paris:20220817T173000
DTEND;TZID=Europe/Paris:20220817T173000
DTSTAMP:20260421T060123
CREATED:20220718T113650Z
LAST-MODIFIED:20220718T121309Z
UID:16032-1660757400-1660757400@bouxwiller.eu
SUMMARY:Les Ateliers d'Alysse - Les totems de Boux
DESCRIPTION:A travers des histoires et des souvenirs\, Gwenn et Valentin vous aideront à fabriquer des totems pour petits et grands.
URL:https://bouxwiller.eu/event/les-ateliers-dalysse-les-totems-de-boux/
LOCATION:Jardin de la place du Château\, Place du château\, Bouxwiller
ATTACH;FMTTYPE=image/jpeg:https://bouxwiller.eu/wp-content/uploads/2022/07/Capture-decran-2022-07-18-142316.jpg
END:VEVENT
END:VCALENDAR