BEGIN:VCALENDAR
VERSION:2.0
PRODID:-//Mairie de Bouxwiller - ECPv6.15.18//NONSGML v1.0//EN
CALSCALE:GREGORIAN
METHOD:PUBLISH
X-WR-CALNAME:Mairie de Bouxwiller
X-ORIGINAL-URL:https://bouxwiller.eu
X-WR-CALDESC:Évènements pour Mairie de Bouxwiller
REFRESH-INTERVAL;VALUE=DURATION:PT1H
X-Robots-Tag:noindex
X-PUBLISHED-TTL:PT1H
BEGIN:VTIMEZONE
TZID:Europe/Paris
BEGIN:DAYLIGHT
TZOFFSETFROM:+0100
TZOFFSETTO:+0200
TZNAME:CEST
DTSTART:20210328T010000
END:DAYLIGHT
BEGIN:STANDARD
TZOFFSETFROM:+0200
TZOFFSETTO:+0100
TZNAME:CET
DTSTART:20211031T010000
END:STANDARD
BEGIN:DAYLIGHT
TZOFFSETFROM:+0100
TZOFFSETTO:+0200
TZNAME:CEST
DTSTART:20220327T010000
END:DAYLIGHT
BEGIN:STANDARD
TZOFFSETFROM:+0200
TZOFFSETTO:+0100
TZNAME:CET
DTSTART:20221030T010000
END:STANDARD
BEGIN:DAYLIGHT
TZOFFSETFROM:+0100
TZOFFSETTO:+0200
TZNAME:CEST
DTSTART:20230326T010000
END:DAYLIGHT
BEGIN:STANDARD
TZOFFSETFROM:+0200
TZOFFSETTO:+0100
TZNAME:CET
DTSTART:20231029T010000
END:STANDARD
END:VTIMEZONE
BEGIN:VEVENT
DTSTART;TZID=Europe/Paris:20220818T150000
DTEND;TZID=Europe/Paris:20220818T190000
DTSTAMP:20260421T055930
CREATED:20220818T132046Z
LAST-MODIFIED:20220818T132046Z
UID:16205-1660834800-1660849200@bouxwiller.eu
SUMMARY:Ateliers participatifs
DESCRIPTION:Margot\, Gwenn et Valentin vous accueillent lors d’ateliers participatifs\, en collaboration avec l’association Alysses. \nVenez échanger\, fabriquer et discuteur autour du patrimoine de Bouxwiller et de ses alentours. \nDu 15 au 19 août et du 5 au 19 septembre\, de 15h à 18h\, place du château à Bouxwiller.
URL:https://bouxwiller.eu/event/ateliers-participatifs/
LOCATION:Place du Château\, Bouxwiller
ATTACH;FMTTYPE=image/jpeg:https://bouxwiller.eu/wp-content/uploads/2022/08/Capture-decran-2022-08-18-161359.jpg
END:VEVENT
END:VCALENDAR