BEGIN:VCALENDAR
VERSION:2.0
PRODID:-//Mairie de Bouxwiller - ECPv6.15.18//NONSGML v1.0//EN
CALSCALE:GREGORIAN
METHOD:PUBLISH
X-WR-CALNAME:Mairie de Bouxwiller
X-ORIGINAL-URL:https://bouxwiller.eu
X-WR-CALDESC:Évènements pour Mairie de Bouxwiller
REFRESH-INTERVAL;VALUE=DURATION:PT1H
X-Robots-Tag:noindex
X-PUBLISHED-TTL:PT1H
BEGIN:VTIMEZONE
TZID:Europe/Paris
BEGIN:DAYLIGHT
TZOFFSETFROM:+0100
TZOFFSETTO:+0200
TZNAME:CEST
DTSTART:20210328T010000
END:DAYLIGHT
BEGIN:STANDARD
TZOFFSETFROM:+0200
TZOFFSETTO:+0100
TZNAME:CET
DTSTART:20211031T010000
END:STANDARD
BEGIN:DAYLIGHT
TZOFFSETFROM:+0100
TZOFFSETTO:+0200
TZNAME:CEST
DTSTART:20220327T010000
END:DAYLIGHT
BEGIN:STANDARD
TZOFFSETFROM:+0200
TZOFFSETTO:+0100
TZNAME:CET
DTSTART:20221030T010000
END:STANDARD
BEGIN:DAYLIGHT
TZOFFSETFROM:+0100
TZOFFSETTO:+0200
TZNAME:CEST
DTSTART:20230326T010000
END:DAYLIGHT
BEGIN:STANDARD
TZOFFSETFROM:+0200
TZOFFSETTO:+0100
TZNAME:CET
DTSTART:20231029T010000
END:STANDARD
END:VTIMEZONE
BEGIN:VEVENT
DTSTART;TZID=Europe/Paris:20220824T100000
DTEND;TZID=Europe/Paris:20220824T100000
DTSTAMP:20260421T055928
CREATED:20220701T133237Z
LAST-MODIFIED:20220701T133428Z
UID:15888-1661335200-1661335200@bouxwiller.eu
SUMMARY:Spectacle pour les 18 mois-3 ans : Les contes du jardin
DESCRIPTION:Avec la conteuse Christine Fischbach \n« Je vous ai apporté un bout de mon jardin\,\nJe vais vous le montrer\, si vous le voulez bien……\nDans ce jardin\, il se passe de drôles de choses !\nDes animaux se cachent dans mon jardin\nChacun a un secret\,\nQue je vais vous dévoiler ! » \nÀ travers des contes\, ritournelles et comptines composés et adaptés pour les tout-petits\, la conteuse Christine Fischbach emmène les enfants dans son monde vert\, peuplé de petits habitants. Ce sera également l’occasion de découvrir les beaux jardins disparus des princes de Bouxwiller. \nAnimation gratuite\nDurée : 25 minutes\nPlaces limitées. Réservations obligatoires au 03 88 00 38 39 ou contact@museedupaysdehanau.eu\nSite internet : www.museedupaysdehanau.eu \nLieu de rendez-vous : Musée du Pays de Hanau\, 3 place du Château\, 67330 Bouxwiller \n  \n 
URL:https://bouxwiller.eu/event/spectacle-pour-les-18-mois-3-ans-les-contes-du-jardin/
ATTACH;FMTTYPE=image/jpeg:https://bouxwiller.eu/wp-content/uploads/2022/07/Christine-Fischbach-24082022.jpg
END:VEVENT
BEGIN:VEVENT
DTSTART;TZID=Europe/Paris:20220824T104500
DTEND;TZID=Europe/Paris:20220824T104500
DTSTAMP:20260421T055928
CREATED:20220701T133343Z
LAST-MODIFIED:20220701T133747Z
UID:15891-1661337900-1661337900@bouxwiller.eu
SUMMARY:Spectacle pour les 3 - 6 ans : Les contes du jardin
DESCRIPTION:Avec la conteuse Christine Fischbach \nSéance pour les 3-6 ans à 10h45 \n« Je vous ai apporté un bout de mon jardin\,\nJe vais vous le montrer\, si vous le voulez bien……\nDans ce jardin\, il se passe de drôles de choses !\nDes animaux se cachent dans mon jardin\nChacun a un secret\,\nQue je vais vous dévoiler ! » \nÀ travers des contes\, ritournelles et comptines composés et adaptés pour les tout-petits\, la conteuse Christine Fischbach emmène les enfants dans son monde vert\, peuplé de petits habitants. Ce sera également l’occasion de découvrir les beaux jardins disparus des princes de Bouxwiller. \nAnimation gratuite\nDurée : 40 minutes\nPlaces limitées. Réservations obligatoires au 03 88 00 38 39 ou contact@museedupaysdehanau.eu\nSite internet : www.museedupaysdehanau.eu \nLieu de rendez-vous : Musée du Pays de Hanau\, 3 place du Château\, 67330 Bouxwiller
URL:https://bouxwiller.eu/event/spectacle-pour-les-3-6-ans-les-contes-du-jardin/
ATTACH;FMTTYPE=image/jpeg:https://bouxwiller.eu/wp-content/uploads/2022/07/Christine-Fischbach-24082022.jpg
END:VEVENT
BEGIN:VEVENT
DTSTART;TZID=Europe/Paris:20220824T173000
DTEND;TZID=Europe/Paris:20220824T173000
DTSTAMP:20260421T055928
CREATED:20220718T113846Z
LAST-MODIFIED:20220718T121359Z
UID:16034-1661362200-1661362200@bouxwiller.eu
SUMMARY:Les Ateliers d'Alysse - Herbier du jardin
DESCRIPTION:Retrouvez Laurent et Clotilde pour un jeu autour des plantes du jardin. Profitez également d’un temps récréatif pour décorer une boîte avec des fleurs séchées.
URL:https://bouxwiller.eu/event/les-ateliers-dalysse-herbier-du-jardin/
LOCATION:Jardin de la place du Château\, Place du château\, Bouxwiller
ATTACH;FMTTYPE=image/jpeg:https://bouxwiller.eu/wp-content/uploads/2022/07/Capture-decran-2022-07-18-142316.jpg
END:VEVENT
END:VCALENDAR