BEGIN:VCALENDAR
VERSION:2.0
PRODID:-//Mairie de Bouxwiller - ECPv6.15.18//NONSGML v1.0//EN
CALSCALE:GREGORIAN
METHOD:PUBLISH
X-ORIGINAL-URL:https://bouxwiller.eu
X-WR-CALDESC:Évènements pour Mairie de Bouxwiller
REFRESH-INTERVAL;VALUE=DURATION:PT1H
X-Robots-Tag:noindex
X-PUBLISHED-TTL:PT1H
BEGIN:VTIMEZONE
TZID:Europe/Paris
BEGIN:DAYLIGHT
TZOFFSETFROM:+0100
TZOFFSETTO:+0200
TZNAME:CEST
DTSTART:20210328T010000
END:DAYLIGHT
BEGIN:STANDARD
TZOFFSETFROM:+0200
TZOFFSETTO:+0100
TZNAME:CET
DTSTART:20211031T010000
END:STANDARD
BEGIN:DAYLIGHT
TZOFFSETFROM:+0100
TZOFFSETTO:+0200
TZNAME:CEST
DTSTART:20220327T010000
END:DAYLIGHT
BEGIN:STANDARD
TZOFFSETFROM:+0200
TZOFFSETTO:+0100
TZNAME:CET
DTSTART:20221030T010000
END:STANDARD
BEGIN:DAYLIGHT
TZOFFSETFROM:+0100
TZOFFSETTO:+0200
TZNAME:CEST
DTSTART:20230326T010000
END:DAYLIGHT
BEGIN:STANDARD
TZOFFSETFROM:+0200
TZOFFSETTO:+0100
TZNAME:CET
DTSTART:20231029T010000
END:STANDARD
END:VTIMEZONE
BEGIN:VEVENT
DTSTART;TZID=Europe/Paris:20220826T203000
DTEND;TZID=Europe/Paris:20220826T203000
DTSTAMP:20260421T043703
CREATED:20220604T131230Z
LAST-MODIFIED:20220826T111810Z
UID:15757-1661545800-1661545800@bouxwiller.eu
SUMMARY:Vendredi de l'été : Concert du groupe "You"\, Rock Band
DESCRIPTION:Concert avec le groupe « YOU »  \nOriginaire d’Alsace\, YOU est un groupe pop-rock de 5 musiciens dont une « lady » assistés d’un fidèle duo de techniciens. \nIl se produit essentiellement dans le Grand-Est poussant de nombreuses escapades dans les Alpes Suisses et en Pays Normand. \nDepuis sa création à la fin des années 80\, YOU connait un grand succès\, tant pour ses créations inaltérables « Un rock élégant et propre\, une musique qui accroche dès les premières mesures » que pour ses reprises dignement revisitées « Une solide machine à musique\, un fabuleux CoverBand ». \nYOU propose un répertoire rock-pop des Seventies à nos jours : allant des airs mythiques des « Rolling Stones & Creedence » à ceux de « Lenny Krawitz & Bon Jovi »\, des mélodies de « David Bowie & Prince » aux refrains musclés de « Lynyrd Skynyrd & Gotthard » en passant par « Dutronc & Bertignac » ainsi que « ZZ Top & Deep Purple ». \nVos tympans vous chatouillent et vous trépignez d’impatience ? Alors\, ne résistez pas à la tentation … \nRetrouvez YOU sur : http://www.you-rock.fr/ https://www.facebook.com/people/GROUPE-YOU/100023989403990/ \nAnimation gratuite proposée dans le cadre des Vendredis de l’été de Bouxwiller  \nDurée : 1h30\nBuvette et petite restauration sur place dès 19h assurée par l’US Imbsheim.\nLieu  : Salle de l’Orangerie\, place de l’Orangerie\, 67330 Bouxwiller\nRenseignements au 03 88 03 33 97 / www.bouxwiller.eu \n 
URL:https://bouxwiller.eu/event/vendredi-de-lete-concert-you-rock-band/
ATTACH;FMTTYPE=image/jpeg:https://bouxwiller.eu/wp-content/uploads/2022/06/26-Aout-photo-YOU-scaled.jpg
END:VEVENT
END:VCALENDAR