BEGIN:VCALENDAR
VERSION:2.0
PRODID:-//Mairie de Bouxwiller - ECPv6.15.18//NONSGML v1.0//EN
CALSCALE:GREGORIAN
METHOD:PUBLISH
X-ORIGINAL-URL:https://bouxwiller.eu
X-WR-CALDESC:Évènements pour Mairie de Bouxwiller
REFRESH-INTERVAL;VALUE=DURATION:PT1H
X-Robots-Tag:noindex
X-PUBLISHED-TTL:PT1H
BEGIN:VTIMEZONE
TZID:Europe/Paris
BEGIN:DAYLIGHT
TZOFFSETFROM:+0100
TZOFFSETTO:+0200
TZNAME:CEST
DTSTART:20210328T010000
END:DAYLIGHT
BEGIN:STANDARD
TZOFFSETFROM:+0200
TZOFFSETTO:+0100
TZNAME:CET
DTSTART:20211031T010000
END:STANDARD
BEGIN:DAYLIGHT
TZOFFSETFROM:+0100
TZOFFSETTO:+0200
TZNAME:CEST
DTSTART:20220327T010000
END:DAYLIGHT
BEGIN:STANDARD
TZOFFSETFROM:+0200
TZOFFSETTO:+0100
TZNAME:CET
DTSTART:20221030T010000
END:STANDARD
BEGIN:DAYLIGHT
TZOFFSETFROM:+0100
TZOFFSETTO:+0200
TZNAME:CEST
DTSTART:20230326T010000
END:DAYLIGHT
BEGIN:STANDARD
TZOFFSETFROM:+0200
TZOFFSETTO:+0100
TZNAME:CET
DTSTART:20231029T010000
END:STANDARD
END:VTIMEZONE
BEGIN:VEVENT
DTSTART;TZID=Europe/Paris:20220831T150000
DTEND;TZID=Europe/Paris:20220831T150000
DTSTAMP:20260421T060120
CREATED:20220719T143113Z
LAST-MODIFIED:20220719T143113Z
UID:16077-1661958000-1661958000@bouxwiller.eu
SUMMARY:Visite guidée à la découverte du patrimoine juif de Bouxwiller
DESCRIPTION:Christine Wolf\, animatrice du patrimoine à l’Office de Tourisme intercommunal de Hanau-La Petite Pierre\, vous emmène dans les ruelles de la ville sur les traces de cette communauté présente depuis le 14e siècle. \nAu programme de la visite : découverte de la rue des juifs\, traces de mezouzoth\, inscriptions hébraïques\, emplacement du bain rituel… \nA l’issue de la visite\, les participants pourront\, s’ils le souhaitent\, visiter le musée Judéo-Alsacien situé dans l’ancienne synagogue de la ville. Ce site incontournable retrace l’Histoire des communautés juives en Alsace mais aussi les fêtes juives\, les étapes de la vie\, etc.. \nLe patrimoine juif n’aura plus de secrets pour vous ! Cette visite dans le musée pourra se faire de manière libre et individuelle\, à un tarif préférentiel (4\,80 € au lieu de 7€). \nSortie gratuite – inscription obligatoire à l’Office de Tourisme intercommunal de Hanau-La Petite Pierre : 03 88 70 42 30 – tourisme@hanau-lapetitepierre.alsace – www.tourisme.hanau-lapetitepierre.alsace Rendez-vous devant le musée judéo-alsacien\, 62a Grand rue à Bouxwiller. Durée : 1h15 environ.
URL:https://bouxwiller.eu/event/visite-guidee-a-la-decouverte-du-patrimoine-juif-de-bouxwiller/
LOCATION:Bouxwiller
ATTACH;FMTTYPE=image/jpeg:https://bouxwiller.eu/wp-content/uploads/2022/07/VG-Bouxwiller-aout-2020-Credit-CCHLPP-78-scaled.jpg
END:VEVENT
BEGIN:VEVENT
DTSTART;TZID=Europe/Paris:20220831T173000
DTEND;TZID=Europe/Paris:20220831T173000
DTSTAMP:20260421T060120
CREATED:20220718T114050Z
LAST-MODIFIED:20220718T121441Z
UID:16036-1661967000-1661967000@bouxwiller.eu
SUMMARY:Les Ateliers d'Alysse - Balade botanique
DESCRIPTION:Savez-vous que les villes recèlent de biodiversité ? Avec Henri\, partez à la découverte des trésors cachés du centre-ville de Bouxwiller.
URL:https://bouxwiller.eu/event/les-ateliers-dalysse-balade-botanique/
LOCATION:Jardin de la place du Château\, Place du château\, Bouxwiller
ATTACH;FMTTYPE=image/jpeg:https://bouxwiller.eu/wp-content/uploads/2022/07/Capture-decran-2022-07-18-142316.jpg
END:VEVENT
END:VCALENDAR