BEGIN:VCALENDAR
VERSION:2.0
PRODID:-//Mairie de Bouxwiller - ECPv6.15.18//NONSGML v1.0//EN
CALSCALE:GREGORIAN
METHOD:PUBLISH
X-ORIGINAL-URL:https://bouxwiller.eu
X-WR-CALDESC:Évènements pour Mairie de Bouxwiller
REFRESH-INTERVAL;VALUE=DURATION:PT1H
X-Robots-Tag:noindex
X-PUBLISHED-TTL:PT1H
BEGIN:VTIMEZONE
TZID:Europe/Paris
BEGIN:DAYLIGHT
TZOFFSETFROM:+0100
TZOFFSETTO:+0200
TZNAME:CEST
DTSTART:20210328T010000
END:DAYLIGHT
BEGIN:STANDARD
TZOFFSETFROM:+0200
TZOFFSETTO:+0100
TZNAME:CET
DTSTART:20211031T010000
END:STANDARD
BEGIN:DAYLIGHT
TZOFFSETFROM:+0100
TZOFFSETTO:+0200
TZNAME:CEST
DTSTART:20220327T010000
END:DAYLIGHT
BEGIN:STANDARD
TZOFFSETFROM:+0200
TZOFFSETTO:+0100
TZNAME:CET
DTSTART:20221030T010000
END:STANDARD
BEGIN:DAYLIGHT
TZOFFSETFROM:+0100
TZOFFSETTO:+0200
TZNAME:CEST
DTSTART:20230326T010000
END:DAYLIGHT
BEGIN:STANDARD
TZOFFSETFROM:+0200
TZOFFSETTO:+0100
TZNAME:CET
DTSTART:20231029T010000
END:STANDARD
END:VTIMEZONE
BEGIN:VEVENT
DTSTART;TZID=Europe/Paris:20220903T160000
DTEND;TZID=Europe/Paris:20220903T160000
DTSTAMP:20260421T043721
CREATED:20220718T135029Z
LAST-MODIFIED:20220718T135029Z
UID:16047-1662220800-1662220800@bouxwiller.eu
SUMMARY:Lectures en alsacien - par Joseph Schmittbiel et Laure Lickel
DESCRIPTION:Découvrez le costume alsacien traditionnel à travers la littérature. Joseph Schmittbiel\, auteur et traducteur et Laure Lickel\, chargée de médiation\, vous liront des extraits de textes en dialecte. \nDans le beau cadre du musée\, vous pourrez écouter des textes de la romancière et poétesse bouxwilleroise\, Marie Hart\, mais aussi d’autres auteurs. \nDans le cadre de l’exposition « Inspiration Alsace »\, visible jusqu’au 23 octobre 2022. \n  \nGratuit \nDurée : 1h \nPlaces limitées. Réservations obligatoires au 03 88 00 38 39 ou contact@museedupaysdehanau.eu \nLieu : Musée du Pays de Hanau – 3 place du Château 67330 Bouxwiller
URL:https://bouxwiller.eu/event/lectures-en-alsacien-par-joseph-schmittbiel-et-laure-lickel/
LOCATION:Musée du Pays de Hanau\, 3 place du Château\, BOUXWILLER\, 67330\, France
ATTACH;FMTTYPE=image/jpeg:https://bouxwiller.eu/wp-content/uploads/2022/07/03092022-Lecturesphoto-Melanie-Le-Hir-scaled-e1658155776842.jpg
END:VEVENT
END:VCALENDAR