BEGIN:VCALENDAR
VERSION:2.0
PRODID:-//Mairie de Bouxwiller - ECPv6.15.18//NONSGML v1.0//EN
CALSCALE:GREGORIAN
METHOD:PUBLISH
X-WR-CALNAME:Mairie de Bouxwiller
X-ORIGINAL-URL:https://bouxwiller.eu
X-WR-CALDESC:Évènements pour Mairie de Bouxwiller
REFRESH-INTERVAL;VALUE=DURATION:PT1H
X-Robots-Tag:noindex
X-PUBLISHED-TTL:PT1H
BEGIN:VTIMEZONE
TZID:Europe/Paris
BEGIN:DAYLIGHT
TZOFFSETFROM:+0100
TZOFFSETTO:+0200
TZNAME:CEST
DTSTART:20210328T010000
END:DAYLIGHT
BEGIN:STANDARD
TZOFFSETFROM:+0200
TZOFFSETTO:+0100
TZNAME:CET
DTSTART:20211031T010000
END:STANDARD
BEGIN:DAYLIGHT
TZOFFSETFROM:+0100
TZOFFSETTO:+0200
TZNAME:CEST
DTSTART:20220327T010000
END:DAYLIGHT
BEGIN:STANDARD
TZOFFSETFROM:+0200
TZOFFSETTO:+0100
TZNAME:CET
DTSTART:20221030T010000
END:STANDARD
BEGIN:DAYLIGHT
TZOFFSETFROM:+0100
TZOFFSETTO:+0200
TZNAME:CEST
DTSTART:20230326T010000
END:DAYLIGHT
BEGIN:STANDARD
TZOFFSETFROM:+0200
TZOFFSETTO:+0100
TZNAME:CET
DTSTART:20231029T010000
END:STANDARD
END:VTIMEZONE
BEGIN:VEVENT
DTSTART;TZID=Europe/Paris:20220910T203000
DTEND;TZID=Europe/Paris:20220910T203000
DTSTAMP:20260421T062304
CREATED:20220826T110427Z
LAST-MODIFIED:20220826T110427Z
UID:16319-1662841800-1662841800@bouxwiller.eu
SUMMARY:Concert - Orgue J.S Bach\, F. Mendelssohn
DESCRIPTION:Concert mis en lumière \nRetransmission sur écran \nCyril Pallaud\, Orgue \nDaniel Knipper\, mise en lumière \nJean-Pierre Schmitt\, régisseur vidéo \nEntrée libre \nwww.passions-croisees.com
URL:https://bouxwiller.eu/event/concert-orgue-j-s-bach-f-mendelssohn/
LOCATION:Eglise Protestante\, rue de l'Eglise\, BOUXWILLER\, 67330\, France
ATTACH;FMTTYPE=image/jpeg:https://bouxwiller.eu/wp-content/uploads/2022/08/affiche_concert_pallaud-scaled-e1661515453117.jpeg
END:VEVENT
END:VCALENDAR