BEGIN:VCALENDAR
VERSION:2.0
PRODID:-//Mairie de Bouxwiller - ECPv6.15.18//NONSGML v1.0//EN
CALSCALE:GREGORIAN
METHOD:PUBLISH
X-WR-CALNAME:Mairie de Bouxwiller
X-ORIGINAL-URL:https://bouxwiller.eu
X-WR-CALDESC:Évènements pour Mairie de Bouxwiller
REFRESH-INTERVAL;VALUE=DURATION:PT1H
X-Robots-Tag:noindex
X-PUBLISHED-TTL:PT1H
BEGIN:VTIMEZONE
TZID:Europe/Paris
BEGIN:DAYLIGHT
TZOFFSETFROM:+0100
TZOFFSETTO:+0200
TZNAME:CEST
DTSTART:20210328T010000
END:DAYLIGHT
BEGIN:STANDARD
TZOFFSETFROM:+0200
TZOFFSETTO:+0100
TZNAME:CET
DTSTART:20211031T010000
END:STANDARD
BEGIN:DAYLIGHT
TZOFFSETFROM:+0100
TZOFFSETTO:+0200
TZNAME:CEST
DTSTART:20220327T010000
END:DAYLIGHT
BEGIN:STANDARD
TZOFFSETFROM:+0200
TZOFFSETTO:+0100
TZNAME:CET
DTSTART:20221030T010000
END:STANDARD
BEGIN:DAYLIGHT
TZOFFSETFROM:+0100
TZOFFSETTO:+0200
TZNAME:CEST
DTSTART:20230326T010000
END:DAYLIGHT
BEGIN:STANDARD
TZOFFSETFROM:+0200
TZOFFSETTO:+0100
TZNAME:CET
DTSTART:20231029T010000
END:STANDARD
END:VTIMEZONE
BEGIN:VEVENT
DTSTART;VALUE=DATE:20220911
DTEND;VALUE=DATE:20220912
DTSTAMP:20260421T073936
CREATED:20220604T124734Z
LAST-MODIFIED:20220604T124734Z
UID:15737-1662854400-1662940799@bouxwiller.eu
SUMMARY:Hanautic fait sa rentrée
DESCRIPTION:
URL:https://bouxwiller.eu/event/hanautic-fait-sa-rentree/
ATTACH;FMTTYPE=image/jpeg:https://bouxwiller.eu/wp-content/uploads/2022/06/20220425-Hanautic-25-ans-flyer2.jpg
END:VEVENT
BEGIN:VEVENT
DTSTART;TZID=Europe/Paris:20220911T143000
DTEND;TZID=Europe/Paris:20220911T143000
DTSTAMP:20260421T073936
CREATED:20220531T131630Z
LAST-MODIFIED:20220728T065526Z
UID:15675-1662906600-1662906600@bouxwiller.eu
SUMMARY:12e édition du Mini Festival de Musique Juive : visite guidée et conférence/concert
DESCRIPTION:Dimanche 11 septembre\, l’Office de Tourisme intercommunal vous propose de découvrir le patrimoine juif de Bouxwiller avec une visite guidée à 14h30 suivie d’une conférence musicale à 16h au Musée Judéo-Alsacien.\nA 14h30\, Christine Wolf\, animatrice du patrimoine\, vous emmènera dans les ruelles de la ville sur les traces de la communauté juive présente depuis le 14e siècle. Au programme de la visite : découverte de la rue des juifs\, traces de mezouzoth\, inscriptions hébraïques\, emplacement du bain rituel… Cette visite sera également l’occasion d’aborder les événements vécus par cette communauté pendant la Seconde Guerre Mondiale : lecture de témoignages\, évocation des familles disparues avec les stolperstein…\nVisite guidée gratuite sur inscription\, départ à 14h30 devant le Musée Judéo-Alsacien.\nRéservation et informations auprès de l’Office de Tourisme intercommunal : www.tourisme.hanau-lapetitepierre.alsace \, 03 88 70 42 30\, tourisme@hanau-lapetitepierre.alsace \nEnsuite place à une conférence et un concert à 16h au Musée Judéo-Alsacien. Pierre Frath racontera l’histoire des langues juives dans le monde accompagné par les chants de Madeleine Wolf. Son goût du chant lui vient de son arrière-grand-mère et de sa grand-mère maternelle juive qui ont connu le Berlin des années 20 et 30. Dans ses concerts\, elle interprète a cappella des oeuvres des compositeurs\, chanteurs et auteurs de cette époque ainsi que des chansons juives traditionnelles à travers les siècles et régions musicales. (7 € / gratuit pour les – de 12 ans\, renseignements et réservation au Musée Judéo-Alsacien 03 88 70 97 17\, museejudeoalsacien@gmail.com).
URL:https://bouxwiller.eu/event/conference-les-langues-des-juifs-de-pierre-frath/
LOCATION:Musée Judéo-Alsacien\, 62 Grand'Rue\, Bouxwiller\, 67300
ATTACH;FMTTYPE=image/jpeg:https://bouxwiller.eu/wp-content/uploads/2022/05/flyer-A5-MFMJ-2022-BD-1-e1658994922782.jpg
END:VEVENT
END:VCALENDAR