BEGIN:VCALENDAR
VERSION:2.0
PRODID:-//Mairie de Bouxwiller - ECPv6.15.18//NONSGML v1.0//EN
CALSCALE:GREGORIAN
METHOD:PUBLISH
X-ORIGINAL-URL:https://bouxwiller.eu
X-WR-CALDESC:Évènements pour Mairie de Bouxwiller
REFRESH-INTERVAL;VALUE=DURATION:PT1H
X-Robots-Tag:noindex
X-PUBLISHED-TTL:PT1H
BEGIN:VTIMEZONE
TZID:Europe/Paris
BEGIN:DAYLIGHT
TZOFFSETFROM:+0100
TZOFFSETTO:+0200
TZNAME:CEST
DTSTART:20210328T010000
END:DAYLIGHT
BEGIN:STANDARD
TZOFFSETFROM:+0200
TZOFFSETTO:+0100
TZNAME:CET
DTSTART:20211031T010000
END:STANDARD
BEGIN:DAYLIGHT
TZOFFSETFROM:+0100
TZOFFSETTO:+0200
TZNAME:CEST
DTSTART:20220327T010000
END:DAYLIGHT
BEGIN:STANDARD
TZOFFSETFROM:+0200
TZOFFSETTO:+0100
TZNAME:CET
DTSTART:20221030T010000
END:STANDARD
BEGIN:DAYLIGHT
TZOFFSETFROM:+0100
TZOFFSETTO:+0200
TZNAME:CEST
DTSTART:20230326T010000
END:DAYLIGHT
BEGIN:STANDARD
TZOFFSETFROM:+0200
TZOFFSETTO:+0100
TZNAME:CET
DTSTART:20231029T010000
END:STANDARD
END:VTIMEZONE
BEGIN:VEVENT
DTSTART;TZID=Europe/Paris:20220916T180000
DTEND;TZID=Europe/Paris:20220916T213000
DTSTAMP:20260421T063527
CREATED:20220910T130700Z
LAST-MODIFIED:20220910T130700Z
UID:16396-1663351200-1663363800@bouxwiller.eu
SUMMARY:Atelier Zoin Zoin
DESCRIPTION:Avec Henri\, venez cuisiner le patrimoine sauvage de la colline du Bastberg.
URL:https://bouxwiller.eu/event/atelier-zoin-zoin/
LOCATION:A l’arbre de Goethe\, Bouxwiller
ATTACH;FMTTYPE=image/jpeg:https://bouxwiller.eu/wp-content/uploads/2022/09/zoin-zoin-e1662818805410.jpg
END:VEVENT
END:VCALENDAR