BEGIN:VCALENDAR
VERSION:2.0
PRODID:-//Mairie de Bouxwiller - ECPv6.15.18//NONSGML v1.0//EN
CALSCALE:GREGORIAN
METHOD:PUBLISH
X-ORIGINAL-URL:https://bouxwiller.eu
X-WR-CALDESC:Évènements pour Mairie de Bouxwiller
REFRESH-INTERVAL;VALUE=DURATION:PT1H
X-Robots-Tag:noindex
X-PUBLISHED-TTL:PT1H
BEGIN:VTIMEZONE
TZID:Europe/Paris
BEGIN:DAYLIGHT
TZOFFSETFROM:+0100
TZOFFSETTO:+0200
TZNAME:CEST
DTSTART:20210328T010000
END:DAYLIGHT
BEGIN:STANDARD
TZOFFSETFROM:+0200
TZOFFSETTO:+0100
TZNAME:CET
DTSTART:20211031T010000
END:STANDARD
BEGIN:DAYLIGHT
TZOFFSETFROM:+0100
TZOFFSETTO:+0200
TZNAME:CEST
DTSTART:20220327T010000
END:DAYLIGHT
BEGIN:STANDARD
TZOFFSETFROM:+0200
TZOFFSETTO:+0100
TZNAME:CET
DTSTART:20221030T010000
END:STANDARD
BEGIN:DAYLIGHT
TZOFFSETFROM:+0100
TZOFFSETTO:+0200
TZNAME:CEST
DTSTART:20230326T010000
END:DAYLIGHT
BEGIN:STANDARD
TZOFFSETFROM:+0200
TZOFFSETTO:+0100
TZNAME:CET
DTSTART:20231029T010000
END:STANDARD
END:VTIMEZONE
BEGIN:VEVENT
DTSTART;VALUE=DATE:20220917
DTEND;VALUE=DATE:20220919
DTSTAMP:20260421T074050
CREATED:20220826T122730Z
LAST-MODIFIED:20220826T122730Z
UID:16323-1663372800-1663545599@bouxwiller.eu
SUMMARY:Journées Européennes du Patrimoine : ouverture gratuite du Musée
DESCRIPTION:Visite libre du Musée du Pays de Hanau et de l’exposition « Inspiration Alsace »   \nÀ travers sa marque Geht’s In\, la costumière et couturière\, Rita Tataï\, s’inspire du patrimoine local et revisite les codes du costume alsacien. Semeuse d’idées\, elle a à cœur de transmettre sa passion et son savoir-faire à de jeunes stylistes qui\, eux aussi\, s’emploient à créer des ponts entre traditions et modernité. \nL’exposition « Inspiration Alsace » permet de mettre en lumière ces liens en exposant les créations Geht’s In\, en regard avec des pièces anciennes\, principalement issues des collections du Musée du Pays de Hanau. Le costume alsacien traditionnel est ainsi décomposé et s’offre à nous sous un nouvel angle\, permettant de mettre en valeur la richesse de ses motifs\, de ses tissus et de ses ornements. \nEntrée du Musée gratuite\, pour tous. \nLieu : Musée du Pays de Hanau – 3 place du Château 67330 Bouxwiller
URL:https://bouxwiller.eu/event/journees-europeennes-du-patrimoine-ouverture-gratuite-du-musee/
LOCATION:Musée du Pays de Hanau\, 3 place du Château\, BOUXWILLER\, 67330\, France
ATTACH;FMTTYPE=image/jpeg:https://bouxwiller.eu/wp-content/uploads/2022/08/03092022-Lecturesphoto-Melanie-Le-Hir-scaled-e1657898994997.jpg
END:VEVENT
BEGIN:VEVENT
DTSTART;TZID=Europe/Paris:20220917T090000
DTEND;TZID=Europe/Paris:20220917T190000
DTSTAMP:20260421T074050
CREATED:20220915T120254Z
LAST-MODIFIED:20220915T121047Z
UID:16456-1663405200-1663441200@bouxwiller.eu
SUMMARY:Chantier nature participatif
DESCRIPTION:Le Conservatoire des Sites Alsaciens organise à Bouxwiller un chantier nature le samedi 17 septembre 2022\, sur le site qu’il protège au lieu-dit « Wasen ». \nCes chantiers nature\, ouverts à tout public\, permettent de participer activement à la conservation de notre patrimoine naturel et de découvrir les richesses de ces différents milieux protégés. \nCes travaux d’entretien\, soutenus financièrement par le partenaire du CEN Alsace\, la Collectivité européenne d’Alsace seront réalisés sur des parcelles communales et/ou du Conseil Départemental du Bas-Rhin.\, confiées en gestion au Conservatoire d’espaces naturel. \nVenez participer bénévolement à l’entretien écologique des arbres fruitiers du Wasen ! \nRDV à 9h et 14h sur le parking du réservoir rue du Bastberg. \nRenseignements : 03.89.83.34.10 ou à l’adresse mail : antenne.bas-rhin@conservatoire-sites-alsaciens.eu
URL:https://bouxwiller.eu/event/chantier-nature-participatif-3/
LOCATION:Lieu dit Wasen
ATTACH;FMTTYPE=image/jpeg:https://bouxwiller.eu/wp-content/uploads/2022/09/BOUXWILLER-Wasen-01-scaled-e1663246963871.jpg
END:VEVENT
BEGIN:VEVENT
DTSTART;TZID=Europe/Paris:20220917T143000
DTEND;TZID=Europe/Paris:20220917T143000
DTSTAMP:20260421T074050
CREATED:20220826T124006Z
LAST-MODIFIED:20220826T124006Z
UID:16326-1663425000-1663425000@bouxwiller.eu
SUMMARY:Journées Européennes du Patrimoine : dans la ville
DESCRIPTION:À 14h30 et à 16h30 \nVisite guidée de l’Hôtel de Ville en VIP\, suivie d’un petit récital de clavecin\nDécouvrez les trésors d’histoire que cache le beau bâtiment de l’Hôtel de Ville\, ancienne chancellerie du comté de Hanau-Lichtenberg\, en compagnie de Freddy Staath\, maire délégué de Riedheim\, en charge de la Culture\, du Patrimoine et du Tourisme à Bouxwiller. Exceptionnellement\, ouvrez la porte de la salle du conseil et replongez dans le passé princier de Bouxwiller. \nLa visite s’achèvera par un mini concert de clavecin. Laissez-vous transporter au 17ème siècle\, par le musicien Jean-Luc Iffrig qui vous fera découvrir des œuvres de Frescobaldi\, en regard des trois tableaux exceptionnels présentés dans la salle du conseil. L’univers champêtre des jardins princiers du 18ème siècle sera également évoqué à travers l’œuvre musicale de Johann C. F. Fischer. \nDurée : 1h30\nAnimation gratuite\nSur réservation : contact@museedupaysdehanau.eu ou 03 88 00 38 39\nLieu : Hôtel de Ville de Bouxwiller\, 1 place du Château 67330 BOUXWILLER \n  \nDeux séances : à 15h et à 16h30\nAtelier de dessin d’observation parent-enfant\nAvec l’artiste Carole Deltenre\nVenez vous initier au dessin et repartez avec votre croquis des anciens jardins de Bouxwiller. Carole Deltenre est l’artiste qui a réalisé les dessins de reconstitutions du jardin de plaisance et du château au 18ème siècle pour les boîtes à vues (à disposition sur la place du Château)\, dans le cadre du projet de jardin éphémère\, porté et réalisé par l’association Alysses. \nUn atelier proposé\, en extérieur\, par l’association Alysses en partenariat avec le Musée du Pays de Hanau. Repli au Musée en cas de mauvais temps. \nA partir de 7 ans\nDurée : 1h\nTarif : 5 euros\nSur réservation : contact@museedupaysdehanau.eu ou 03 88 00 38 39\nRdv au Musée du Pays de Hanau \nExposition bilan par l’association Alysses \nEn 2021-2022\, l’association Alysses accompagne 23 classes : plantations\, œuvres artistiques\, démarche de diagnostic\, propositions fictives d’aménagement de la place du Château\, performances. Une exposition composée de photos et de textes relatifs à l’expérience sera installée du 17 septembre au 9 octobre 2022 dans le jardin. Une façon de présenter publiquement un premier bilan de cette grande expérience participative. \nEntrée libre\nLieu : sur la place du Château
URL:https://bouxwiller.eu/event/journees-europeennes-du-patrimoine-dans-la-ville/
ATTACH;FMTTYPE=image/jpeg:https://bouxwiller.eu/wp-content/uploads/2022/08/jep05-2048x1536-1-e1661521299481.jpg
END:VEVENT
BEGIN:VEVENT
DTSTART;TZID=Europe/Paris:20220917T150000
DTEND;TZID=Europe/Paris:20220917T163000
DTSTAMP:20260421T074050
CREATED:20220818T133429Z
LAST-MODIFIED:20220818T133429Z
UID:16212-1663426800-1663432200@bouxwiller.eu
SUMMARY:Atelier
DESCRIPTION:Dessin de paysage parent-enfant par l’artiste Carole Deltenre à 15h et 16h30 samedi 17 septembre. Réservation auprès du Musée du Pays de Hanau. 5 euros\, à partir de 7 ans.
URL:https://bouxwiller.eu/event/atelier/
ATTACH;FMTTYPE=image/jpeg:https://bouxwiller.eu/wp-content/uploads/2022/08/atelierdessinavecCarole-scaled.jpg
END:VEVENT
END:VCALENDAR