BEGIN:VCALENDAR
VERSION:2.0
PRODID:-//Mairie de Bouxwiller - ECPv6.15.18//NONSGML v1.0//EN
CALSCALE:GREGORIAN
METHOD:PUBLISH
X-ORIGINAL-URL:https://bouxwiller.eu
X-WR-CALDESC:Évènements pour Mairie de Bouxwiller
REFRESH-INTERVAL;VALUE=DURATION:PT1H
X-Robots-Tag:noindex
X-PUBLISHED-TTL:PT1H
BEGIN:VTIMEZONE
TZID:Europe/Paris
BEGIN:DAYLIGHT
TZOFFSETFROM:+0100
TZOFFSETTO:+0200
TZNAME:CEST
DTSTART:20210328T010000
END:DAYLIGHT
BEGIN:STANDARD
TZOFFSETFROM:+0200
TZOFFSETTO:+0100
TZNAME:CET
DTSTART:20211031T010000
END:STANDARD
BEGIN:DAYLIGHT
TZOFFSETFROM:+0100
TZOFFSETTO:+0200
TZNAME:CEST
DTSTART:20220327T010000
END:DAYLIGHT
BEGIN:STANDARD
TZOFFSETFROM:+0200
TZOFFSETTO:+0100
TZNAME:CET
DTSTART:20221030T010000
END:STANDARD
BEGIN:DAYLIGHT
TZOFFSETFROM:+0100
TZOFFSETTO:+0200
TZNAME:CEST
DTSTART:20230326T010000
END:DAYLIGHT
BEGIN:STANDARD
TZOFFSETFROM:+0200
TZOFFSETTO:+0100
TZNAME:CET
DTSTART:20231029T010000
END:STANDARD
END:VTIMEZONE
BEGIN:VEVENT
DTSTART;TZID=Europe/Paris:20221020T200000
DTEND;TZID=Europe/Paris:20221020T200000
DTSTAMP:20260421T075000
CREATED:20221017T115338Z
LAST-MODIFIED:20221017T115338Z
UID:16733-1666296000-1666296000@bouxwiller.eu
SUMMARY:Conférence débat - Le pèlerinage dans les religions
DESCRIPTION:Dans le cadre de l’exposition itinérante  « Le pèlerinage dans les religions »\, proposée pour la première fois au public à l’occasion du 13ème Rendez-Vous avec les Religions\, le Musée Judéo-Alsacien de Bouxwiller a le plaisir de vous convier à une conférence-débat le jeudi 20 octobre à 20h. \n  \nSuivie d’un temps d’échange se voulant un véritable partage interreligieux\, cette rencontre dédiée au vivre ensemble sera animée par trois intervenants de confession différente : \n– Ariel REBIBO\, rabbin\, adjoint au Grand Rabbin du Bas-Rhin Avraham Harold Weill\, en charge du dialogue inter-religieux ; \n– Philippe ICHTER\, pasteur\, Chargé de mission – Relations avec les cultes et dialogue interreligieux – Collectivité européenne d’Alsace ; \n– Sylla KALILOU\, imam à la Grande Mosquée de Strasbourg. \n  \nLieu : Musée Judéo-Alsacien\, 62a Grand Rue Bouxwiller\nDate & horaire : Jeudi 20 octobre\, à 20h\nTarif : 7€
URL:https://bouxwiller.eu/event/conference-debat-le-pelerinage-dans-les-religions/
LOCATION:Musée Judéo-Alsacien\, 62 Grand'Rue\, Bouxwiller\, 67300
ATTACH;FMTTYPE=image/jpeg:https://bouxwiller.eu/wp-content/uploads/2022/10/Conference-debat-Le-pelerinage-dans-les-religions-e1666011186459.jpg
END:VEVENT
END:VCALENDAR