BEGIN:VCALENDAR
VERSION:2.0
PRODID:-//Mairie de Bouxwiller - ECPv6.15.18//NONSGML v1.0//EN
CALSCALE:GREGORIAN
METHOD:PUBLISH
X-WR-CALNAME:Mairie de Bouxwiller
X-ORIGINAL-URL:https://bouxwiller.eu
X-WR-CALDESC:Évènements pour Mairie de Bouxwiller
REFRESH-INTERVAL;VALUE=DURATION:PT1H
X-Robots-Tag:noindex
X-PUBLISHED-TTL:PT1H
BEGIN:VTIMEZONE
TZID:Europe/Paris
BEGIN:DAYLIGHT
TZOFFSETFROM:+0100
TZOFFSETTO:+0200
TZNAME:CEST
DTSTART:20210328T010000
END:DAYLIGHT
BEGIN:STANDARD
TZOFFSETFROM:+0200
TZOFFSETTO:+0100
TZNAME:CET
DTSTART:20211031T010000
END:STANDARD
BEGIN:DAYLIGHT
TZOFFSETFROM:+0100
TZOFFSETTO:+0200
TZNAME:CEST
DTSTART:20220327T010000
END:DAYLIGHT
BEGIN:STANDARD
TZOFFSETFROM:+0200
TZOFFSETTO:+0100
TZNAME:CET
DTSTART:20221030T010000
END:STANDARD
BEGIN:DAYLIGHT
TZOFFSETFROM:+0100
TZOFFSETTO:+0200
TZNAME:CEST
DTSTART:20230326T010000
END:DAYLIGHT
BEGIN:STANDARD
TZOFFSETFROM:+0200
TZOFFSETTO:+0100
TZNAME:CET
DTSTART:20231029T010000
END:STANDARD
END:VTIMEZONE
BEGIN:VEVENT
DTSTART;TZID=Europe/Paris:20221026T143000
DTEND;TZID=Europe/Paris:20221026T170000
DTSTAMP:20260421T080436
CREATED:20220930T060500Z
LAST-MODIFIED:20220930T060500Z
UID:16544-1666794600-1666803600@bouxwiller.eu
SUMMARY:Atelier automnal pour les 7-12 ans
DESCRIPTION:Plongez au cœur de l’automne\, avec les bénévoles Régine et Claude\, membres de l’Association des Amis du Musée. Elles proposeront aux enfants de 7 à 12 ans de réaliser des bricolages de saison\, dans la joie et la bonne humeur. \nLe mercredi 26 octobre de 14h30-17h \nDurée : 2h30 \nTarif : 5€ (comprend l’entrée du Musée) + Goûter offert \nPlaces limitées. Réservations au 03 88 00 38 39 ou contact@museedupaysdehanau.eu \nLieu : Musée du Pays de Hanau – 3 place du Château 67330 Bouxwiller \n 
URL:https://bouxwiller.eu/event/atelier-automnal-pour-les-7-12-ans/
LOCATION:Musée du Pays de Hanau\, 3 place du Château\, BOUXWILLER\, 67330\, France
ATTACH;FMTTYPE=image/jpeg:https://bouxwiller.eu/wp-content/uploads/2022/09/DSC_7610-scaled.jpg
END:VEVENT
END:VCALENDAR