BEGIN:VCALENDAR
VERSION:2.0
PRODID:-//Mairie de Bouxwiller - ECPv6.15.18//NONSGML v1.0//EN
CALSCALE:GREGORIAN
METHOD:PUBLISH
X-WR-CALNAME:Mairie de Bouxwiller
X-ORIGINAL-URL:https://bouxwiller.eu
X-WR-CALDESC:Évènements pour Mairie de Bouxwiller
REFRESH-INTERVAL;VALUE=DURATION:PT1H
X-Robots-Tag:noindex
X-PUBLISHED-TTL:PT1H
BEGIN:VTIMEZONE
TZID:Europe/Paris
BEGIN:DAYLIGHT
TZOFFSETFROM:+0100
TZOFFSETTO:+0200
TZNAME:CEST
DTSTART:20210328T010000
END:DAYLIGHT
BEGIN:STANDARD
TZOFFSETFROM:+0200
TZOFFSETTO:+0100
TZNAME:CET
DTSTART:20211031T010000
END:STANDARD
BEGIN:DAYLIGHT
TZOFFSETFROM:+0100
TZOFFSETTO:+0200
TZNAME:CEST
DTSTART:20220327T010000
END:DAYLIGHT
BEGIN:STANDARD
TZOFFSETFROM:+0200
TZOFFSETTO:+0100
TZNAME:CET
DTSTART:20221030T010000
END:STANDARD
BEGIN:DAYLIGHT
TZOFFSETFROM:+0100
TZOFFSETTO:+0200
TZNAME:CEST
DTSTART:20230326T010000
END:DAYLIGHT
BEGIN:STANDARD
TZOFFSETFROM:+0200
TZOFFSETTO:+0100
TZNAME:CET
DTSTART:20231029T010000
END:STANDARD
END:VTIMEZONE
BEGIN:VEVENT
DTSTART;TZID=Europe/Paris:20221030T100000
DTEND;TZID=Europe/Paris:20221030T100000
DTSTAMP:20260421T074704
CREATED:20221025T054141Z
LAST-MODIFIED:20221025T054141Z
UID:16745-1667124000-1667124000@bouxwiller.eu
SUMMARY:Inauguration de l'orgue rénové de Niedersoultzbach
DESCRIPTION:Paroisse protestante de Bouxwiller-Niedersoultzbach \n  \nLa paroisse protestante invite à l’inauguration de l’orgue rénové de Niedersoultzbach le 30 octobre 2022 à 10h\, église protestante de Niedersoultzbach. \n  \nL’instrument a été installé dans l’église en 1895 par Adrian Spamann\, établi à Boulay (Moselle). Il reste très peu d’instruments conservés de ce facteur d’orgue en Alsace. L’installation du magnifique buffet en chêne a nécessité à l’époque\, une légère modification de la tribune. La console tournée vers la nef a été placée dans un positif postiche donnant ainsi à l’orgue un caractère monumental. Lors de la dernière restauration par Christian Guerrier en 1978\, la traction pneumatique avait été heureusement préservée. L’orgue comporte actuellement deux claviers (grand orgue et récit expressif de 6 jeux chacun) et une pédale (2 jeux) avec un système de sept combinaisons fixes. \nGrâce au nombreux donateurs\, la paroisse\, la fondation du Patrimoine et la commune de Niedersoultzbach\, les travaux de relevage par la Manufacture Blumenroeder ont rendu à l’instrument ses capacités étonnantes « d’orgue romantique de campagne » qui seront présentées au public par Francis Matter aux claviers. \n‍ \nParoisse de Bouxwiller \nNiedersoultzbach – Riedheim – Uttwiller \n1 rue du 22 Novembre \n67330 BOUXWILLER \n03 88 70 79 32 \nuepal.bouxwiller@orange.fr
URL:https://bouxwiller.eu/event/inauguration-de-lorgue-renove-de-niedersoultzbach/
ATTACH;FMTTYPE=image/jpeg:https://bouxwiller.eu/wp-content/uploads/2022/10/P1410937-scaled-e1666679955281.jpg
END:VEVENT
END:VCALENDAR