BEGIN:VCALENDAR
VERSION:2.0
PRODID:-//Mairie de Bouxwiller - ECPv6.15.18//NONSGML v1.0//EN
CALSCALE:GREGORIAN
METHOD:PUBLISH
X-WR-CALNAME:Mairie de Bouxwiller
X-ORIGINAL-URL:https://bouxwiller.eu
X-WR-CALDESC:Évènements pour Mairie de Bouxwiller
REFRESH-INTERVAL;VALUE=DURATION:PT1H
X-Robots-Tag:noindex
X-PUBLISHED-TTL:PT1H
BEGIN:VTIMEZONE
TZID:Europe/Paris
BEGIN:DAYLIGHT
TZOFFSETFROM:+0100
TZOFFSETTO:+0200
TZNAME:CEST
DTSTART:20210328T010000
END:DAYLIGHT
BEGIN:STANDARD
TZOFFSETFROM:+0200
TZOFFSETTO:+0100
TZNAME:CET
DTSTART:20211031T010000
END:STANDARD
BEGIN:DAYLIGHT
TZOFFSETFROM:+0100
TZOFFSETTO:+0200
TZNAME:CEST
DTSTART:20220327T010000
END:DAYLIGHT
BEGIN:STANDARD
TZOFFSETFROM:+0200
TZOFFSETTO:+0100
TZNAME:CET
DTSTART:20221030T010000
END:STANDARD
BEGIN:DAYLIGHT
TZOFFSETFROM:+0100
TZOFFSETTO:+0200
TZNAME:CEST
DTSTART:20230326T010000
END:DAYLIGHT
BEGIN:STANDARD
TZOFFSETFROM:+0200
TZOFFSETTO:+0100
TZNAME:CET
DTSTART:20231029T010000
END:STANDARD
END:VTIMEZONE
BEGIN:VEVENT
DTSTART;TZID=Europe/Paris:20221031T143000
DTEND;TZID=Europe/Paris:20221031T143000
DTSTAMP:20260421T074703
CREATED:20221013T114642Z
LAST-MODIFIED:20221013T114642Z
UID:16696-1667226600-1667226600@bouxwiller.eu
SUMMARY:Cinéma : COCO
DESCRIPTION:Lundi 31 octobre à 14h30 \nCinéma « Coco » \nDepuis déjà plusieurs générations\, la musique est bannie dans la famille de Miguel. Un vrai déchirement pour le jeune garçon dont le rêve ultime est de devenir un musicien aussi accompli que son idole\, Ernesto de la Cruz.\nBien décidé à prouver son talent\, Miguel\, par un étrange concours de circonstances\, se retrouve propulsé dans un endroit aussi étonnant que coloré : le Pays des Morts. Là\, il se lie d’amitié avec Hector\, un gentil garçon mais un peu filou sur les bords. Ensemble\, ils vont accomplir un voyage extraordinaire qui leur révèlera la véritable histoire qui se cache derrière celle de la famille de Miguel… \nAu centre culturel Marie Hart de Bouxwiller. \nTarif : 4€ pour un enfant\, 3€ par enfant à partir de 2 enfants.
URL:https://bouxwiller.eu/event/cinema-coco/
LOCATION:Centre culturel Marie Hart\, Bouxwiller
ATTACH;FMTTYPE=image/png:https://bouxwiller.eu/wp-content/uploads/2022/10/Centre-culturel-Marie-Hart-3-e1665665187655.png
END:VEVENT
END:VCALENDAR