BEGIN:VCALENDAR
VERSION:2.0
PRODID:-//Mairie de Bouxwiller - ECPv6.15.18//NONSGML v1.0//EN
CALSCALE:GREGORIAN
METHOD:PUBLISH
X-WR-CALNAME:Mairie de Bouxwiller
X-ORIGINAL-URL:https://bouxwiller.eu
X-WR-CALDESC:Évènements pour Mairie de Bouxwiller
REFRESH-INTERVAL;VALUE=DURATION:PT1H
X-Robots-Tag:noindex
X-PUBLISHED-TTL:PT1H
BEGIN:VTIMEZONE
TZID:Europe/Paris
BEGIN:DAYLIGHT
TZOFFSETFROM:+0100
TZOFFSETTO:+0200
TZNAME:CEST
DTSTART:20210328T010000
END:DAYLIGHT
BEGIN:STANDARD
TZOFFSETFROM:+0200
TZOFFSETTO:+0100
TZNAME:CET
DTSTART:20211031T010000
END:STANDARD
BEGIN:DAYLIGHT
TZOFFSETFROM:+0100
TZOFFSETTO:+0200
TZNAME:CEST
DTSTART:20220327T010000
END:DAYLIGHT
BEGIN:STANDARD
TZOFFSETFROM:+0200
TZOFFSETTO:+0100
TZNAME:CET
DTSTART:20221030T010000
END:STANDARD
BEGIN:DAYLIGHT
TZOFFSETFROM:+0100
TZOFFSETTO:+0200
TZNAME:CEST
DTSTART:20230326T010000
END:DAYLIGHT
BEGIN:STANDARD
TZOFFSETFROM:+0200
TZOFFSETTO:+0100
TZNAME:CET
DTSTART:20231029T010000
END:STANDARD
END:VTIMEZONE
BEGIN:VEVENT
DTSTART;VALUE=DATE:20221102
DTEND;VALUE=DATE:20221106
DTSTAMP:20260421T080441
CREATED:20221012T083838Z
LAST-MODIFIED:20221012T083838Z
UID:16693-1667347200-1667692799@bouxwiller.eu
SUMMARY:Théâtre du Marché aux grains - Stage de la Toussaint
DESCRIPTION:Stage de la Toussaint\nde 11 à 17 ans\, gratuit\ndu 2 au 5 novembre 2022\nThéâtre de 10h à 12h30 / Chant de 14h à 16h\nInitiation aux Danses urbaines de 17h à 19h \nGRATUIT ET OUVERT À TOUS\nPOUR LES JEUNES DE 11 À 17 ANS\nTHÉÂTRE\, CHANT ET DANSE URBAINE\nDU 2 AU 5 NOVEMBRE 2022\nAU THÉÂTRE CHRISTIANE STROË\,\n5 PLACE DU CHÂTEAU\, 67330 BOUXWILLER \nEn partenariat avec le service d’animation jeunesse de la Communauté de Communes Hanau – La Petite Pierre\, le Théâtre du Marché aux Grains propose deux stages de découverte et de pratique du théâtre\, du chant et des danses urbaines.\nDestinés à proposer un temps de découverte du théâtre\, du chant et des danses urbaines\, les stages sont ouverts à toutes et tous sans prérequis de pratique.\nEn plus d’une initiation artistique\, ils permettent un temps de vie en groupe pendant les vacances scolaires\, entre amis et en faisant de nouvelles rencontres.\nPour l’atelier théâtre et chant\, les repas de midi sont pris sur place et des animateurs du Service Animation Jeunesse seront présents durant ces temps de pauses.\nThéâtre de 10h à 12h30\, avec Aude KOEGLER\, comédienne et metteur en scène \n  \nThéâtre de 10h à 12h30\, avec Aude KOEGLER\, comédienne et metteur en scène\nChant de 14h à 16h\, avec Diane BUCCIALI\, chanteuse\nDanse urbaine 17h à 19h\, avec Sébastien «Lokos» LOPEZ\, de la compagnie MIRA\nPossibilité de s’inscrire pour la journée complète ou uniquement au théâtre et au chant ou uniquement à la danse.\nRestitution publique le samedi 5 novembre 2022 à 19h au théâtre Christiane Stroë \nPour plus d’informations :\nThéâtre du Marché aux Grains\n1 rue de l’Église\, 67330 Bouxwiller\ncontact@theaboux.eu / 03 88 70 94 08\nwww.theaboux.eu
URL:https://bouxwiller.eu/event/theatre-du-marche-aux-grains-stage-de-la-toussaint/
LOCATION:Théâtre Christiane Stroë\, 5 place du Château\, BOUXWILLER\, 67330\, France
ATTACH;FMTTYPE=image/jpeg:https://bouxwiller.eu/wp-content/uploads/2022/10/Capture-decran-2022-10-12-113731.jpg
END:VEVENT
END:VCALENDAR