BEGIN:VCALENDAR
VERSION:2.0
PRODID:-//Mairie de Bouxwiller - ECPv6.15.18//NONSGML v1.0//EN
CALSCALE:GREGORIAN
METHOD:PUBLISH
X-ORIGINAL-URL:https://bouxwiller.eu
X-WR-CALDESC:Évènements pour Mairie de Bouxwiller
REFRESH-INTERVAL;VALUE=DURATION:PT1H
X-Robots-Tag:noindex
X-PUBLISHED-TTL:PT1H
BEGIN:VTIMEZONE
TZID:Europe/Paris
BEGIN:DAYLIGHT
TZOFFSETFROM:+0100
TZOFFSETTO:+0200
TZNAME:CEST
DTSTART:20210328T010000
END:DAYLIGHT
BEGIN:STANDARD
TZOFFSETFROM:+0200
TZOFFSETTO:+0100
TZNAME:CET
DTSTART:20211031T010000
END:STANDARD
BEGIN:DAYLIGHT
TZOFFSETFROM:+0100
TZOFFSETTO:+0200
TZNAME:CEST
DTSTART:20220327T010000
END:DAYLIGHT
BEGIN:STANDARD
TZOFFSETFROM:+0200
TZOFFSETTO:+0100
TZNAME:CET
DTSTART:20221030T010000
END:STANDARD
BEGIN:DAYLIGHT
TZOFFSETFROM:+0100
TZOFFSETTO:+0200
TZNAME:CEST
DTSTART:20230326T010000
END:DAYLIGHT
BEGIN:STANDARD
TZOFFSETFROM:+0200
TZOFFSETTO:+0100
TZNAME:CET
DTSTART:20231029T010000
END:STANDARD
END:VTIMEZONE
BEGIN:VEVENT
DTSTART;TZID=Europe/Paris:20221106T150000
DTEND;TZID=Europe/Paris:20221106T150000
DTSTAMP:20260421T074934
CREATED:20220927T084137Z
LAST-MODIFIED:20220927T084137Z
UID:16527-1667746800-1667746800@bouxwiller.eu
SUMMARY:Conférence « Hans Baldung Grien : les sorcières\, une histoire d’images »
DESCRIPTION:Conférence « Hans Baldung Grien : les sorcières\, une histoire d’images »\nPar Mina Mond\, artiste \nHans Baldung Grien\, artiste multiple du 16ème siècle\, basé à Strasbourg\, a laissé un corpus important d’œuvres. Parmi elles\, on peut remarquer la récurrence d’un archétype\, celle de la femme sorcière. \nÀ travers ses œuvres\, l’artiste Mina Mond\, vous propose de revisiter les obsessions d’une époque où le rapport au féminin était complexe et ambigu. \nElle s’attachera plus particulièrement aux territoires germaniques comme l’Alsace\, là où la chasse aux sorcières a été une des plus meurtrières. \n  \nTarif : Entrée du Musée \nDurée : 1h \nPlaces limitées. Réservation obligatoire au 03 88 00 38 39 ou contact@museedupaysdehanau.eu \nSite internet : www.museedupaysdehanau.eu \nLieu : Musée du Pays de Hanau – 3 place du Château 67330 Bouxwiller
URL:https://bouxwiller.eu/event/conference-hans-baldung-grien-les-sorcieres-une-histoire-dimages/
LOCATION:Musée du Pays de Hanau\, 3 place du Château\, BOUXWILLER\, 67330\, France
ATTACH;FMTTYPE=image/jpeg:https://bouxwiller.eu/wp-content/uploads/2022/09/Baldung-Grien.jpg
END:VEVENT
END:VCALENDAR