BEGIN:VCALENDAR
VERSION:2.0
PRODID:-//Mairie de Bouxwiller - ECPv6.15.18//NONSGML v1.0//EN
CALSCALE:GREGORIAN
METHOD:PUBLISH
X-WR-CALNAME:Mairie de Bouxwiller
X-ORIGINAL-URL:https://bouxwiller.eu
X-WR-CALDESC:Évènements pour Mairie de Bouxwiller
REFRESH-INTERVAL;VALUE=DURATION:PT1H
X-Robots-Tag:noindex
X-PUBLISHED-TTL:PT1H
BEGIN:VTIMEZONE
TZID:Europe/Paris
BEGIN:DAYLIGHT
TZOFFSETFROM:+0100
TZOFFSETTO:+0200
TZNAME:CEST
DTSTART:20220327T010000
END:DAYLIGHT
BEGIN:STANDARD
TZOFFSETFROM:+0200
TZOFFSETTO:+0100
TZNAME:CET
DTSTART:20221030T010000
END:STANDARD
BEGIN:DAYLIGHT
TZOFFSETFROM:+0100
TZOFFSETTO:+0200
TZNAME:CEST
DTSTART:20230326T010000
END:DAYLIGHT
BEGIN:STANDARD
TZOFFSETFROM:+0200
TZOFFSETTO:+0100
TZNAME:CET
DTSTART:20231029T010000
END:STANDARD
BEGIN:DAYLIGHT
TZOFFSETFROM:+0100
TZOFFSETTO:+0200
TZNAME:CEST
DTSTART:20240331T010000
END:DAYLIGHT
BEGIN:STANDARD
TZOFFSETFROM:+0200
TZOFFSETTO:+0100
TZNAME:CET
DTSTART:20241027T010000
END:STANDARD
END:VTIMEZONE
BEGIN:VEVENT
DTSTART;TZID=Europe/Paris:20231117T193000
DTEND;TZID=Europe/Paris:20231117T193000
DTSTAMP:20260422T015113
CREATED:20230926T142742Z
LAST-MODIFIED:20230926T142753Z
UID:18880-1700249400-1700249400@bouxwiller.eu
SUMMARY:Stammtisch #1 : Andriana [Ɂn.’dƷj.nɁ]
DESCRIPTION:vendredi 17 novembre 2023 à 19h30 au théâtre Christiane Stroë \nCompagnie Et roturière par surcroît / Paul ANDRIAMANANA RASOAMIARAMANANA \ndanse / sortie de résidence et repas \nPrésentation : entrée libre. Repas et une boisson (pour ceux qui le souhaitent) : 8€. \nRésidence du 13 au 17 novembre 2023 et du 3 au 7 juin 2024 \n«Un homme adulte\, de 33 ans\, métis franco-malgache\, joue avec les représentations que son nom de famille a générées chez lui depuis l’âge de sept ans. Son nom devient un palais\, ou un jardin dans lequel passent les protagonistes d’une histoire jamais articulée. Une galerie de manifestations. »\nPaul ANDRIAMANANA RASOAMIARAMANANA \nPour le premier Stammtisch de la saison\, le Théâtre du Marché aux Grains accueille Paul ANDRIAMANANA RASOAMIARAMANANA en résidence de création d’une semaine pour son prochain spectacle chorégraphique Andriana [Ɂn.’dƷj.nɁ]. Durant cette soirée\, l’artiste présentera son travail sur scène\, avant d’échanger avec le public\, autour d’un repas\, sur sa démarche artistique. \nChorégraphe\, interprète et costumier : Paul ANDRIAMANANA RASOAMIARAMANANA\nDramaturge : Lucie MOLLIER \nAccueil à Bouxwiller en partenariat avec le Laboratoire Chorégraphique – Reims.\nAccueils en résidence : Performing Art Forum\, Saint-Erme-Outre-et-Ramecour\, La Corvette\, Hameau d’Evelle\, Baubigny\, Université de Strasbourg\, Laboratoire Chorégraphique – Reims. \nStammtisch :\nÀ l’issue d’une résidence\, l’équipe artistique accueillie par le Théâtre du Marché aux Grains présente au public son travail\, ses expérimentations et ses recherches. S’en suit le partage d’un repas durant lequel spectateurs et artistes peuvent échanger ensemble.\nLes soirées Stammtisch sont pensées pour favoriser des temps de rencontre entre les artistes et les publics. \nCrédit photographique : Paul ANDRIAMANANA RASOAMIARAMANANA
URL:https://bouxwiller.eu/event/stammtisch-1-andriana-%c9%82n-d%ca%92j-n%c9%82/
LOCATION:Théâtre Christiane Stroë\, 5 place du Château\, BOUXWILLER\, 67330\, France
ATTACH;FMTTYPE=image/png:https://bouxwiller.eu/wp-content/uploads/2023/09/Sans-titre-833x540-1.png
END:VEVENT
END:VCALENDAR