BEGIN:VCALENDAR
VERSION:2.0
PRODID:-//Mairie de Bouxwiller - ECPv6.15.18//NONSGML v1.0//EN
CALSCALE:GREGORIAN
METHOD:PUBLISH
X-ORIGINAL-URL:https://bouxwiller.eu
X-WR-CALDESC:Évènements pour Mairie de Bouxwiller
REFRESH-INTERVAL;VALUE=DURATION:PT1H
X-Robots-Tag:noindex
X-PUBLISHED-TTL:PT1H
BEGIN:VTIMEZONE
TZID:Europe/Paris
BEGIN:DAYLIGHT
TZOFFSETFROM:+0100
TZOFFSETTO:+0200
TZNAME:CEST
DTSTART:20230326T010000
END:DAYLIGHT
BEGIN:STANDARD
TZOFFSETFROM:+0200
TZOFFSETTO:+0100
TZNAME:CET
DTSTART:20231029T010000
END:STANDARD
BEGIN:DAYLIGHT
TZOFFSETFROM:+0100
TZOFFSETTO:+0200
TZNAME:CEST
DTSTART:20240331T010000
END:DAYLIGHT
BEGIN:STANDARD
TZOFFSETFROM:+0200
TZOFFSETTO:+0100
TZNAME:CET
DTSTART:20241027T010000
END:STANDARD
BEGIN:DAYLIGHT
TZOFFSETFROM:+0100
TZOFFSETTO:+0200
TZNAME:CEST
DTSTART:20250330T010000
END:DAYLIGHT
BEGIN:STANDARD
TZOFFSETFROM:+0200
TZOFFSETTO:+0100
TZNAME:CET
DTSTART:20251026T010000
END:STANDARD
END:VTIMEZONE
BEGIN:VEVENT
DTSTART;TZID=Europe/Paris:20240106T200000
DTEND;TZID=Europe/Paris:20240106T220000
DTSTAMP:20260422T100607
CREATED:20231109T095905Z
LAST-MODIFIED:20231109T095905Z
UID:19235-1704571200-1704578400@bouxwiller.eu
SUMMARY:Concert de Jazz Band
DESCRIPTION:Partagez un moment festif en écoutant un concert du Jazz Band de Haguenau ! \nAnimation proposée dans le cadre des festivités de Noël au Pays de Hanau. \nEntrée libre\, plateau \nLieu : Centre Culturel\, 5 place du Château\, 67330 Bouxwiller \nRenseignements : 07 69 21 66 21 / centre.culturel@bouxwiller.eu
URL:https://bouxwiller.eu/event/concert-de-jazz-band/
ATTACH;FMTTYPE=image/png:https://bouxwiller.eu/wp-content/uploads/2023/11/24-01-06-Concert-jazz-band-Hageunau-@Jazz-band-Hageunau.png
END:VEVENT
BEGIN:VEVENT
DTSTART;TZID=Europe/Paris:20240106T200000
DTEND;TZID=Europe/Paris:20240106T220000
DTSTAMP:20260422T100607
CREATED:20240103T083243Z
LAST-MODIFIED:20240103T083243Z
UID:19371-1704571200-1704578400@bouxwiller.eu
SUMMARY:Concert de l'Épiphanie 🎼
DESCRIPTION:La paroisse protestante Imbsheim-Hattmatt vous présentera son concert libre d’entrée le 6 janvier 2024 à 20h00.
URL:https://bouxwiller.eu/event/concert-de-lepiphanie-%f0%9f%8e%bc/
LOCATION:Imbsheim
ATTACH;FMTTYPE=image/jpeg:https://bouxwiller.eu/wp-content/uploads/2024/01/facebook_1703763612559_7146102535211336384.jpg
END:VEVENT
END:VCALENDAR