BEGIN:VCALENDAR
VERSION:2.0
PRODID:-//Mairie de Bouxwiller - ECPv6.15.18//NONSGML v1.0//EN
CALSCALE:GREGORIAN
METHOD:PUBLISH
X-ORIGINAL-URL:https://bouxwiller.eu
X-WR-CALDESC:Évènements pour Mairie de Bouxwiller
REFRESH-INTERVAL;VALUE=DURATION:PT1H
X-Robots-Tag:noindex
X-PUBLISHED-TTL:PT1H
BEGIN:VTIMEZONE
TZID:Europe/Paris
BEGIN:DAYLIGHT
TZOFFSETFROM:+0100
TZOFFSETTO:+0200
TZNAME:CEST
DTSTART:20230326T010000
END:DAYLIGHT
BEGIN:STANDARD
TZOFFSETFROM:+0200
TZOFFSETTO:+0100
TZNAME:CET
DTSTART:20231029T010000
END:STANDARD
BEGIN:DAYLIGHT
TZOFFSETFROM:+0100
TZOFFSETTO:+0200
TZNAME:CEST
DTSTART:20240331T010000
END:DAYLIGHT
BEGIN:STANDARD
TZOFFSETFROM:+0200
TZOFFSETTO:+0100
TZNAME:CET
DTSTART:20241027T010000
END:STANDARD
BEGIN:DAYLIGHT
TZOFFSETFROM:+0100
TZOFFSETTO:+0200
TZNAME:CEST
DTSTART:20250330T010000
END:DAYLIGHT
BEGIN:STANDARD
TZOFFSETFROM:+0200
TZOFFSETTO:+0100
TZNAME:CET
DTSTART:20251026T010000
END:STANDARD
END:VTIMEZONE
BEGIN:VEVENT
DTSTART;TZID=Europe/Paris:20240127T133000
DTEND;TZID=Europe/Paris:20240127T180000
DTSTAMP:20260422T094800
CREATED:20240116T142621Z
LAST-MODIFIED:20240116T142737Z
UID:19416-1706362200-1706378400@bouxwiller.eu
SUMMARY:Marche du bien-être | Nature\, sauna et hammam !
DESCRIPTION:Profitez d’une marche du bien-être le samedi 27 janvier passant par les sentiers du Bastberg\, du Galgenberg et finissant par une animation sauna et hammam au centre aquatique ! \nTop départ : 13h30 devant l’entrée de la piscine pour le départ de la randonnée\nArrivée : 18h00 \nSur inscription\, attention\, les places sont limitées ! \nPour plus d’information : https://www.visit.alsace/217007632-marche-du-bien-etre/
URL:https://bouxwiller.eu/event/marche-du-bien-etre-nature-sauna-et-hammam/
ATTACH;FMTTYPE=image/jpeg:https://bouxwiller.eu/wp-content/uploads/2024/01/417871613_893069432822703_1832194228012648941_n.jpg
END:VEVENT
END:VCALENDAR