BEGIN:VCALENDAR
VERSION:2.0
PRODID:-//Mairie de Bouxwiller - ECPv6.15.18//NONSGML v1.0//EN
CALSCALE:GREGORIAN
METHOD:PUBLISH
X-WR-CALNAME:Mairie de Bouxwiller
X-ORIGINAL-URL:https://bouxwiller.eu
X-WR-CALDESC:Évènements pour Mairie de Bouxwiller
REFRESH-INTERVAL;VALUE=DURATION:PT1H
X-Robots-Tag:noindex
X-PUBLISHED-TTL:PT1H
BEGIN:VTIMEZONE
TZID:Europe/Paris
BEGIN:DAYLIGHT
TZOFFSETFROM:+0100
TZOFFSETTO:+0200
TZNAME:CEST
DTSTART:20230326T010000
END:DAYLIGHT
BEGIN:STANDARD
TZOFFSETFROM:+0200
TZOFFSETTO:+0100
TZNAME:CET
DTSTART:20231029T010000
END:STANDARD
BEGIN:DAYLIGHT
TZOFFSETFROM:+0100
TZOFFSETTO:+0200
TZNAME:CEST
DTSTART:20240331T010000
END:DAYLIGHT
BEGIN:STANDARD
TZOFFSETFROM:+0200
TZOFFSETTO:+0100
TZNAME:CET
DTSTART:20241027T010000
END:STANDARD
BEGIN:DAYLIGHT
TZOFFSETFROM:+0100
TZOFFSETTO:+0200
TZNAME:CEST
DTSTART:20250330T010000
END:DAYLIGHT
BEGIN:STANDARD
TZOFFSETFROM:+0200
TZOFFSETTO:+0100
TZNAME:CET
DTSTART:20251026T010000
END:STANDARD
END:VTIMEZONE
BEGIN:VEVENT
DTSTART;TZID=Europe/Paris:20240128T160000
DTEND;TZID=Europe/Paris:20240128T180000
DTSTAMP:20260422T100510
CREATED:20240104T083600Z
LAST-MODIFIED:20240104T083600Z
UID:19377-1706457600-1706464800@bouxwiller.eu
SUMMARY:Récital d'Orgue à l’Église Protestante de Bouxwiller
DESCRIPTION:À l’orgue\, Nicolas Kilhoffer\, qui a débuté son apprentissage de l’orgue en autodidacte et ayant par la suite intégré en 2017 la classe d’orgue de Daniel Maurer au Conservatoire à Rayonnement Régional de Strasbourg. \nIl se produit régulièrement en France lors de récitals au cours desquels l’improvisation tient une grande place\, dans des villes telles que Castelnaudary\, Granville\, Strasbourg\, Nancy\, Thionville… et a eu l’opportunité de jouer de nombreux instruments lors de stages récents aux États-Unis\, en Australie et en Nouvelle-Calédonie. Il s’est récemment produit à New York\, ainsi qu’à Nairobi (Kenya) où il a enseigné l’improvisation lors d’une master class suivie par de nombreux organistes venus d’Afrique de l’Est. \nLe récital libre d’entrée se déroulera le 28 janvier 2024 à 16 heures à l’église protestante de Bouxwiller. \nDécouvrez sa biographie et son univers ci-joint : https://nicolaskilhoffer.com/
URL:https://bouxwiller.eu/event/recital-dorgue-a-leglise-protestante-de-bouxwiller/
LOCATION:Eglise Protestante\, rue de l'Eglise\, BOUXWILLER\, 67330\, France
ATTACH;FMTTYPE=image/jpeg:https://bouxwiller.eu/wp-content/uploads/2024/01/Re-cital-Bouxwiller-KILHOFFER-Nicolas-28-janvier-2024-scaled.jpg
END:VEVENT
END:VCALENDAR