BEGIN:VCALENDAR
VERSION:2.0
PRODID:-//Mairie de Bouxwiller - ECPv6.15.20//NONSGML v1.0//EN
CALSCALE:GREGORIAN
METHOD:PUBLISH
X-WR-CALNAME:Mairie de Bouxwiller
X-ORIGINAL-URL:https://bouxwiller.eu
X-WR-CALDESC:Évènements pour Mairie de Bouxwiller
REFRESH-INTERVAL;VALUE=DURATION:PT1H
X-Robots-Tag:noindex
X-PUBLISHED-TTL:PT1H
BEGIN:VTIMEZONE
TZID:Europe/Paris
BEGIN:DAYLIGHT
TZOFFSETFROM:+0100
TZOFFSETTO:+0200
TZNAME:CEST
DTSTART:20230326T010000
END:DAYLIGHT
BEGIN:STANDARD
TZOFFSETFROM:+0200
TZOFFSETTO:+0100
TZNAME:CET
DTSTART:20231029T010000
END:STANDARD
BEGIN:DAYLIGHT
TZOFFSETFROM:+0100
TZOFFSETTO:+0200
TZNAME:CEST
DTSTART:20240331T010000
END:DAYLIGHT
BEGIN:STANDARD
TZOFFSETFROM:+0200
TZOFFSETTO:+0100
TZNAME:CET
DTSTART:20241027T010000
END:STANDARD
BEGIN:DAYLIGHT
TZOFFSETFROM:+0100
TZOFFSETTO:+0200
TZNAME:CEST
DTSTART:20250330T010000
END:DAYLIGHT
BEGIN:STANDARD
TZOFFSETFROM:+0200
TZOFFSETTO:+0100
TZNAME:CET
DTSTART:20251026T010000
END:STANDARD
END:VTIMEZONE
BEGIN:VEVENT
DTSTART;TZID=Europe/Paris:20240518T190000
DTEND;TZID=Europe/Paris:20240518T230000
DTSTAMP:20260424T080834
CREATED:20240428T154133Z
LAST-MODIFIED:20240428T154133Z
UID:20138-1716058800-1716073200@bouxwiller.eu
SUMMARY:Nuit européenne des Musées
DESCRIPTION:Nuit européenne des Musées \nSamedi 18 mai 2023 de 19h à 23h\, le Musée du Pays de Hanau de Bouxwiller vous invite à sa Nuit européenne des musées.\nEntrée gratuite pour tous \nDe 19h à 21h : Projet La classe\, l’œuvre ! « En voyage ! » \nDécouvrez les œuvres des élèves réalisées sur la thématique du traîneau exposé au Musée. Ils vous dévoileront tous les secrets de cette pièce phare des collections du musée.\nAprès avoir découvert les collections du Musée du Pays de Hanau et observé le traîneau grâce auquel on imagine la Grande landgravine circuler dans le Pays de Hanau\, les élèves de la classe de troisième du lycée Schattenmann se sont questionnés sur la notion de circulation\, de véhicule et de voyage.\nIls se sont projetés dans leurs imaginaires et ont réalisé des moyens de locomotion singuliers.\nChacun a défini un univers à explorer et des formes de traîneaux pour y accéder et s’y promener.\nLe modelage en argile laissant aisément le champ libre à l’exploration plastique\, tous ont raconté des histoires ubuesques ou réalistes en se référant à leurs centres d’intérêts. \n  \nPhoto : Karine Faby
URL:https://bouxwiller.eu/event/nuit-europeenne-des-musees/
LOCATION:Musée du Pays de Hanau\, 3 place du Château\, BOUXWILLER\, 67330\, France
ATTACH;FMTTYPE=image/jpeg:https://bouxwiller.eu/wp-content/uploads/2024/04/18-maiNuit-des-musees-photo-Karine-Faby-e1714318880191.jpg
END:VEVENT
END:VCALENDAR