BEGIN:VCALENDAR
VERSION:2.0
PRODID:-//Mairie de Bouxwiller - ECPv6.15.18//NONSGML v1.0//EN
CALSCALE:GREGORIAN
METHOD:PUBLISH
X-WR-CALNAME:Mairie de Bouxwiller
X-ORIGINAL-URL:https://bouxwiller.eu
X-WR-CALDESC:Évènements pour Mairie de Bouxwiller
REFRESH-INTERVAL;VALUE=DURATION:PT1H
X-Robots-Tag:noindex
X-PUBLISHED-TTL:PT1H
BEGIN:VTIMEZONE
TZID:Europe/Paris
BEGIN:DAYLIGHT
TZOFFSETFROM:+0100
TZOFFSETTO:+0200
TZNAME:CEST
DTSTART:20250330T010000
END:DAYLIGHT
BEGIN:STANDARD
TZOFFSETFROM:+0200
TZOFFSETTO:+0100
TZNAME:CET
DTSTART:20251026T010000
END:STANDARD
BEGIN:DAYLIGHT
TZOFFSETFROM:+0100
TZOFFSETTO:+0200
TZNAME:CEST
DTSTART:20260329T010000
END:DAYLIGHT
BEGIN:STANDARD
TZOFFSETFROM:+0200
TZOFFSETTO:+0100
TZNAME:CET
DTSTART:20261025T010000
END:STANDARD
BEGIN:DAYLIGHT
TZOFFSETFROM:+0100
TZOFFSETTO:+0200
TZNAME:CEST
DTSTART:20270328T010000
END:DAYLIGHT
BEGIN:STANDARD
TZOFFSETFROM:+0200
TZOFFSETTO:+0100
TZNAME:CET
DTSTART:20271031T010000
END:STANDARD
END:VTIMEZONE
BEGIN:VEVENT
DTSTART;TZID=Europe/Paris:20260510T100000
DTEND;TZID=Europe/Paris:20260510T100000
DTSTAMP:20260423T062634
CREATED:20260302T123945Z
LAST-MODIFIED:20260302T124909Z
UID:24846-1778407200-1778407200@bouxwiller.eu
SUMMARY:Atelier participatif de créations de mandalas éphémères
DESCRIPTION:Participez avec le Groupe Folklorique du Pays de Hanau de Bouxwiller à un atelier participatif de créations de mandalas éphémères avec ce que la nature nous offre – atelier ouvert à tous\, petits et grands – chacun peut ramener\, fleurs\, tonte de gazon\, feuillages… \n📍Rendez-vous dès 10h devant la mairie de Bouxwiller
URL:https://bouxwiller.eu/event/atelier-participatif-de-creations-de-mandalas-ephemeres/
LOCATION:Mairie de Bouxwiller\, 1 place du Château\, Bouxwiller\, 67330\, France
ATTACH;FMTTYPE=image/png:https://bouxwiller.eu/wp-content/uploads/2026/03/FacebookInstagram-publication-1080-x-1350-px-94.png
END:VEVENT
BEGIN:VEVENT
DTSTART;TZID=Europe/Paris:20260510T110000
DTEND;TZID=Europe/Paris:20260510T190000
DTSTAMP:20260423T062634
CREATED:20260119T110718Z
LAST-MODIFIED:20260422T084745Z
UID:24455-1778410800-1778439600@bouxwiller.eu
SUMMARY:Marché de printemps
DESCRIPTION:
URL:https://bouxwiller.eu/event/marche-de-printemps-10/
LOCATION:Centre culturel Marie Hart\, Bouxwiller
ATTACH;FMTTYPE=image/png:https://bouxwiller.eu/wp-content/uploads/2026/04/Marche-de-printemps_Affiche-2026-scaled.png
END:VEVENT
BEGIN:VEVENT
DTSTART;TZID=Europe/Paris:20260510T110000
DTEND;TZID=Europe/Paris:20260510T190000
DTSTAMP:20260423T062634
CREATED:20260217T101722Z
LAST-MODIFIED:20260217T101722Z
UID:24822-1778410800-1778439600@bouxwiller.eu
SUMMARY:Entrée du Musée du Pays de Hanau à tarif réduit
DESCRIPTION:Exceptionnellement durant le Marché de Printemps\, le Musée sera ouvert aux mêmes horaires\, de 11h à 19h\, et proposera l’entrée à tarif réduit pour tous.
URL:https://bouxwiller.eu/event/entree-du-musee-du-pays-de-hanau-a-tarif-reduit/
LOCATION:Musée du Pays de Hanau\, 3 place du Château\, BOUXWILLER\, 67330\, France
ATTACH;FMTTYPE=image/png:https://bouxwiller.eu/wp-content/uploads/2026/02/Musee-interieur.png
END:VEVENT
BEGIN:VEVENT
DTSTART;TZID=Europe/Paris:20260510T170000
DTEND;TZID=Europe/Paris:20260510T170000
DTSTAMP:20260423T062634
CREATED:20260407T121416Z
LAST-MODIFIED:20260410T100649Z
UID:25125-1778432400-1778432400@bouxwiller.eu
SUMMARY:Concert du Chœur d’Hommes d’Alsace Bossue
DESCRIPTION:
URL:https://bouxwiller.eu/event/concert-du-choeur-dhommes-dalsace-bossue/
LOCATION:Eglise protestante de Bouxwiller
ATTACH;FMTTYPE=image/jpeg:https://bouxwiller.eu/wp-content/uploads/2026/04/516c11c8-6790-42c1-8c3d-347c6eb6c5df.jpg
END:VEVENT
BEGIN:VEVENT
DTSTART;TZID=Europe/Paris:20260517T140000
DTEND;TZID=Europe/Paris:20260517T140000
DTSTAMP:20260423T062634
CREATED:20251230T093825Z
LAST-MODIFIED:20251230T093825Z
UID:24214-1779026400-1779026400@bouxwiller.eu
SUMMARY:Concours de pêche à la truite
DESCRIPTION:
URL:https://bouxwiller.eu/event/concours-de-peche-a-la-truite-4/
LOCATION:Etang de Schneiderlin
END:VEVENT
BEGIN:VEVENT
DTSTART;TZID=Europe/Paris:20260517T150000
DTEND;TZID=Europe/Paris:20260517T150000
DTSTAMP:20260423T062634
CREATED:20260202T123829Z
LAST-MODIFIED:20260202T123829Z
UID:24622-1779030000-1779030000@bouxwiller.eu
SUMMARY:Visite guidée en alsacien de l’exposition "Costumes et Images d'Alsace\, se vêtir en Pays de Hanau"
DESCRIPTION:Accompagnés de Laure Lickel\, guide dialectophone\, parcourez l’exposition temporaire consacrée au costume régional du Pays de Hanau. Suite à un grand chantier des collections\, le musée vous propose d’explorer les multiples facettes du costume\, de découvrir les pièces qui le composent\, son évolution ou encore ses différentes représentations. \nPlaces limitées. Réservation obligatoire au 03 88 00 38 39 ou contact@museedupaysdehanau.eu\nTarif : prix de l’entrée du musée\nDurée : 1h
URL:https://bouxwiller.eu/event/visite-guidee-en-alsacien-de-lexposition-costumes-et-images-dalsace-se-vetir-en-pays-de-hanau/
LOCATION:Musée du Pays de Hanau\, 3 place du Château\, BOUXWILLER\, 67330\, France
ATTACH;FMTTYPE=image/jpeg:https://bouxwiller.eu/wp-content/uploads/2026/02/17-05-26-VG-expo-en-alsacien-photo-Musee-du-Pays-de-Hanau--scaled.jpg
END:VEVENT
BEGIN:VEVENT
DTSTART;TZID=Europe/Paris:20260522T203000
DTEND;TZID=Europe/Paris:20260522T203000
DTSTAMP:20260423T062634
CREATED:20251027T160203Z
LAST-MODIFIED:20251027T160203Z
UID:23797-1779481800-1779481800@bouxwiller.eu
SUMMARY:Rencontre avec Vincent AROT - Théâtre
DESCRIPTION:Vincent AROT\, comédien\, dramaturge et auteur est un des artistes compagnons du Théâtre du Marché aux Grains pendant deux années. Entre les temps de résidences\, seul ou accompagné\, et l’atelier d’écriture\, il a l’occasion de développer sa prochaine pièce\, SONG\, mais aussi d’imaginer ce qui viendra ensuite\, d’identifier les outils qui lui sont utiles dans son parcours d’auteur et de mener les recherches nécessaires à l’avancée de sa démarche littéraire. \nCette soirée de rencontre avec lui et peut- être d’autres\, dont le format reste encore ouvert\, est l’occasion de faire connaissance\, d’écouter et aussi\, si l’envie est là\, de poser des questions : interroger un auteur sur ce qui le touche\, ce qui le pousse à écrire et plus particulièrement à écrire pour le théâtre. \nRésidence d’écriture : \n\ndu 10 au 14 novembre 2025\ndu 22 au 28 mai 2026\ndu 15 au 27 juin 2026\n\nℹ️ information et réservation : http://theaboux.eu/rencontre_arot/
URL:https://bouxwiller.eu/event/rencontre-avec-vincent-arot-theatre/
LOCATION:Théâtre Christiane Stroë\, 5 place du Château\, BOUXWILLER\, 67330\, France
END:VEVENT
BEGIN:VEVENT
DTSTART;TZID=Europe/Paris:20260523T190000
DTEND;TZID=Europe/Paris:20260523T230000
DTSTAMP:20260423T062634
CREATED:20260202T124815Z
LAST-MODIFIED:20260202T124815Z
UID:24625-1779562800-1779577200@bouxwiller.eu
SUMMARY:Nuit européenne des Musées
DESCRIPTION:Le Musée du Pays de Hanau vous propose\, à l’occasion de la Nuit Européenne des Musée : \nDe 19h à 23h – Visite libre\, entrée gratuite pour tous\nDécouvrez ou redécouvrez ce beau Musée installé dans un ensemble architectural inscrit aux Monuments historiques. \nDe 20h30 à 21h30 – Démonstration de nouage de coiffe – Gratuit\nLe Groupe Folklorique du Pays de Hanau de Bouxwiller vous révèlera les secrets de la célèbre coiffe noire à grand nœud. Les bénévoles vous montreront comment nouer le ruban sur le bonnet pour obtenir cette coiffe devenue symbole de l’Alsace. N’hésitez pas à apporter vos bonnets et rubans de famille pour nouer votre coiffe avec l’aide des bénévoles.
URL:https://bouxwiller.eu/event/nuit-europeenne-des-musees-3/
LOCATION:Musée du Pays de Hanau\, 3 place du Château\, BOUXWILLER\, 67330\, France
ATTACH;FMTTYPE=image/jpeg:https://bouxwiller.eu/wp-content/uploads/2026/02/23-05-26-nouage-coiffe-photo-Groupe-Folklorique-du-Pays-de-Hanau-de-Bouxwiller-scaled.jpg
END:VEVENT
BEGIN:VEVENT
DTSTART;TZID=Europe/Paris:20260524T080000
DTEND;TZID=Europe/Paris:20260524T080000
DTSTAMP:20260423T062634
CREATED:20251230T093919Z
LAST-MODIFIED:20251231T092231Z
UID:24216-1779609600-1779609600@bouxwiller.eu
SUMMARY:Après concours de la pêche à la truite
DESCRIPTION:
URL:https://bouxwiller.eu/event/apres-concours-de-la-peche-a-la-truite/
LOCATION:Etang de Schneiderlin
END:VEVENT
BEGIN:VEVENT
DTSTART;TZID=Europe/Paris:20260524T080000
DTEND;TZID=Europe/Paris:20260524T180000
DTSTAMP:20260423T062634
CREATED:20260413T114843Z
LAST-MODIFIED:20260413T114843Z
UID:25196-1779609600-1779645600@bouxwiller.eu
SUMMARY:Grande brocante
DESCRIPTION:Retrouvez la Grande Brocante le dimanche 24 mai en entrée libre de 8h à 18h place du Château à Bouxwiller ! \nVous souhaitez exposer ? Informations au 07 68 99 48 50 ou à 5667097@ffhandball.net \n\nEn extérieur 15€ les 5 mètres\nEn intérieur 15€ les 3 mètres (sous réserve de places disponibles)\n\nFormulaire brocante 24-05-26 (2)_260408_090603
URL:https://bouxwiller.eu/event/grande-brocante/
LOCATION:Place du Château\, Bouxwiller
ATTACH;FMTTYPE=application/pdf:https://bouxwiller.eu/wp-content/uploads/2026/04/Brocante-Bouxwiller-2025-1_260408_090450.pdf
END:VEVENT
BEGIN:VEVENT
DTSTART;TZID=Europe/Paris:20260524T083000
DTEND;TZID=Europe/Paris:20260524T100000
DTSTAMP:20260423T062634
CREATED:20260309T093028Z
LAST-MODIFIED:20260309T093028Z
UID:24887-1779611400-1779616800@bouxwiller.eu
SUMMARY:42e Rallye Touristique moto
DESCRIPTION:Passionnés de deux-roues\, amateurs de belles routes et d’évasion… c’est le moment de préparer vos motos !\nLes Rats de Boux vous donnent rendez-vous le dimanche 24 Mai 2026 (8 h 30 – 10 h 00) au centre culturel de Bouxwiller pour le 42ème Rallye Touristique. \nPré-inscription 30€ par personne / 35€ le jour même\, comprenant le petit déjeuner\, le barbecue du midi et le repas du soir. Inscriptions à retourner au plus tard le 10 Mai 2026. \nContact : ratsdeboux@gmail.com / 06 42 59 91 08 ou 07 81 46 33 94. \nCarte Michelin n°315 à prévoir. \nLes Rats de Boux vous attendent\, au plaisir de vous retrouver pour cette journée 🏍 \n 
URL:https://bouxwiller.eu/event/42e-rallye-touristique-moto/
LOCATION:Centre culturel Marie Hart\, Bouxwiller
ATTACH;FMTTYPE=image/jpeg:https://bouxwiller.eu/wp-content/uploads/2026/03/646711326_1261095619450169_8918030584177133039_n.jpg
END:VEVENT
BEGIN:VEVENT
DTSTART;TZID=Europe/Paris:20260524T163000
DTEND;TZID=Europe/Paris:20260524T200000
DTSTAMP:20260423T062634
CREATED:20260422T100009Z
LAST-MODIFIED:20260422T100009Z
UID:25317-1779640200-1779652800@bouxwiller.eu
SUMMARY:Don du sang
DESCRIPTION:
URL:https://bouxwiller.eu/event/don-du-sang-27/
LOCATION:Centre Culturel\, 5 place du Château\, BOUXWILLER\, 67330\, France
ATTACH;FMTTYPE=application/pdf:https://bouxwiller.eu/wp-content/uploads/2026/04/26-05-26-Bouxwiller-Affiche-collecte-de-sang.pdf
END:VEVENT
BEGIN:VEVENT
DTSTART;TZID=Europe/Paris:20260527T143000
DTEND;TZID=Europe/Paris:20260527T143000
DTSTAMP:20260423T062634
CREATED:20260119T104536Z
LAST-MODIFIED:20260119T104536Z
UID:24437-1779892200-1779892200@bouxwiller.eu
SUMMARY:Cinéma : Mario GALAXY\, le film
DESCRIPTION:
URL:https://bouxwiller.eu/event/cinema-mario-galaxy-le-film/
LOCATION:Centre culturel Marie Hart\, Bouxwiller
ATTACH;FMTTYPE=image/png:https://bouxwiller.eu/wp-content/uploads/2026/01/65.png
END:VEVENT
BEGIN:VEVENT
DTSTART;TZID=Europe/Paris:20260529T203000
DTEND;TZID=Europe/Paris:20260529T203000
DTSTAMP:20260423T062634
CREATED:20251027T160315Z
LAST-MODIFIED:20251027T160315Z
UID:23799-1780086600-1780086600@bouxwiller.eu
SUMMARY:BLOCKS - Théâtre Installation sonore
DESCRIPTION:Jérôme RIVELAYGUE / Cie En musique ! \nSur une scène divisée en deux pôles\, avec le public au centre\, un ensemble disparate et varié de haut-parleurs\, l’acousmonium\, représente les deux blocs de cette fiction dystopique et intemporelle qu’est BLOCKS. \nÀ la fois pièce de théâtre et installation sonore\, c’est une lecture singulière des relations internationales\, du rôle des médias\, de l’utilisation des réseaux d’information dans l’équilibre politique mondial qui est présentée par les deux interprètes. \nInspiré d’évènements de la guerre froide et s’appuyant sur la radio\, média d’avant les réseaux sociaux\, c’est un miroir du présent qui est tendu. Désinformation\, diffusion idéologique à grande échelle\, manipulations…\nBLOCKS met en exergue des procédés de propagande vieux comme l’humanité et pourtant si contemporains. \n\nComédienne musicienne : Hélène OSWALD\nComédien : Rémi BRENIÈRE\nRégisseur et auteur : Jérôme RIVELAYGUE\nRegard extérieur et direction d’acteurs : Carole BREYER\nConseiller historique et dramaturge : Thierry SIMON\nCréateur lumière : Christophe MAHON\n\nℹ️ information et réservation : http://theaboux.eu/blocks/
URL:https://bouxwiller.eu/event/blocks-theatre-installation-sonore/
LOCATION:Théâtre Christiane Stroë\, 5 place du Château\, BOUXWILLER\, 67330\, France
END:VEVENT
BEGIN:VEVENT
DTSTART;TZID=Europe/Paris:20260530T140000
DTEND;TZID=Europe/Paris:20260530T140000
DTSTAMP:20260423T062634
CREATED:20260422T100308Z
LAST-MODIFIED:20260422T141040Z
UID:25320-1780149600-1780149600@bouxwiller.eu
SUMMARY:Portes ouvertes de l'amicale des jeunes sapeurs-pompiers et sapeurs-pompiers de Bouxwiller
DESCRIPTION:Défilé dans les rues à 14h\, animations et découvertes à 15h\n(présentation des engins\, manœuvres\, voiture tonneau\, atelier secourisme\, parcours JSP) et à partir de 18h tartes flambées\, pizzas\, knacks et frites.\nTombola en soirée avec de nombreux lots à gagner\, ambiance assurée par Dj Kristof der Dj vom Bauernhof.
URL:https://bouxwiller.eu/event/defile-et-ceremonie-40-jeunes-sapeurs-pompiers-et-125-ans-corps-des-sapeurs-pompiers/
LOCATION:Centre de secours de Bouwiller
ATTACH;FMTTYPE=image/jpeg:https://bouxwiller.eu/wp-content/uploads/2026/04/675263909_1269416232005983_4410052762834548150_n.jpg
END:VEVENT
BEGIN:VEVENT
DTSTART;TZID=Europe/Paris:20260606T140000
DTEND;TZID=Europe/Paris:20260606T140000
DTSTAMP:20260423T062634
CREATED:20251230T165640Z
LAST-MODIFIED:20260209T143502Z
UID:24253-1780754400-1780754400@bouxwiller.eu
SUMMARY:Cours d'éclaircissage et reconnaissance des maladie\, auxilaires et ravageurs avec l'Association des Producteurs de Fruits et Distillateurs de Bouxwiller et environs
DESCRIPTION:ℹ️ Cours gratuit et ouvert à tous. Rdv à 13h45 pour un cours à 14h.
URL:https://bouxwiller.eu/event/cours-declaircissage-et-reconnaissance-des-maladie-auxilaires-et-ravageurs-avec-lassociation-des-producteurs-de-fruits-et-distillateurs-de-bouxwiller-et-environs/
LOCATION:Verger école\, rue de Riedheim\, Bouxwiller
ATTACH;FMTTYPE=image/png:https://bouxwiller.eu/wp-content/uploads/2025/12/eclaircissage.png
END:VEVENT
BEGIN:VEVENT
DTSTART;TZID=Europe/Paris:20260606T190000
DTEND;TZID=Europe/Paris:20260606T190000
DTSTAMP:20260423T062634
CREATED:20260127T161011Z
LAST-MODIFIED:20260409T082906Z
UID:24532-1780772400-1780772400@bouxwiller.eu
SUMMARY:GALA ANNUEL de natation synchronisée
DESCRIPTION:Retrouvez le club de natation Synchronisée le samedi 6 Juin pour son GALA ANNUEL\, au centre nautique Hanautic de Bouxwiller.\n18 nageuses défieront la complexité de cette discipline\, afin d’éblouir et d’émerveiller petits et grands\, en les transportant à travers le monde\, sur une histoire originale spécialement écrite par les nageuses. Venez nombreuses et nombreux encourager et supporter nos sportives ! \nPetite restauration sur place\, tombola..(paiement par chèque ou espèces uniquement). \nInformations complémentaires : http://clubnatationhanau.e-monsite.com/ – synchro.bouxwiller@gmail.com
URL:https://bouxwiller.eu/event/gala-annuel-de-natation-synchronisee/
LOCATION:Centre aquatique Hanautic
ATTACH;FMTTYPE=image/jpeg:https://bouxwiller.eu/wp-content/uploads/2026/01/gala-2026.jpg
END:VEVENT
BEGIN:VEVENT
DTSTART;TZID=Europe/Paris:20260613T160000
DTEND;TZID=Europe/Paris:20260613T220000
DTSTAMP:20260423T062634
CREATED:20260317T125338Z
LAST-MODIFIED:20260317T140951Z
UID:24991-1781366400-1781388000@bouxwiller.eu
SUMMARY:Trail des sorcières du Bastberg - 3ème édition
DESCRIPTION:🏃‍♂️ Courir pour faire grandir… un jardin ! 🌿 \nLa 3ème édition du Trail Solidaire arrive en faveur de l’EPSAN de Brumath. (Santé Mentale Alsace Nord) ! 🏁 \nPourquoi chausser vos baskets ? Pour financer un Jardin Thérapeutique\, espace extérieur apportant calme et sérénité aux patients. \nPlusieurs parcours sont disponibles :\n🔹Marche 9km\n🔹Course 12km\n🔹Marche en parcours adapté adulte 2km\n🔹Marche / course enfant -12 ans \n✨ Chaque inscription est une graine de plus pour faire germer ce projet : urlr.me/ncNdva
URL:https://bouxwiller.eu/event/trail-des-sorcieres-du-bastberg-3eme-edition/
LOCATION:Place du Château\, Bouxwiller
ATTACH;FMTTYPE=image/png:https://bouxwiller.eu/wp-content/uploads/2026/03/croppedimage-c93da4a7e8b746b4bc0bb93ee1a35185.png
END:VEVENT
BEGIN:VEVENT
DTSTART;TZID=Europe/Paris:20260613T203000
DTEND;TZID=Europe/Paris:20260613T203000
DTSTAMP:20260423T062634
CREATED:20251027T161457Z
LAST-MODIFIED:20251027T161457Z
UID:23801-1781382600-1781382600@bouxwiller.eu
SUMMARY:Sumphônia - Danse  Pratiques artistiques
DESCRIPTION:Vidal BINI / Atelier amateur de danse contemporaine et d’improvisation \nAprès avoir réalisé une création collective basée sur l’improvisation dans De l’exercice de la démocratie ? et des petites formes imaginées par les membres de l’atelier\, cette année c’est un nouveau format de projet qui s’annonce. En s’appuyant sur les deux pièces développées cette année pour sa cie KiloHertZ\, MYOTIS X et SOMBRE\, Vidal BINI propose à l’atelier d’explorer les partitions chorégraphiques\, les textes\, les espaces d’imagination qui l’occupent actuellement : les origines de la danse et du langage ou encore la capacité de résistance d’un groupe. \nC’est un processus de transmission\, mais aussi une remise en jeu des matériaux sources pour aboutir à une pièce originale et unique\, dans laquelle toutes et tous trouvent un espace d’expression personnel soutenu par la force du collectif. \n\nConception et chorégraphie : Vidal BINI\nMusique : Olivier MEYER\nChorégraphie et interprétation : les membres de l’atelier\n\nℹ️ information et réservation : http://theaboux.eu/amat-danse_sumphonia/
URL:https://bouxwiller.eu/event/sumphonia-danse-pratiques-artistiques/
LOCATION:Théâtre Christiane Stroë\, 5 place du Château\, BOUXWILLER\, 67330\, France
END:VEVENT
BEGIN:VEVENT
DTSTART;TZID=Europe/Paris:20260614T110000
DTEND;TZID=Europe/Paris:20260614T110000
DTSTAMP:20260423T062634
CREATED:20260216T132748Z
LAST-MODIFIED:20260216T132748Z
UID:24812-1781434800-1781434800@bouxwiller.eu
SUMMARY:Fête œcuménique des paroisses catholique et protestante de Bouxwiller
DESCRIPTION:
URL:https://bouxwiller.eu/event/fete-oecumenique-des-paroisses-catholique-et-protestante-de-bouxwiller/
LOCATION:Jardin du foyer catholique Saint-Léger\, 17 A Rue des Mines\, Bouxwiller\, 67330\, France
END:VEVENT
BEGIN:VEVENT
DTSTART;VALUE=DATE:20260617
DTEND;VALUE=DATE:20261026
DTSTAMP:20260423T062634
CREATED:20260202T131116Z
LAST-MODIFIED:20260202T131116Z
UID:24631-1781654400-1792972799@bouxwiller.eu
SUMMARY:Exposition « Mon Alsace en costume\, Min Elsàss in Tràcht»
DESCRIPTION:La Maison Picasso du Centre Harthouse et le FHTH J.F. Oberlin de la fondation du Sonnenhof vous offrent un nouveau regard sur le costume régional.\nAprès des visites au Musée du Pays de Hanau et des ateliers créatifs\, les personnes accompagnées ont été invitées à s’exprimer artistiquement sur le thème « Mon Alsace en costume ». Portées par leur imaginaire et leur créativité\, ils nous invitent à redécouvrir les tenues traditionnelles sous d’œuvres d’art plastique. \nTarif : prix de l’entrée du musée
URL:https://bouxwiller.eu/event/exposition-mon-alsace-en-costume-min-elsass-in-tracht/
LOCATION:Musée du Pays de Hanau\, 3 place du Château\, BOUXWILLER\, 67330\, France
ATTACH;FMTTYPE=image/jpeg:https://bouxwiller.eu/wp-content/uploads/2026/02/17-06-26-defile-credit-Matou-Photographe-scaled.jpg
END:VEVENT
BEGIN:VEVENT
DTSTART;TZID=Europe/Paris:20260617T180000
DTEND;TZID=Europe/Paris:20260617T180000
DTSTAMP:20260423T062634
CREATED:20260202T125601Z
LAST-MODIFIED:20260202T125601Z
UID:24628-1781719200-1781719200@bouxwiller.eu
SUMMARY:Inauguration de l’exposition « Mon Alsace en costume\, Min Elsàss in Tràcht » Défilé « le costume revisité » de la marque Geht’s in créée par la costumière Rita Tataï
DESCRIPTION:La Maison Picasso du Centre Harthouse et le FHTH J.F. Oberlin de la fondation du Sonnenhof vous offrent un nouveau regard sur le costume régional.\nAprès des visites au Musée du Pays de Hanau et des ateliers créatifs\, les personnes accompagnées ont été invitées à s’exprimer artistiquement sur le thème « Mon Alsace en costume ». \nPortées par leur imaginaire et leur créativité\, les personnes accompagnées ont réalisé des œuvres d’art plastique qui nous invitent à redécouvrir les tenues traditionnelles.\nL’inauguration se fera en compagnie de la costumière Rita Tataï\, créatrice de la marque Geht’s in qui revisite le costume régional.\nLes artistes défileront pour vous présenter les tenues Geht’s in dans une ambiance conviviale. \nTarif : Gratuit
URL:https://bouxwiller.eu/event/inauguration-de-lexposition-mon-alsace-en-costume-min-elsass-in-tracht-defile-le-costume-revisite-de-la-marque-gehts-in-creee-par-la-costumiere-rita-tata/
LOCATION:Musée du Pays de Hanau\, 3 place du Château\, BOUXWILLER\, 67330\, France
ATTACH;FMTTYPE=image/jpeg:https://bouxwiller.eu/wp-content/uploads/2026/02/17-06-26-defile-credit-Matou-Photographe-scaled.jpg
END:VEVENT
BEGIN:VEVENT
DTSTART;VALUE=DATE:20260619
DTEND;VALUE=DATE:20260620
DTSTAMP:20260423T062634
CREATED:20260119T110804Z
LAST-MODIFIED:20260119T110804Z
UID:24458-1781827200-1781913599@bouxwiller.eu
SUMMARY:Fête de l'école
DESCRIPTION:
URL:https://bouxwiller.eu/event/fete-de-lecole/
LOCATION:Centre culturel Marie Hart\, Bouxwiller
END:VEVENT
BEGIN:VEVENT
DTSTART;TZID=Europe/Paris:20260620T090000
DTEND;TZID=Europe/Paris:20260620T090000
DTSTAMP:20260423T062634
CREATED:20260119T110918Z
LAST-MODIFIED:20260119T110918Z
UID:24461-1781946000-1781946000@bouxwiller.eu
SUMMARY:Repair café
DESCRIPTION:
URL:https://bouxwiller.eu/event/repair-cafe-7/
LOCATION:Centre culturel Marie Hart\, Bouxwiller
END:VEVENT
BEGIN:VEVENT
DTSTART;VALUE=DATE:20260621
DTEND;VALUE=DATE:20260622
DTSTAMP:20260423T062634
CREATED:20260119T110957Z
LAST-MODIFIED:20260119T110957Z
UID:24463-1782000000-1782086399@bouxwiller.eu
SUMMARY:Fête de la musique
DESCRIPTION:
URL:https://bouxwiller.eu/event/fete-de-la-musique-10/
LOCATION:Bouxwiller
END:VEVENT
BEGIN:VEVENT
DTSTART;VALUE=DATE:20260623
DTEND;VALUE=DATE:20260624
DTSTAMP:20260423T062634
CREATED:20260119T111036Z
LAST-MODIFIED:20260119T111036Z
UID:24465-1782172800-1782259199@bouxwiller.eu
SUMMARY:Concert de la chorale du collège du Bastberg
DESCRIPTION:
URL:https://bouxwiller.eu/event/concert-de-la-chorale-du-college-du-bastberg/
LOCATION:Centre culturel Marie Hart\, Bouxwiller
END:VEVENT
BEGIN:VEVENT
DTSTART;TZID=Europe/Paris:20260626T203000
DTEND;TZID=Europe/Paris:20260627T203000
DTSTAMP:20260423T062634
CREATED:20251027T161622Z
LAST-MODIFIED:20251027T161622Z
UID:23803-1782505800-1782592200@bouxwiller.eu
SUMMARY:Atelier des adultes - Théâtre  Pratiques artistiques
DESCRIPTION:Céline d’ABOUKIR / Atelier théâtre du Mercredi adultes \nQui dit nouvelle saison dit nouvelles aventures théâtrales pour les membres des ateliers du Mercredi. Avec l’ambition toujours présente de prendre du plaisir à jouer ensemble\, à développer leurs capacités d’expression et d’interprétation\, l’atelier offre aux personnes qui y prennent part un espace de pratique bienveillant et exigeant. \nTout au long de l’année\, plusieurs textes sont abordés et décortiqués. Pour les adultes\, ce sont les auteurs et autrices qui font vivre la fiction qui sont à l’honneur\, avec des textes de Karl VALENTIN\, Xavier DURRINGER\, William SHAKESPEARE et bien d’autres. Pour les jeunes\, le mystère reste entier et le spectacle à découvrir. \n\nMise en scène : Céline D’ABOUKIR\nRégie : Olivier MEYER\nAvec\, en jeu : les membres des Ateliers du Mercredi\n\nℹ️ information et réservation : http://theaboux.eu/amat-theatre_adultes/
URL:https://bouxwiller.eu/event/atelier-des-adultes-theatre-pratiques-artistiques/
LOCATION:Théâtre Christiane Stroë\, 5 place du Château\, BOUXWILLER\, 67330\, France
END:VEVENT
BEGIN:VEVENT
DTSTART;TZID=Europe/Paris:20260627T180000
DTEND;TZID=Europe/Paris:20260627T180000
DTSTAMP:20260423T062634
CREATED:20251027T161738Z
LAST-MODIFIED:20251027T161738Z
UID:23805-1782583200-1782583200@bouxwiller.eu
SUMMARY:Atelier des jeunes - Théâtre  Pratiques artistiques
DESCRIPTION:Céline d’ABOUKIR / Atelier théâtre du Mercredi jeunes \nQui dit nouvelle saison dit nouvelles aventures théâtrales pour les membres des ateliers du Mercredi. Avec l’ambition toujours présente de prendre du plaisir à jouer ensemble\, à développer leurs capacités d’expression et d’interprétation\, l’atelier offre aux personnes qui y prennent part un espace de pratique bienveillant et exigeant. \nTout au long de l’année\, plusieurs textes sont abordés et décortiqués. Pour les adultes\, ce sont les auteurs et autrices qui font vivre la fiction qui sont à l’honneur\, avec des textes de Karl VALENTIN\, Xavier DURRINGER\, William SHAKESPEARE et bien d’autres. Pour les jeunes\, le mystère reste entier et le spectacle à découvrir. \n\nMise en scène : Céline D’ABOUKIR\nRégie : Olivier MEYER\nAvec\, en jeu : les membres des Ateliers du Mercredi\n\nℹ️ information et réservation : http://theaboux.eu/amat-theatre_jeunes/
URL:https://bouxwiller.eu/event/atelier-des-jeunes-theatre-pratiques-artistiques/
LOCATION:Théâtre Christiane Stroë\, 5 place du Château\, BOUXWILLER\, 67330\, France
END:VEVENT
BEGIN:VEVENT
DTSTART;TZID=Europe/Paris:20260628T090000
DTEND;TZID=Europe/Paris:20260628T090000
DTSTAMP:20260423T062634
CREATED:20260413T124013Z
LAST-MODIFIED:20260413T124013Z
UID:25200-1782637200-1782637200@bouxwiller.eu
SUMMARY:Tournoi sixte
DESCRIPTION:
URL:https://bouxwiller.eu/event/tournoi-sixte/
ATTACH;FMTTYPE=image/png:https://bouxwiller.eu/wp-content/uploads/2026/04/19b78b09-537e-4599-adb3-360ef06f70aa.png
END:VEVENT
BEGIN:VEVENT
DTSTART;TZID=Europe/Paris:20260628T160000
DTEND;TZID=Europe/Paris:20260628T160000
DTSTAMP:20260423T062634
CREATED:20251027T161857Z
LAST-MODIFIED:20251027T161857Z
UID:23807-1782662400-1782662400@bouxwiller.eu
SUMMARY:Atelier des jeunes - Théâtre  Pratiques artistiques
DESCRIPTION:Céline d’ABOUKIR / Atelier théâtre du Mercredi jeunes \nQui dit nouvelle saison dit nouvelles aventures théâtrales pour les membres des ateliers du Mercredi. Avec l’ambition toujours présente de prendre du plaisir à jouer ensemble\, à développer leurs capacités d’expression et d’interprétation\, l’atelier offre aux personnes qui y prennent part un espace de pratique bienveillant et exigeant. \nTout au long de l’année\, plusieurs textes sont abordés et décortiqués. Pour les adultes\, ce sont les auteurs et autrices qui font vivre la fiction qui sont à l’honneur\, avec des textes de Karl VALENTIN\, Xavier DURRINGER\, William SHAKESPEARE et bien d’autres. Pour les jeunes\, le mystère reste entier et le spectacle à découvrir. \nMise en scène : Céline D’ABOUKIR\nRégie : Olivier MEYER\nAvec\, en jeu : les membres des Ateliers du Mercredi \nℹ️ information et réservation : http://theaboux.eu/amat-theatre_jeunes/
URL:https://bouxwiller.eu/event/atelier-des-jeunes-theatre-pratiques-artistiques-2/
LOCATION:Théâtre Christiane Stroë\, 5 place du Château\, BOUXWILLER\, 67330\, France
END:VEVENT
END:VCALENDAR