BEGIN:VCALENDAR
VERSION:2.0
PRODID:-//Mairie de Bouxwiller - ECPv6.15.18//NONSGML v1.0//EN
CALSCALE:GREGORIAN
METHOD:PUBLISH
X-WR-CALNAME:Mairie de Bouxwiller
X-ORIGINAL-URL:https://bouxwiller.eu
X-WR-CALDESC:Évènements pour Mairie de Bouxwiller
REFRESH-INTERVAL;VALUE=DURATION:PT1H
X-Robots-Tag:noindex
X-PUBLISHED-TTL:PT1H
BEGIN:VTIMEZONE
TZID:Europe/Paris
BEGIN:DAYLIGHT
TZOFFSETFROM:+0100
TZOFFSETTO:+0200
TZNAME:CEST
DTSTART:20250330T010000
END:DAYLIGHT
BEGIN:STANDARD
TZOFFSETFROM:+0200
TZOFFSETTO:+0100
TZNAME:CET
DTSTART:20251026T010000
END:STANDARD
BEGIN:DAYLIGHT
TZOFFSETFROM:+0100
TZOFFSETTO:+0200
TZNAME:CEST
DTSTART:20260329T010000
END:DAYLIGHT
BEGIN:STANDARD
TZOFFSETFROM:+0200
TZOFFSETTO:+0100
TZNAME:CET
DTSTART:20261025T010000
END:STANDARD
BEGIN:DAYLIGHT
TZOFFSETFROM:+0100
TZOFFSETTO:+0200
TZNAME:CEST
DTSTART:20270328T010000
END:DAYLIGHT
BEGIN:STANDARD
TZOFFSETFROM:+0200
TZOFFSETTO:+0100
TZNAME:CET
DTSTART:20271031T010000
END:STANDARD
END:VTIMEZONE
BEGIN:VEVENT
DTSTART;TZID=Europe/Paris:20260702T170000
DTEND;TZID=Europe/Paris:20260702T190000
DTSTAMP:20260423T105911
CREATED:20251230T135039Z
LAST-MODIFIED:20251230T135039Z
UID:24231-1783011600-1783018800@bouxwiller.eu
SUMMARY:Café parents : ados\, que se passe-t-il dans leur corps et leur tête
DESCRIPTION:
URL:https://bouxwiller.eu/event/cafe-parents-ados-que-se-passe-t-il-dans-leur-corps-et-leur-tete/
LOCATION:Périscolaire de Bouxwiller\, 4 route de Babenhausen\, Bouxwiller\, 67330\, France
END:VEVENT
BEGIN:VEVENT
DTSTART;TZID=Europe/Paris:20260709T143000
DTEND;TZID=Europe/Paris:20260709T143000
DTSTAMP:20260423T105911
CREATED:20260202T132409Z
LAST-MODIFIED:20260202T132409Z
UID:24633-1783607400-1783607400@bouxwiller.eu
SUMMARY:Visite guidée « À la découverte du Musée du Pays de Hanau »
DESCRIPTION:Le Pays de Hanau est le berceau des symboles de l’Alsace. Saviez-vous que le bretzel et la coiffe traditionnelle\, avec son grand nœud noir\, sont originaires du Pays de Hanau ? Ou encore que Bouxwiller a été autrefois une capitale princière et rayonnait sur un grand territoire de part et d’autre du Rhin ? Découvrez la riche histoire du Pays de Hanau dans un magnifique cadre architectural datant des 14ème et 16ème siècles\, en compagnie d’une de nos guides du Musée. \nDurée : 1h\nTarif : Entrée du Musée\nPlaces limitées. Réservation obligatoire au 03 88 00 38 39 ou contact@museedupaysdehanau.eu
URL:https://bouxwiller.eu/event/visite-guidee-a-la-decouverte-du-musee-du-pays-de-hanau-3/
LOCATION:Musée du Pays de Hanau\, 3 place du Château\, BOUXWILLER\, 67330\, France
ATTACH;FMTTYPE=image/jpeg:https://bouxwiller.eu/wp-content/uploads/2026/02/visite-musee-photo-Marion_cherot-Sycoparc.jpg
END:VEVENT
BEGIN:VEVENT
DTSTART;TZID=Europe/Paris:20260710T180000
DTEND;TZID=Europe/Paris:20260710T190000
DTSTAMP:20260423T105911
CREATED:20260302T125139Z
LAST-MODIFIED:20260302T125223Z
UID:24849-1783706400-1783710000@bouxwiller.eu
SUMMARY:Atelier de découverte du folklore alsacien & breton pour les enfants d’ici et d’ailleurs
DESCRIPTION:Les enfants du Groupe Folklorique du Pays de Hanau de Bouxwiller et les enfants bretons de Pommerit le Vicomte vous invitent sur la ronde pour quelques pas de danse\, rondes et danses d’ici et d’ailleurs en toute convivialité. Activité gratuite et ouverte à tous.\nPour les jeunes filles\, possibilité d’essayer une coiffe alsacienne pour la photo souvenir.
URL:https://bouxwiller.eu/event/atelier-de-decouverte-du-folklore-alsacien-breton-pour-les-enfants-dici-et-dailleurs/
LOCATION:Parvis du Musée\, 3 Pl. du Château\, Bouxwiller
ATTACH;FMTTYPE=image/jpeg:https://bouxwiller.eu/wp-content/uploads/2026/03/illustration-atelier-de-decouverte-du-folklore-alsacien-breton-pour-les-enfants-d-ici-et-d-ailleurs_1-1772117891.jpg
END:VEVENT
BEGIN:VEVENT
DTSTART;TZID=Europe/Paris:20260716T143000
DTEND;TZID=Europe/Paris:20260716T143000
DTSTAMP:20260423T105911
CREATED:20260202T132446Z
LAST-MODIFIED:20260202T132446Z
UID:24636-1784212200-1784212200@bouxwiller.eu
SUMMARY:Visite guidée « À la découverte du Musée du Pays de Hanau »
DESCRIPTION:Le Pays de Hanau est le berceau des symboles de l’Alsace. Saviez-vous que le bretzel et la coiffe traditionnelle\, avec son grand nœud noir\, sont originaires du Pays de Hanau ? Ou encore que Bouxwiller a été autrefois une capitale princière et rayonnait sur un grand territoire de part et d’autre du Rhin ? Découvrez la riche histoire du Pays de Hanau dans un magnifique cadre architectural datant des 14ème et 16ème siècles\, en compagnie d’une de nos guides du Musée. \nDurée : 1h\nTarif : Entrée du Musée\nPlaces limitées. Réservation obligatoire au 03 88 00 38 39 ou contact@museedupaysdehanau.eu
URL:https://bouxwiller.eu/event/visite-guidee-a-la-decouverte-du-musee-du-pays-de-hanau-8/
LOCATION:Musée du Pays de Hanau\, 3 place du Château\, BOUXWILLER\, 67330\, France
ATTACH;FMTTYPE=image/jpeg:https://bouxwiller.eu/wp-content/uploads/2026/02/visite-musee-photo-Marion_cherot-Sycoparc.jpg
END:VEVENT
BEGIN:VEVENT
DTSTART;VALUE=DATE:20260718
DTEND;VALUE=DATE:20260720
DTSTAMP:20260423T105911
CREATED:20251230T135121Z
LAST-MODIFIED:20260302T122918Z
UID:24233-1784332800-1784505599@bouxwiller.eu
SUMMARY:Portes ouvertes Imbsheim et Festival Folklorique International
DESCRIPTION:Festival Folklorique International à Imbsheim 💃 \nImbsheim ouvre ses portes au folklore international\, à l’art et à l’artisanat tout le week-end ! \nℹ️ L’entrée est gratuite à tous les spectacles. \nRetrouvez 10 groupes folkloriques d’ici et d’ailleurs\, 50 artisans dans les rues et les corps de ferme exposent leur savoir faire – expo de tracteurs & véhicules militaires – animations pour enfants ….
URL:https://bouxwiller.eu/event/portes-ouvertes-imbsheim-et-festival-folklorique-international/
LOCATION:Imbsheim
ATTACH;FMTTYPE=image/jpeg:https://bouxwiller.eu/wp-content/uploads/2025/12/617076077_1307161144782813_5107791265167132816_n-1.jpg
END:VEVENT
BEGIN:VEVENT
DTSTART;TZID=Europe/Paris:20260723T143000
DTEND;TZID=Europe/Paris:20260723T143000
DTSTAMP:20260423T105911
CREATED:20260202T132521Z
LAST-MODIFIED:20260202T132521Z
UID:24638-1784817000-1784817000@bouxwiller.eu
SUMMARY:Visite guidée « À la découverte du Musée du Pays de Hanau »
DESCRIPTION:Le Pays de Hanau est le berceau des symboles de l’Alsace. Saviez-vous que le bretzel et la coiffe traditionnelle\, avec son grand nœud noir\, sont originaires du Pays de Hanau ? Ou encore que Bouxwiller a été autrefois une capitale princière et rayonnait sur un grand territoire de part et d’autre du Rhin ? Découvrez la riche histoire du Pays de Hanau dans un magnifique cadre architectural datant des 14ème et 16ème siècles\, en compagnie d’une de nos guides du Musée. \nDurée : 1h\nTarif : Entrée du Musée\nPlaces limitées. Réservation obligatoire au 03 88 00 38 39 ou contact@museedupaysdehanau.eu
URL:https://bouxwiller.eu/event/visite-guidee-a-la-decouverte-du-musee-du-pays-de-hanau-10/
LOCATION:Musée du Pays de Hanau\, 3 place du Château\, BOUXWILLER\, 67330\, France
ATTACH;FMTTYPE=image/jpeg:https://bouxwiller.eu/wp-content/uploads/2026/02/visite-musee-photo-Marion_cherot-Sycoparc.jpg
END:VEVENT
BEGIN:VEVENT
DTSTART;TZID=Europe/Paris:20260730T143000
DTEND;TZID=Europe/Paris:20260730T143000
DTSTAMP:20260423T105911
CREATED:20260202T132553Z
LAST-MODIFIED:20260202T132553Z
UID:24640-1785421800-1785421800@bouxwiller.eu
SUMMARY:Visite guidée « À la découverte du Musée du Pays de Hanau »
DESCRIPTION:Le Pays de Hanau est le berceau des symboles de l’Alsace. Saviez-vous que le bretzel et la coiffe traditionnelle\, avec son grand nœud noir\, sont originaires du Pays de Hanau ? Ou encore que Bouxwiller a été autrefois une capitale princière et rayonnait sur un grand territoire de part et d’autre du Rhin ? Découvrez la riche histoire du Pays de Hanau dans un magnifique cadre architectural datant des 14ème et 16ème siècles\, en compagnie d’une de nos guides du Musée. \nDurée : 1h\nTarif : Entrée du Musée\nPlaces limitées. Réservation obligatoire au 03 88 00 38 39 ou contact@museedupaysdehanau.eu
URL:https://bouxwiller.eu/event/visite-guidee-a-la-decouverte-du-musee-du-pays-de-hanau-11/
LOCATION:Musée du Pays de Hanau\, 3 place du Château\, BOUXWILLER\, 67330\, France
ATTACH;FMTTYPE=image/jpeg:https://bouxwiller.eu/wp-content/uploads/2026/02/visite-musee-photo-Marion_cherot-Sycoparc.jpg
END:VEVENT
BEGIN:VEVENT
DTSTART;TZID=Europe/Paris:20260806T143000
DTEND;TZID=Europe/Paris:20260806T143000
DTSTAMP:20260423T105911
CREATED:20260202T134022Z
LAST-MODIFIED:20260202T134022Z
UID:24642-1786026600-1786026600@bouxwiller.eu
SUMMARY:Visite guidée de l’exposition « Costumes et Images d’Alsace\, se vêtir en pays de Hanau »
DESCRIPTION:Accompagnés d’un guide du musée\, parcourez l’exposition temporaire consacrée au costume régional du Pays de Hanau. Suite à un grand chantier des collections\, le musée vous propose d’explorer les multiples facettes du costume\, de découvrir les pièces qui le composent\, son évolution ou encore ses différentes représentations. \nDurée : 1h \nTarif : Entrée du Musée \nPlaces limitées. Réservation obligatoire au 03 88 00 38 39 ou contact@museedupaysdehanau.eu
URL:https://bouxwiller.eu/event/visite-guidee-de-lexposition-costumes-et-images-dalsace-se-vetir-en-pays-de-hanau/
LOCATION:Musée du Pays de Hanau\, 3 place du Château\, BOUXWILLER\, 67330\, France
ATTACH;FMTTYPE=image/jpeg:https://bouxwiller.eu/wp-content/uploads/2026/02/17-05-26-VG-expo-en-alsacien-photo-Musee-du-Pays-de-Hanau--scaled.jpg
END:VEVENT
BEGIN:VEVENT
DTSTART;TZID=Europe/Paris:20260807T190000
DTEND;TZID=Europe/Paris:20260807T190000
DTSTAMP:20260423T105911
CREATED:20251231T134454Z
LAST-MODIFIED:20251231T134454Z
UID:24258-1786129200-1786129200@bouxwiller.eu
SUMMARY:Nuit des étoiles d'été au Bastberg
DESCRIPTION:
URL:https://bouxwiller.eu/event/nuit-des-etoiles-dete-au-bastberg/
LOCATION:Bastberg
END:VEVENT
BEGIN:VEVENT
DTSTART;TZID=Europe/Paris:20260808T190000
DTEND;TZID=Europe/Paris:20260808T190000
DTSTAMP:20260423T105911
CREATED:20251231T134620Z
LAST-MODIFIED:20251231T134620Z
UID:24261-1786215600-1786215600@bouxwiller.eu
SUMMARY:Nuit des étoiles d'été au Bastberg
DESCRIPTION:
URL:https://bouxwiller.eu/event/nuit-des-etoiles-dete-au-bastberg-2/
LOCATION:Bastberg
END:VEVENT
BEGIN:VEVENT
DTSTART;TZID=Europe/Paris:20260813T143000
DTEND;TZID=Europe/Paris:20260813T143000
DTSTAMP:20260423T105911
CREATED:20260202T134059Z
LAST-MODIFIED:20260202T134059Z
UID:24644-1786631400-1786631400@bouxwiller.eu
SUMMARY:Visite guidée de l’exposition « Costumes et Images d’Alsace\, se vêtir en pays de Hanau »
DESCRIPTION:Accompagnés d’un guide du musée\, parcourez l’exposition temporaire consacrée au costume régional du Pays de Hanau. Suite à un grand chantier des collections\, le musée vous propose d’explorer les multiples facettes du costume\, de découvrir les pièces qui le composent\, son évolution ou encore ses différentes représentations. \nDurée : 1h \nTarif : Entrée du Musée \nPlaces limitées. Réservation obligatoire au 03 88 00 38 39 ou contact@museedupaysdehanau.eu
URL:https://bouxwiller.eu/event/visite-guidee-de-lexposition-costumes-et-images-dalsace-se-vetir-en-pays-de-hanau-2/
LOCATION:Musée du Pays de Hanau\, 3 place du Château\, BOUXWILLER\, 67330\, France
ATTACH;FMTTYPE=image/jpeg:https://bouxwiller.eu/wp-content/uploads/2026/02/17-05-26-VG-expo-en-alsacien-photo-Musee-du-Pays-de-Hanau--scaled.jpg
END:VEVENT
BEGIN:VEVENT
DTSTART;TZID=Europe/Paris:20260820T143000
DTEND;TZID=Europe/Paris:20260820T143000
DTSTAMP:20260423T105911
CREATED:20260202T134136Z
LAST-MODIFIED:20260202T134136Z
UID:24646-1787236200-1787236200@bouxwiller.eu
SUMMARY:Visite guidée de l’exposition « Costumes et Images d’Alsace\, se vêtir en pays de Hanau »
DESCRIPTION:Accompagnés d’un guide du musée\, parcourez l’exposition temporaire consacrée au costume régional du Pays de Hanau. Suite à un grand chantier des collections\, le musée vous propose d’explorer les multiples facettes du costume\, de découvrir les pièces qui le composent\, son évolution ou encore ses différentes représentations. \nDurée : 1h \nTarif : Entrée du Musée \nPlaces limitées. Réservation obligatoire au 03 88 00 38 39 ou contact@museedupaysdehanau.eu
URL:https://bouxwiller.eu/event/visite-guidee-de-lexposition-costumes-et-images-dalsace-se-vetir-en-pays-de-hanau-3/
LOCATION:Musée du Pays de Hanau\, 3 place du Château\, BOUXWILLER\, 67330\, France
ATTACH;FMTTYPE=image/jpeg:https://bouxwiller.eu/wp-content/uploads/2026/02/17-05-26-VG-expo-en-alsacien-photo-Musee-du-Pays-de-Hanau--scaled.jpg
END:VEVENT
BEGIN:VEVENT
DTSTART;TZID=Europe/Paris:20260827T143000
DTEND;TZID=Europe/Paris:20260827T143000
DTSTAMP:20260423T105911
CREATED:20260202T134212Z
LAST-MODIFIED:20260202T134212Z
UID:24648-1787841000-1787841000@bouxwiller.eu
SUMMARY:Visite guidée de l’exposition « Costumes et Images d’Alsace\, se vêtir en pays de Hanau »
DESCRIPTION:Accompagnés d’un guide du musée\, parcourez l’exposition temporaire consacrée au costume régional du Pays de Hanau. Suite à un grand chantier des collections\, le musée vous propose d’explorer les multiples facettes du costume\, de découvrir les pièces qui le composent\, son évolution ou encore ses différentes représentations. \nDurée : 1h \nTarif : Entrée du Musée \nPlaces limitées. Réservation obligatoire au 03 88 00 38 39 ou contact@museedupaysdehanau.eu
URL:https://bouxwiller.eu/event/visite-guidee-de-lexposition-costumes-et-images-dalsace-se-vetir-en-pays-de-hanau-4/
LOCATION:Musée du Pays de Hanau\, 3 place du Château\, BOUXWILLER\, 67330\, France
ATTACH;FMTTYPE=image/jpeg:https://bouxwiller.eu/wp-content/uploads/2026/02/17-05-26-VG-expo-en-alsacien-photo-Musee-du-Pays-de-Hanau--scaled.jpg
END:VEVENT
BEGIN:VEVENT
DTSTART;TZID=Europe/Paris:20260903T143000
DTEND;TZID=Europe/Paris:20260903T143000
DTSTAMP:20260423T105911
CREATED:20260202T134249Z
LAST-MODIFIED:20260202T134249Z
UID:24650-1788445800-1788445800@bouxwiller.eu
SUMMARY:Visite guidée de l’exposition « Costumes et Images d’Alsace\, se vêtir en pays de Hanau »
DESCRIPTION:Accompagnés d’un guide du musée\, parcourez l’exposition temporaire consacrée au costume régional du Pays de Hanau. Suite à un grand chantier des collections\, le musée vous propose d’explorer les multiples facettes du costume\, de découvrir les pièces qui le composent\, son évolution ou encore ses différentes représentations. \nDurée : 1h \nTarif : Entrée du Musée \nPlaces limitées. Réservation obligatoire au 03 88 00 38 39 ou contact@museedupaysdehanau.eu
URL:https://bouxwiller.eu/event/visite-guidee-de-lexposition-costumes-et-images-dalsace-se-vetir-en-pays-de-hanau-5/
LOCATION:Musée du Pays de Hanau\, 3 place du Château\, BOUXWILLER\, 67330\, France
ATTACH;FMTTYPE=image/jpeg:https://bouxwiller.eu/wp-content/uploads/2026/02/17-05-26-VG-expo-en-alsacien-photo-Musee-du-Pays-de-Hanau--scaled.jpg
END:VEVENT
BEGIN:VEVENT
DTSTART;VALUE=DATE:20260919
DTEND;VALUE=DATE:20260921
DTSTAMP:20260423T105911
CREATED:20260202T135000Z
LAST-MODIFIED:20260202T135000Z
UID:24652-1789776000-1789948799@bouxwiller.eu
SUMMARY:Journées européennes du Patrimoine - Visite libre du Musée du Pays de Hanau
DESCRIPTION:Visite libre du Musée du Pays de Hanau \n(Re)découvrez le Musée du Pays de Hanau qui présente l’histoire\, l’environnement et les arts et traditions populaires du territoire\, dans un magnifique ensemble architectural des XIVe et XVIe siècle. Un parcours de visite immersif et familial vous est proposé afin de découvrir cette région unique\, berceau de la coiffe noire à grand nœud et du bretzel. \nEntrée du Musée gratuite\, pour tous. \nSur horaires du Musée : 14h-18h.
URL:https://bouxwiller.eu/event/journees-europeennes-du-patrimoine-visite-libre-du-musee-du-pays-de-hanau/
LOCATION:Musée du Pays de Hanau\, 3 place du Château\, BOUXWILLER\, 67330\, France
ATTACH;FMTTYPE=image/jpeg:https://bouxwiller.eu/wp-content/uploads/2026/02/VG-expo-costume-photo-Musee-du-Pays-de-Hanau--scaled.jpg
END:VEVENT
BEGIN:VEVENT
DTSTART;TZID=Europe/Paris:20260924T170000
DTEND;TZID=Europe/Paris:20260924T190000
DTSTAMP:20260423T105911
CREATED:20251230T135200Z
LAST-MODIFIED:20251230T135200Z
UID:24235-1790269200-1790276400@bouxwiller.eu
SUMMARY:Café parents : droits et devoirs des ados
DESCRIPTION:
URL:https://bouxwiller.eu/event/cafe-parents-droits-et-devoirs-des-ados/
LOCATION:Périscolaire de Bouxwiller\, 4 route de Babenhausen\, Bouxwiller\, 67330\, France
END:VEVENT
BEGIN:VEVENT
DTSTART;TZID=Europe/Paris:20261004T150000
DTEND;TZID=Europe/Paris:20261004T150000
DTSTAMP:20260423T105911
CREATED:20260202T135824Z
LAST-MODIFIED:20260202T135824Z
UID:24655-1791126000-1791126000@bouxwiller.eu
SUMMARY:Les coulisses de l’exposition « Costumes et Images d’Alsace\, se vêtir en pays de Hanau »
DESCRIPTION:Par Gaëlle Rybienik\, commissaire d’exposition\nAccompagnés de la commissaire de l’exposition\, la visite vous propose de découvrir les enjeux derrière la coordination d’une exposition : choix des œuvres\, scénario de visite\, lien avec le chantier des collections… Venez découvrir l’envers du décor et des informations inédites sur les pièces exposées ou les liens avec la scénographie. \nDurée : 1h\nTarif : Entrée du Musée\nPlaces limitées. Réservation obligatoire au 03 88 00 38 39 ou contact@museedupaysdehanau.eu
URL:https://bouxwiller.eu/event/les-coulisses-de-lexposition-costumes-et-images-dalsace-se-vetir-en-pays-de-hanau/
LOCATION:Musée du Pays de Hanau\, 3 place du Château\, BOUXWILLER\, 67330\, France
ATTACH;FMTTYPE=image/jpeg:https://bouxwiller.eu/wp-content/uploads/2026/02/04-10-25-visite-guidee-Gaelle-Rybienik-scaled.jpg
END:VEVENT
BEGIN:VEVENT
DTSTART;TZID=Europe/Paris:20261011T140000
DTEND;TZID=Europe/Paris:20261011T170000
DTSTAMP:20260423T105911
CREATED:20260202T141250Z
LAST-MODIFIED:20260202T141250Z
UID:24658-1791727200-1791738000@bouxwiller.eu
SUMMARY:Broder un patch fleuri – Atelier de broderie contemporaine
DESCRIPTION:Par Claire Barberot\, brodeuse\nDécouvrez la broderie avec Claire Barberot. Vous réaliserez un patch orné de motifs floraux\, à emporter et coudre ensuite chez vous sur un vêtement ou un accessoire\, pour le réparer ou lui apporter une touche unique.\nLes débutants sont les bienvenus ! \nTarif : 10€ par personne\nPublic : Adultes et adolescents à partir de 14 ans\nPlaces limitées. Réservation obligatoire au 03 88 00 38 39 ou contact@museedupaysdehanau.eu
URL:https://bouxwiller.eu/event/broder-un-patch-fleuri-atelier-de-broderie-contemporaine/
LOCATION:Musée du Pays de Hanau\, 3 place du Château\, BOUXWILLER\, 67330\, France
ATTACH;FMTTYPE=image/jpeg:https://bouxwiller.eu/wp-content/uploads/2026/02/11-10-25-Brodez-votre-patch-fleuri-photo-Claire-Barberot-scaled.jpg
END:VEVENT
BEGIN:VEVENT
DTSTART;TZID=Europe/Paris:20261014T100000
DTEND;TZID=Europe/Paris:20261014T104500
DTSTAMP:20260423T105911
CREATED:20260202T141531Z
LAST-MODIFIED:20260202T141531Z
UID:24662-1791972000-1791974700@bouxwiller.eu
SUMMARY:Visite contée de l’exposition « Les petits habits de Joseph »
DESCRIPTION:Ecoutez le conte « Joseph avait un petit manteau » et explorez l’exposition sur le costume régional. Les enfants découvriront le vocabulaire lié au costume régional de fête de Pays de Hanau. \nTarif : Gratuit pour les enfants et prix de l’entrée du musée pour les parents\nDurée : 45 min\nPublic : enfants de 4 à 6 ans et adapté au public en situation de handicap mental\nProposé dans le cadre de la programmation Éveil des sens\nPlaces limitées. Réservations obligatoires au 03 88 00 38 39 ou contact@museedupaysdehanau.eu
URL:https://bouxwiller.eu/event/visite-contee-de-lexposition-les-petits-habits-de-joseph/
LOCATION:Musée du Pays de Hanau\, 3 place du Château\, BOUXWILLER\, 67330\, France
ATTACH;FMTTYPE=image/jpeg:https://bouxwiller.eu/wp-content/uploads/2026/02/14-10-26-Laura-Neves-23-scaled.jpg
END:VEVENT
BEGIN:VEVENT
DTSTART;TZID=Europe/Paris:20261021T100000
DTEND;TZID=Europe/Paris:20261021T110000
DTSTAMP:20260423T105911
CREATED:20260202T142251Z
LAST-MODIFIED:20260202T142251Z
UID:24665-1792576800-1792580400@bouxwiller.eu
SUMMARY:Visite contée de l’exposition « Des costumes hauts en couleur »
DESCRIPTION:Ecoutez le conte « Les habits neufs de l’Empereur » puis explorez l’exposition sur le costume régional. Les enfants observeront la diversité des matières\, des couleurs et des motifs présents sur les textiles anciens. \nTarif : Gratuit pour les enfants et prix de l’entrée du musée pour les parents\nDurée : 1h\nPublic : enfants de 7 à 10 ans\nProposé dans le cadre de la programmation Éveil des sens\nPlaces limitées. Réservations obligatoires au 03 88 00 38 39 ou contact@museedupaysdehanau.eu
URL:https://bouxwiller.eu/event/visite-contee-de-lexposition-des-costumes-hauts-en-couleur/
LOCATION:Musée du Pays de Hanau\, 3 place du Château\, BOUXWILLER\, 67330\, France
ATTACH;FMTTYPE=image/jpeg:https://bouxwiller.eu/wp-content/uploads/2026/02/21-10-26-visite-contee-Photo-Melanie-Le-Hir-scaled.jpg
END:VEVENT
BEGIN:VEVENT
DTSTART;TZID=Europe/Paris:20261025T150000
DTEND;TZID=Europe/Paris:20261025T150000
DTSTAMP:20260423T105911
CREATED:20260202T142900Z
LAST-MODIFIED:20260202T142900Z
UID:24668-1792940400-1792940400@bouxwiller.eu
SUMMARY:Conférence Textiles en Pays de Hanau\, les enjeux d'une collection de costumes
DESCRIPTION:Par Gaëlle Rybienik attachée de conservation au Parc naturel régional des Vosges du Nord\nComment un musée de société étudie et présente une collection vestimentaire ? L’exploration s’intéressera à l’histoire des collections bouxwilleroise et au récent chantier d’étude\, offrant l’occasion de présenter plusieurs chefs d’œuvres redécouverts. Une part belle sera donnée aux témoignages anciens cachés sous les étoffes ou à ceux portés par la création contemporaine. \nTarif : Entrée du Musée\nPlaces limitées. Réservation obligatoire au 03 88 00 38 39 ou contact@museedupaysdehanau.eu
URL:https://bouxwiller.eu/event/conference-textiles-en-pays-de-hanau-les-enjeux-dune-collection-de-costumes/
LOCATION:Musée du Pays de Hanau\, 3 place du Château\, BOUXWILLER\, 67330\, France
ATTACH;FMTTYPE=image/jpeg:https://bouxwiller.eu/wp-content/uploads/2026/02/25-10-25-conference-Photo-Melanie-Le-Hir-scaled.jpg
END:VEVENT
BEGIN:VEVENT
DTSTART;VALUE=DATE:20261211
DTEND;VALUE=DATE:20261214
DTSTAMP:20260423T105911
CREATED:20260127T150933Z
LAST-MODIFIED:20260127T150933Z
UID:24525-1796947200-1797206399@bouxwiller.eu
SUMMARY:Marché de Noël - Noël au Pays de Hanau 35e édition
DESCRIPTION:
URL:https://bouxwiller.eu/event/marche-de-noel-noel-au-pays-de-hanau-35e-edition/
LOCATION:Bouxwiller
ATTACH;FMTTYPE=image/png:https://bouxwiller.eu/wp-content/uploads/2026/01/Noel-au-Pays-de-Hanau-FacebookInstagram-13.png
END:VEVENT
END:VCALENDAR