BEGIN:VCALENDAR
VERSION:2.0
PRODID:-//Mairie de Bouxwiller - ECPv6.15.18//NONSGML v1.0//EN
CALSCALE:GREGORIAN
METHOD:PUBLISH
X-WR-CALNAME:Mairie de Bouxwiller
X-ORIGINAL-URL:https://bouxwiller.eu
X-WR-CALDESC:Évènements pour Mairie de Bouxwiller
REFRESH-INTERVAL;VALUE=DURATION:PT1H
X-Robots-Tag:noindex
X-PUBLISHED-TTL:PT1H
BEGIN:VTIMEZONE
TZID:Europe/Paris
BEGIN:DAYLIGHT
TZOFFSETFROM:+0100
TZOFFSETTO:+0200
TZNAME:CEST
DTSTART:20180325T010000
END:DAYLIGHT
BEGIN:STANDARD
TZOFFSETFROM:+0200
TZOFFSETTO:+0100
TZNAME:CET
DTSTART:20181028T010000
END:STANDARD
BEGIN:DAYLIGHT
TZOFFSETFROM:+0100
TZOFFSETTO:+0200
TZNAME:CEST
DTSTART:20190331T010000
END:DAYLIGHT
BEGIN:STANDARD
TZOFFSETFROM:+0200
TZOFFSETTO:+0100
TZNAME:CET
DTSTART:20191027T010000
END:STANDARD
BEGIN:DAYLIGHT
TZOFFSETFROM:+0100
TZOFFSETTO:+0200
TZNAME:CEST
DTSTART:20200329T010000
END:DAYLIGHT
BEGIN:STANDARD
TZOFFSETFROM:+0200
TZOFFSETTO:+0100
TZNAME:CET
DTSTART:20201025T010000
END:STANDARD
END:VTIMEZONE
BEGIN:VEVENT
DTSTART;VALUE=DATE:20190301
DTEND;VALUE=DATE:20190302
DTSTAMP:20260421T003403
CREATED:20190204T154045Z
LAST-MODIFIED:20190204T154045Z
UID:8826-1551398400-1551484799@bouxwiller.eu
SUMMARY:Soirée Aquazen
DESCRIPTION:
URL:https://bouxwiller.eu/event/soiree-aquazen/
LOCATION:Piscine de Bouxwiller\, Route de Babenhausen\, Bouxwiller\, 67330\, France
ATTACH;FMTTYPE=image/jpeg:https://bouxwiller.eu/wp-content/uploads/2019/02/Soirée-aquazen-1er-mars-e1549294834113.jpg
END:VEVENT
BEGIN:VEVENT
DTSTART;VALUE=DATE:20190301
DTEND;VALUE=DATE:20190302
DTSTAMP:20260421T003403
CREATED:20190222T074836Z
LAST-MODIFIED:20190222T083115Z
UID:8898-1551398400-1551484799@bouxwiller.eu
SUMMARY:Atelier Baobab à Hanautic
DESCRIPTION:
URL:https://bouxwiller.eu/event/atelier-baobab-a-hanautic/
LOCATION:Piscine de Bouxwiller\, Route de Babenhausen\, Bouxwiller\, 67330\, France
ATTACH;FMTTYPE=image/jpeg:https://bouxwiller.eu/wp-content/uploads/2019/02/20190221-Service-petite-enfance-RAM-Atelier-Baobab-Hanautic-e1550821686400.jpg
END:VEVENT
BEGIN:VEVENT
DTSTART;TZID=Europe/Paris:20190302T140000
DTEND;TZID=Europe/Paris:20190303T180000
DTSTAMP:20260421T003403
CREATED:20190204T112458Z
LAST-MODIFIED:20190204T112458Z
UID:8731-1551535200-1551636000@bouxwiller.eu
SUMMARY:Concours du plus beau déguisement
DESCRIPTION:Entrée du musée gratuite pour tous les enfants déguisés \nRedécouvrez le musée en famille ! Juste avant mardi gras qui clôture la période des carnavals\, emmenez vos enfants visiter le musée\, apprêtés de leur plus beau costume. Ils auront l’entrée gratuite et seront même photographiés à l’accueil !\nL’enfant qui sera élu « meilleur costume 2019 » gagnera un lot cadeau provenant de la boutique du musée ! \n  \nJusqu’à 16 ans.\nRenseignements au 03 88 00 38 39 ou contact@museedupaysdehanau.eu
URL:https://bouxwiller.eu/event/concours-du-plus-beau-deguisement/
LOCATION:Musée du Pays de Hanau\, 3 place du Château\, BOUXWILLER\, 67330\, France
ATTACH;FMTTYPE=image/jpeg:https://bouxwiller.eu/wp-content/uploads/2019/02/2-3mars_copyright_museedupaysdehanau_3-e1549279482845.jpg
ORGANIZER;CN="Mus%C3%A9e du Pays de Hanau":MAILTO:contact@museedupaysdehanau.eu
END:VEVENT
BEGIN:VEVENT
DTSTART;VALUE=DATE:20190303
DTEND;VALUE=DATE:20190304
DTSTAMP:20260421T003403
CREATED:20190204T142210Z
LAST-MODIFIED:20190204T142210Z
UID:8800-1551571200-1551657599@bouxwiller.eu
SUMMARY:Carnaval des enfants
DESCRIPTION:
URL:https://bouxwiller.eu/event/carnaval-des-enfants-3/
LOCATION:Centre Culturel\, 5 place du Château\, BOUXWILLER\, 67330\, France
ATTACH;FMTTYPE=image/jpeg:https://bouxwiller.eu/wp-content/uploads/2019/02/Carnaval-des-enfants-3mars-e1549290094881.jpg
END:VEVENT
BEGIN:VEVENT
DTSTART;TZID=Europe/Paris:20190303T150000
DTEND;TZID=Europe/Paris:20190303T170000
DTSTAMP:20260421T003403
CREATED:20190204T112744Z
LAST-MODIFIED:20190204T112744Z
UID:8734-1551625200-1551632400@bouxwiller.eu
SUMMARY:Atelier de découverte de l’écriture de l’alsacien
DESCRIPTION:« Bàuim\, Baum\, Baam\, Bààm\, Bœm… ? »\nMais comment écrivez-vous le mot « arbre »\, en alsacien ?\navec la linguiste Danielle Crévenat-Werner \nL’alsacien\, langue régionale\, se parle très différemment d’un secteur à l’autre\, voire d’un village à l’autre !\nVenez percer ces mystères et découvrir\, lors d’un atelier convivial autour d’un Kaffeekränzel\, les différences entre l’alsacien du Bas-Rhin et du Haut-Rhin.\nÉcrire les mots alsaciens\, découvrir leur origine\, et celle de nos expressions\, comparer leurs variantes géolinguistiques\, observer les contextes dans lesquels nous les utilisons\, c’est une joie quotidienne pour Danielle Crévenat-Werner.\nLinguiste et spécialiste de l’alsacien\, cette dernière enseigne l’alsacien et écrit à différentes instances et notamment à l’OLCA (l’Office pour la Langue et la Culture en Alsace). \n  \nDurée : 2 heures\nAnimation gratuite\nRéservations au 03 88 00 38 39 ou contact@museedupaysdehanau.eu
URL:https://bouxwiller.eu/event/atelier-de-decouverte-de-lecriture-de-lalsacien/
LOCATION:Musée du Pays de Hanau\, 3 place du Château\, BOUXWILLER\, 67330\, France
ATTACH;FMTTYPE=image/jpeg:https://bouxwiller.eu/wp-content/uploads/2019/02/3_mars_copyright_museedupaysdehanau-e1549279591154.jpg
ORGANIZER;CN="Mus%C3%A9e du Pays de Hanau":MAILTO:contact@museedupaysdehanau.eu
END:VEVENT
BEGIN:VEVENT
DTSTART;TZID=Europe/Paris:20190303T170000
DTEND;TZID=Europe/Paris:20190303T180000
DTSTAMP:20260421T003403
CREATED:20190204T113149Z
LAST-MODIFIED:20190222T071051Z
UID:8737-1551632400-1551636000@bouxwiller.eu
SUMMARY:Concert d'orgue
DESCRIPTION:  \nAu profit de la rénovation de l’orgue Spamann de Niedersoultzbach. \n 
URL:https://bouxwiller.eu/event/concert-dorgue-3/
LOCATION:Eglise Protestante\, rue de l'Eglise\, BOUXWILLER\, 67330\, France
ATTACH;FMTTYPE=image/jpeg:https://bouxwiller.eu/wp-content/uploads/2019/02/affiche_von_blohn-3-mars-e1550819409858.jpg
END:VEVENT
BEGIN:VEVENT
DTSTART;TZID=Europe/Paris:20190308T200000
DTEND;TZID=Europe/Paris:20190308T220000
DTSTAMP:20260421T003403
CREATED:20190213T103004Z
LAST-MODIFIED:20190213T103004Z
UID:8857-1552075200-1552082400@bouxwiller.eu
SUMMARY:Atelier "Frères et sœurs sans rivalité"
DESCRIPTION:
URL:https://bouxwiller.eu/event/atelier-freres-et-soeurs-sans-rivalite/
LOCATION:Foyer Protestant
ATTACH;FMTTYPE=image/jpeg:https://bouxwiller.eu/wp-content/uploads/2019/02/aff-ateliers-frères-et-soeurs-8-mars-e1550053780901.jpg
END:VEVENT
BEGIN:VEVENT
DTSTART;TZID=Europe/Paris:20190308T203000
DTEND;TZID=Europe/Paris:20190308T213000
DTSTAMP:20260421T003403
CREATED:20190204T112200Z
LAST-MODIFIED:20190206T091822Z
UID:8729-1552077000-1552080600@bouxwiller.eu
SUMMARY:Théâtre "La ferme des animaux"
DESCRIPTION:Un jour de grande famine\, et lassés par les mauvais traitements qu’ils subissent\, les animaux de « La Ferme des Jones » se révoltent et chassent leur maître de son domaine qu’ils rebaptisent pour l’occasion « La Ferme des animaux ».\nLes animaux se libèrent ainsi de l’oppression et prennent le pouvoir. Ils établiront dès lors les lois qui régiront la République des Animaux.\nNous assistons alors à la vie de cette nouvelle société fraîchement constituée… Comment les nouveaux pouvoirs vont être distribués ? Quelle nouvelle hiérarchie sera établie ?\nEt quelles en seront les conséquences ?\nDans ce roman que la Compagnie Les Ombres des Soirs adapte au théâtre\, George Orwell décortique les rouages de l’accession au pouvoir pour en dénoncer l’instrumentalisation.\nAu fil de l’histoire\, il met en lumière les mécanismes de l’asservissement progressif du peuple pour éveiller notre conscience et nous tenir alertes quant à notre situation\, notre place et notre rôle dans la société. Il montre à quel point le pouvoir peut corrompre l’individu\, le mener à sa chute et celle de toute une société. \n  \nSpectacle par Les ombres des soirs / Youssouf ABI-AYAD
URL:https://bouxwiller.eu/event/theatre-la-ferme-des-animaux/
LOCATION:Centre Culturel\, 5 place du Château\, BOUXWILLER\, 67330\, France
ATTACH;FMTTYPE=image/jpeg:https://bouxwiller.eu/wp-content/uploads/2018/02/Logo-Picto-MAG-Cercle-ne¦ügatif-petit-e1519289185442.jpg
END:VEVENT
BEGIN:VEVENT
DTSTART;VALUE=DATE:20190310
DTEND;VALUE=DATE:20190311
DTSTAMP:20260421T003403
CREATED:20190215T094218Z
LAST-MODIFIED:20190215T094218Z
UID:8870-1552176000-1552262399@bouxwiller.eu
SUMMARY:Cours de taille
DESCRIPTION:Avec Freddy RICHERT – RDV à 9h à la mairie d’Imbsheim !
URL:https://bouxwiller.eu/event/cours-de-taille-10/
LOCATION:Imbsheim
ATTACH;FMTTYPE=image/jpeg:https://bouxwiller.eu/wp-content/uploads/2017/02/taille-palisse-fm-l720-h512-e1487585706168.jpg
END:VEVENT
BEGIN:VEVENT
DTSTART;TZID=Europe/Paris:20190310T143000
DTEND;TZID=Europe/Paris:20190310T163000
DTSTAMP:20260421T003403
CREATED:20190204T124804Z
LAST-MODIFIED:20190204T124804Z
UID:8739-1552228200-1552235400@bouxwiller.eu
SUMMARY:Atelier parent-enfant « Apprenti designer »
DESCRIPTION:À partir de 6 ans \nEn famille\, mettez-vous dans la peau d’un designer et comprenez comment allier beauté et utilité dans un même objet. Découvrez comment manipuler l’argile\, une matière très agréable au toucher et facilement malléable\, pour repartir ensuite avec une création familiale : un vase design ! \n  \nDans le cadre de l’exposition temporaire « Design et savoir-faire » présentée au musée jusqu’au 20 avril.\nTarif : 5€/personne (comprend l’entrée du Musée) + Goûter offert – Durée : 2h\nPlaces limitées. Réservations au 03 88 00 38 39 ou contact@museedupaysdehanau.eu
URL:https://bouxwiller.eu/event/atelier-parent-enfant-apprenti-designer/
LOCATION:Musée du Pays de Hanau\, 3 place du Château\, BOUXWILLER\, 67330\, France
ATTACH;FMTTYPE=image/jpeg:https://bouxwiller.eu/wp-content/uploads/2019/02/10_mars_-copyright_museedupaysdehanau-e1549284364815.jpg
ORGANIZER;CN="Mus%C3%A9e du Pays de Hanau":MAILTO:contact@museedupaysdehanau.eu
END:VEVENT
BEGIN:VEVENT
DTSTART;TZID=Europe/Paris:20190312T200000
DTEND;TZID=Europe/Paris:20190312T220000
DTSTAMP:20260421T003403
CREATED:20190204T125105Z
LAST-MODIFIED:20190208T074641Z
UID:8742-1552420800-1552428000@bouxwiller.eu
SUMMARY:Voyage au pays de la foi
DESCRIPTION:  \nDans nos vies si pressées\, ne serait-il pas temps de faire une pause\, de réfléchir au sens de notre vie ? Que vous soyez engagé-e dans la foi ou en recherche de sens\, sceptique\, en attente ou juste curieux -se : ce voyage est pour vous ! \n  \nEntrée libre.\nAutres dates du parcours : 13\, 14\, 19\, 20 et 21 mars
URL:https://bouxwiller.eu/event/voyage-au-pays-de-la-foi/
LOCATION:Eglise Protestante\, rue de l'Eglise\, BOUXWILLER\, 67330\, France
ATTACH;FMTTYPE=image/jpeg:https://bouxwiller.eu/wp-content/uploads/2019/02/Voyage-au-Pays-de-la-Foi-AfficheA4-e1549611908515.jpg
END:VEVENT
BEGIN:VEVENT
DTSTART;VALUE=DATE:20190316
DTEND;VALUE=DATE:20190317
DTSTAMP:20260421T003403
CREATED:20190305T160619Z
LAST-MODIFIED:20190305T160619Z
UID:8929-1552694400-1552780799@bouxwiller.eu
SUMMARY:Rencontre et dédicace avec Raymond Bitsch
DESCRIPTION:
URL:https://bouxwiller.eu/event/rencontre-et-dedicace-avec-raymond-bitsch/
ATTACH;FMTTYPE=image/jpeg:https://bouxwiller.eu/wp-content/uploads/2019/03/Dédicace-Lilebul-e1551801967690.jpg
END:VEVENT
BEGIN:VEVENT
DTSTART;TZID=Europe/Paris:20190316T100000
DTEND;TZID=Europe/Paris:20190316T120000
DTSTAMP:20260421T003403
CREATED:20190204T130344Z
LAST-MODIFIED:20190204T130344Z
UID:8747-1552730400-1552737600@bouxwiller.eu
SUMMARY:Cercle de parole
DESCRIPTION:Issu de la tradition amérindienne et inspiré également de Carl Rogers\, il consiste à s’asseoir en cercle à plusieurs avec un bâton de parole. Un facilitateur accompagne les échanges grâce au processus de communication non violente (écoute\, communication\, non jugement\, confidentialité…). 15€ sur inscription (petit budget\, parlons-en et trouvons une solution).
URL:https://bouxwiller.eu/event/cercle-de-parole/
LOCATION:Utopia\, 26 Grand'Rue\, Bouxwiller\, 67330\, France
ATTACH;FMTTYPE=image/jpeg:https://bouxwiller.eu/wp-content/uploads/2019/02/logo-e1549285013389.jpg
ORGANIZER;CN="Association Shanti":MAILTO:emilie.belfort@yahoo.fr
END:VEVENT
BEGIN:VEVENT
DTSTART;VALUE=DATE:20190317
DTEND;VALUE=DATE:20190318
DTSTAMP:20260421T003403
CREATED:20190204T130810Z
LAST-MODIFIED:20190204T130810Z
UID:8756-1552780800-1552867199@bouxwiller.eu
SUMMARY:Bourse aux vêtements
DESCRIPTION:
URL:https://bouxwiller.eu/event/bourse-aux-vetements-6/
LOCATION:Centre Culturel\, 5 place du Château\, BOUXWILLER\, 67330\, France
ATTACH;FMTTYPE=image/jpeg:https://bouxwiller.eu/wp-content/uploads/2019/02/bourse-aux-vetements-jouets-et-puericulture-a-boux-68553-600-600-F-2.jpg
END:VEVENT
BEGIN:VEVENT
DTSTART;VALUE=DATE:20190317
DTEND;VALUE=DATE:20190318
DTSTAMP:20260421T003403
CREATED:20190312T140731Z
LAST-MODIFIED:20190312T140731Z
UID:8941-1552780800-1552867199@bouxwiller.eu
SUMMARY:Visite guidée au Musée Judéo-Alsacien
DESCRIPTION:A partir de 15 h\, Dorah Husselstein se propose de vous faire découvrir l’histoire et la culture des Juifs d’Alsace à travers des présentations originales et variées\, qui vont de la reconstitution des scènes en grandeur réelle ou miniaturisée dans le différentes salles du Musée. \n  \nDurée de la visite\, 1h30 à 2h.
URL:https://bouxwiller.eu/event/visite-guidee-au-musee-judeo-alsacien/
LOCATION:Musée Judéo-Alsacien\, 62 Grand'Rue\, Bouxwiller\, 67300
ATTACH;FMTTYPE=image/jpeg:https://bouxwiller.eu/wp-content/uploads/2017/11/Bouxwiller-synagogue-e1511880941638.jpg
END:VEVENT
BEGIN:VEVENT
DTSTART;TZID=Europe/Paris:20190317T143000
DTEND;TZID=Europe/Paris:20190317T173000
DTSTAMP:20260421T003403
CREATED:20190204T130548Z
LAST-MODIFIED:20190204T130548Z
UID:8753-1552833000-1552843800@bouxwiller.eu
SUMMARY:Atelier pour adultes : Ce pouf ? C’est moi qui l’ai fait !
DESCRIPTION:Jugaad est un terme hindi qui « désigne le fait d’improviser des solutions efficaces à partir de ressources très limitées\, en somme\, de faire plus avec moins. »\nC’est dans cet esprit que vous réaliserez un petit siège en matériaux recyclés.\nLa structure en matériaux écologiques est une invention de Cécile Mairet\, créatrice en tapisserie de siège\, basée à Tieffenbach.\nLes poufs seront recouverts de coupons de tissus d’ameublement de marques accumulées et collectées auprès d’éditeurs renommés. Pourquoi ? Pour faire mieux avec moins en vous montrant la voie vers la création simplifiée et efficace ! Pour passer un moment agréable entre nous\, mais surtout pour vous faire plaisir ! » \n  \nLe tarif comprend la prestation de l’animatrice et tout le matériel nécessaire pour la réalisation d’un pouf. Chaque participant sera invité\, s’il le souhaite\, à apporter son propre tissu pour créer un objet très personnalisé.\nTarif : 45€ / personne – Durée : 3h\nPlaces limitées. Réservations au 03 88 00 38 39 ou contact@museedupaysdehanau.eu
URL:https://bouxwiller.eu/event/atelier-pour-adultes-ce-pouf-cest-moi-qui-lai-fait/
LOCATION:Musée du Pays de Hanau\, 3 place du Château\, BOUXWILLER\, 67330\, France
ATTACH;FMTTYPE=image/jpeg:https://bouxwiller.eu/wp-content/uploads/2019/02/17mars-et-7-avril_copyright-Cecile-Mairet_2-e1549285527148.jpg
ORGANIZER;CN="Mus%C3%A9e du Pays de Hanau":MAILTO:contact@museedupaysdehanau.eu
END:VEVENT
BEGIN:VEVENT
DTSTART;TZID=Europe/Paris:20190323T203000
DTEND;TZID=Europe/Paris:20190323T220000
DTSTAMP:20260421T003403
CREATED:20190204T131136Z
LAST-MODIFIED:20190204T131136Z
UID:8759-1553373000-1553378400@bouxwiller.eu
SUMMARY:Danse contemporaine "Silent Poets"
DESCRIPTION:Avec EZ3 / Ezio SCHIAVULLI.
URL:https://bouxwiller.eu/event/danse-contemporaine-silent-poets/
LOCATION:Théâtre Christiane Stroë\, 5 place du Château\, BOUXWILLER\, 67330\, France
ATTACH;FMTTYPE=image/jpeg:https://bouxwiller.eu/wp-content/uploads/2018/02/Logo-Picto-MAG-Cercle-ne¦ügatif-petit-e1519289185442.jpg
END:VEVENT
BEGIN:VEVENT
DTSTART;TZID=Europe/Paris:20190324T143000
DTEND;TZID=Europe/Paris:20190324T173000
DTSTAMP:20260421T003403
CREATED:20190204T131622Z
LAST-MODIFIED:20190204T131622Z
UID:8761-1553437800-1553448600@bouxwiller.eu
SUMMARY:Atelier pour adultes : Une idée en carton !
DESCRIPTION:Découvrez les techniques de fabrication de meubles en carton en compagnie de Mélanie Le Hir\, chargée de pédagogie. Vous apprendrez à construire vous-même vos commodes\, votre table de nuit ou même votre bibliothèque en toute simplicité et sans mettre à mal votre porte-monnaie ! \nTarif : 5€ (comprenant l’entrée du musée)\nDurée : 3h\nPlaces limitées. Réservations au 03 88 00 38 39 ou contact@museedupaysdehanau.eu
URL:https://bouxwiller.eu/event/atelier-pour-adultes-une-idee-en-carton-2/
LOCATION:Musée du Pays de Hanau\, 3 place du Château\, BOUXWILLER\, 67330\, France
ATTACH;FMTTYPE=image/jpeg:https://bouxwiller.eu/wp-content/uploads/2019/02/24_mars-BD_copyright_museedupaysdehanau-e1549286154501.jpg
ORGANIZER;CN="Mus%C3%A9e du Pays de Hanau":MAILTO:contact@museedupaysdehanau.eu
END:VEVENT
BEGIN:VEVENT
DTSTART;VALUE=DATE:20190326
DTEND;VALUE=DATE:20190327
DTSTAMP:20260421T003403
CREATED:20190318T110913Z
LAST-MODIFIED:20190318T110913Z
UID:8963-1553558400-1553644799@bouxwiller.eu
SUMMARY:Randonnée avec le Club Vosgien
DESCRIPTION:Mardi 26 mars\n\n\nLe Club Vosgien propose une randonnée d’une journée : “De l’héliodome de Cosswiller au village de Wangen”. \n\n\n \n\n\nDistance : 18 km\n\n\nDénivelé : 450 m\n\n\nDurée : 6h30\n\n\nRando niveau 3\n\n\nRepas et boissons tirés du sac. \n\n\n \n\n\nDépart : 8h30 à Bouxwiller parking Salle Pierre de Coubertin ou 9 h à Cosswiller\, parking de l’héliodome. Covoiturage : 3\,—€\n\n\nRenseignements et guide : \n\n\nPaul Selig – 03.88.70.93.36
URL:https://bouxwiller.eu/event/randonnee-avec-le-club-vosgien-17/
LOCATION:Parking Coubertin\, rue Babenhausen\, Bouxwiller\, 67330\, France
ATTACH;FMTTYPE=image/jpeg:https://bouxwiller.eu/wp-content/uploads/2019/03/cv-e1552907346506.jpg
END:VEVENT
BEGIN:VEVENT
DTSTART;VALUE=DATE:20190326
DTEND;VALUE=DATE:20190327
DTSTAMP:20260421T003403
CREATED:20190319T141759Z
LAST-MODIFIED:20190319T141815Z
UID:8978-1553558400-1553644799@bouxwiller.eu
SUMMARY:Marché des artisans producteurs - 1er anniversaire !
DESCRIPTION:
URL:https://bouxwiller.eu/event/marche-de-printemps-1er-anniversaire/
LOCATION:Place de l’Orangerie
ATTACH;FMTTYPE=image/jpeg:https://bouxwiller.eu/wp-content/uploads/2019/03/MAP_Fête-1er-anniversaire_26-mars-20192-e1553005051987.jpg
ORGANIZER;CN="Ville de Bouxwiller":MAILTO:mairie@bouxwiller.eu
END:VEVENT
BEGIN:VEVENT
DTSTART;TZID=Europe/Paris:20190330T140000
DTEND;TZID=Europe/Paris:20190330T160000
DTSTAMP:20260421T003403
CREATED:20190204T132152Z
LAST-MODIFIED:20190204T132152Z
UID:8764-1553954400-1553961600@bouxwiller.eu
SUMMARY:Cours de taille
DESCRIPTION:
URL:https://bouxwiller.eu/event/cours-de-taille-8/
LOCATION:École élémentaire\, 1A rue des Mines\, Bouxwiller\, 67330\, France
ATTACH;FMTTYPE=image/jpeg:https://bouxwiller.eu/wp-content/uploads/2017/02/taille-palisse-fm-l720-h512-e1487585706168.jpg
END:VEVENT
BEGIN:VEVENT
DTSTART;TZID=Europe/Paris:20190331T160000
DTEND;TZID=Europe/Paris:20190331T170000
DTSTAMP:20260421T003403
CREATED:20190204T132325Z
LAST-MODIFIED:20190314T090440Z
UID:8766-1554048000-1554051600@bouxwiller.eu
SUMMARY:Concert de Printemps
DESCRIPTION:Avec la Musique municipale et la Classe d’orchestre de l’École Intercommunal de Hanau La Petite Pierre. \n  \n 
URL:https://bouxwiller.eu/event/concert-de-printemps-5/
LOCATION:Centre Culturel\, 5 place du Château\, BOUXWILLER\, 67330\, France
ATTACH;FMTTYPE=image/jpeg:https://bouxwiller.eu/wp-content/uploads/2019/02/concert-printemps-harmonie-31.03-e1552553711304.jpg
END:VEVENT
END:VCALENDAR