BEGIN:VCALENDAR
VERSION:2.0
PRODID:-//Mairie de Bouxwiller - ECPv6.15.18//NONSGML v1.0//EN
CALSCALE:GREGORIAN
METHOD:PUBLISH
X-ORIGINAL-URL:https://bouxwiller.eu
X-WR-CALDESC:Évènements pour Mairie de Bouxwiller
REFRESH-INTERVAL;VALUE=DURATION:PT1H
X-Robots-Tag:noindex
X-PUBLISHED-TTL:PT1H
BEGIN:VTIMEZONE
TZID:Europe/Paris
BEGIN:DAYLIGHT
TZOFFSETFROM:+0100
TZOFFSETTO:+0200
TZNAME:CEST
DTSTART:20210328T010000
END:DAYLIGHT
BEGIN:STANDARD
TZOFFSETFROM:+0200
TZOFFSETTO:+0100
TZNAME:CET
DTSTART:20211031T010000
END:STANDARD
BEGIN:DAYLIGHT
TZOFFSETFROM:+0100
TZOFFSETTO:+0200
TZNAME:CEST
DTSTART:20220327T010000
END:DAYLIGHT
BEGIN:STANDARD
TZOFFSETFROM:+0200
TZOFFSETTO:+0100
TZNAME:CET
DTSTART:20221030T010000
END:STANDARD
BEGIN:DAYLIGHT
TZOFFSETFROM:+0100
TZOFFSETTO:+0200
TZNAME:CEST
DTSTART:20230326T010000
END:DAYLIGHT
BEGIN:STANDARD
TZOFFSETFROM:+0200
TZOFFSETTO:+0100
TZNAME:CET
DTSTART:20231029T010000
END:STANDARD
END:VTIMEZONE
BEGIN:VEVENT
DTSTART;TZID=Europe/Paris:20220701T203000
DTEND;TZID=Europe/Paris:20220701T220000
DTSTAMP:20260421T043735
CREATED:20220603T085818Z
LAST-MODIFIED:20220624T062631Z
UID:15722-1656707400-1656712800@bouxwiller.eu
SUMMARY:Vendredi de l'été : bal contemporain
DESCRIPTION:C’est l’été ! Alors\, on danse ? \nBal contemporain avec le Théâtre du Marché aux Grains. \nPour fêter ensemble l’arrivée des mois d’été et des vacances qui s’approchent\, le Théâtre du Marché aux Grains et Vidal BINI vous invitent à venir danser ensemble.\nUne série de jeux dansants\, de défis chorégraphiques pour se mettre en train et réveiller les danses endiablées qui sommeillent en nous\, une sélection musicale digne du plus décalé des 14 juillet et c’est parti !\nTenue festive exigée\, et paillettes bienvenues… \nAnimation gratuite \nRendez-vous au théâtre Christiane Stroë\, le vendredi 1er juillet à 20h30.
URL:https://bouxwiller.eu/event/vendredi-de-lete-bal-contemporain/
ATTACH;FMTTYPE=image/jpeg:https://bouxwiller.eu/wp-content/uploads/2022/06/visuel-Vidal-e1654250295759.jpg
END:VEVENT
BEGIN:VEVENT
DTSTART;TZID=Europe/Paris:20220702T150000
DTEND;TZID=Europe/Paris:20220702T150000
DTSTAMP:20260421T043735
CREATED:20220604T124651Z
LAST-MODIFIED:20220604T125002Z
UID:15735-1656774000-1656774000@bouxwiller.eu
SUMMARY:Hanautic : we de la culture et du sport
DESCRIPTION:
URL:https://bouxwiller.eu/event/hanautic-we-de-la-culture-et-du-sport/
ATTACH;FMTTYPE=image/jpeg:https://bouxwiller.eu/wp-content/uploads/2022/06/20220425-Hanautic-25-ans-flyer2.jpg
END:VEVENT
BEGIN:VEVENT
DTSTART;VALUE=DATE:20220703
DTEND;VALUE=DATE:20220704
DTSTAMP:20260421T043735
CREATED:20220602T140533Z
LAST-MODIFIED:20220602T140550Z
UID:15712-1656806400-1656892799@bouxwiller.eu
SUMMARY:Fête du 150ème anniversaire du club vosgien
DESCRIPTION:
URL:https://bouxwiller.eu/event/fete-du-150eme-anniversaire-du-club-vosgien/
ATTACH;FMTTYPE=image/jpeg:https://bouxwiller.eu/wp-content/uploads/2022/06/AFFICHE-A4-scaled.jpg
END:VEVENT
BEGIN:VEVENT
DTSTART;VALUE=DATE:20220706
DTEND;VALUE=DATE:20220707
DTSTAMP:20260421T043735
CREATED:20220520T075134Z
LAST-MODIFIED:20220520T081213Z
UID:15592-1657065600-1657151999@bouxwiller.eu
SUMMARY:Visite guidée de la ville de Bouxwiller à 15H
DESCRIPTION:Mercredi 6 juillet à 15h \nVisite guidée de la ville de Bouxwiller \nEn compagnie de Laure Lickel\, chargée de médiation\, découvrez le riche passé historique de cette cité de caractère qu’est Bouxwiller. Ce voyage dans le temps sera aussi l’occasion d’entrer dans le monde des symboles\, des croyances et des superstitions\, sans oublier l’univers de la sorcellerie\, dont les traces sont encore présentes à Bouxwiller. \nAnimation gratuite \nDurée : 1h30 \nPlaces limitées. Réservations obligatoires au 03 88 00 38 39 ou contact@museedupaysdehanau.eu \nLieu de départ : Musée du Pays de Hanau – 3 place du Château 67330 Bouxwiller
URL:https://bouxwiller.eu/event/visite-guidee-de-la-ville-de-bouxwiller-a-15h/
ATTACH;FMTTYPE=image/jpeg:https://bouxwiller.eu/wp-content/uploads/2022/05/VG-6-juillet--scaled.jpg
END:VEVENT
BEGIN:VEVENT
DTSTART;VALUE=DATE:20220707
DTEND;VALUE=DATE:20220708
DTSTAMP:20260421T043735
CREATED:20220520T075257Z
LAST-MODIFIED:20220602T133947Z
UID:15594-1657152000-1657238399@bouxwiller.eu
SUMMARY:Visite guidée parents-enfants de l'exposition 15H
DESCRIPTION:Jeudi 7 juillet à 15h : \nVisite guidée parents-enfants de l’exposition \nEn famille\, venez admirer les créations de la couturière et costumière Rita Tataï\, réunies sous la marque de vêtement Geht’s In\, s’inspirant du costume alsacien traditionnel. Des pièces anciennes\, issues\, pour la plupart\, des collections du Musée\, vous permettront de découvrir la richesse des motifs et des décors des vêtements traditionnels du Pays de Hanau.\nEn compagnie de Mélanie Le Hir\, chargée de pédagogie\, dépoussiérez votre vision du costume alsacien ! \nExposition « Inspiration Alsace » visible jusqu’au 23 octobre 2022. \nÀ partir de 6 ans\nDurée : 45 min\nTarif : Gratuit\nPlaces limitées. Réservations au 03 88 00 38 39 ou contact@museedupaysdehanau.eu\nLieu : Musée du Pays de Hanau\, 3 place du Château\, 67330 Bouxwiller \nPhoto Patrick Lambin
URL:https://bouxwiller.eu/event/visite-guidee-parents-enfants-de-lexposition-15h/
ATTACH;FMTTYPE=image/jpeg:https://bouxwiller.eu/wp-content/uploads/2022/05/EXPO-BOUXWILLER-kelsch_PATRICK-LAMBIN__17mai2022_010-scaled-e1653483908741.jpg
END:VEVENT
BEGIN:VEVENT
DTSTART;TZID=Europe/Paris:20220707T203000
DTEND;TZID=Europe/Paris:20220707T203000
DTSTAMP:20260421T043735
CREATED:20220531T131448Z
LAST-MODIFIED:20220622T061333Z
UID:15672-1657225800-1657225800@bouxwiller.eu
SUMMARY:Conférence de Laurence Jost Lienhard au Musée Judéo Alsacien
DESCRIPTION:« Kaddish pour un prof – Le Collège de Bouxwiller dans la tourmente de la shoah». Conférence de Laurence Jost Lienhard\, sur le thème de son livre. Agrégée d’histoire-géographie\, elle enseigne au Lycée Adrien-Zeller\, à Bouxwiller. \nhttps://www.museejudeoalsacien.fr/copie-de-animations-2022
URL:https://bouxwiller.eu/event/conference-de-laurence-jost-lienhard-au-musee-judeo-alsacien/
LOCATION:Musée Judéo-Alsacien\, 62 Grand'Rue\, Bouxwiller\, 67300
END:VEVENT
BEGIN:VEVENT
DTSTART;TZID=Europe/Paris:20220708T203000
DTEND;TZID=Europe/Paris:20220708T203000
DTSTAMP:20260421T043735
CREATED:20220604T130600Z
LAST-MODIFIED:20220629T135614Z
UID:15743-1657312200-1657312200@bouxwiller.eu
SUMMARY:Vendredi de l'été : Concert de L'officine du gueux
DESCRIPTION:Vendredi 8 juillet – 20h30 \nConcert du groupe « L’Officine du Gueux » \nCet été\, profitez d’un concert sur le parvis du Musée du Pays de Hanau. Le groupe L’Officine du Gueux\, vous emportera au cœur de l’Irlande le temps d’une soirée ! Découvrez leurs compositions personnelles\, mais également des reprises festives des standards irlandais. \nL’Officine du Gueux est un duo singulier à haute teneur énergétique\, composé de deux hommes orchestre avec leur attirail :guitare\, accordéon\, flûte irlandaise\, cornemuse\, mandoline\, batterie… Le groupe distille un savant mélange de folk rock festif. \nL’Officine du Gueux égraine depuis de longues années leurs chansons sur scène avec une envie débordante. Les interprétations sont parfois tourmentées et les musiciens font preuve de poigne en donnant à chaque chanson l’émotion nécessaire\, ce qui permet un lien unique avec le public. Le répertoire se compose d’œuvres originales aux relents celtiques. Si vous êtes sujet au mal de mer\, s’abstenir ! \nPage Facebook : https://www.facebook.com/people/LOfficine-du-Gueux/100050315978642/ \nAnimation gratuite proposée dans le cadre des Vendredis de l’été de Bouxwiller  \nBuvette et petite restauration sur place dès 19h par l’US Imbsheim « bières/vins/softs/punch // merguez/saucisses/frites » \n  \nTout public \nDurée : 1h30-2h \nRenseignements au 03 88 03 33 97 / www.bouxwiller.eu \nÉvénement gratuit dans le cadre des vendredis de l’été proposés par la Ville de Bouxwiller\nLieu : Sur le parvis du Musée du Pays de Hanau\, 3 place du Château
URL:https://bouxwiller.eu/event/vendredi-de-lete-concert-de-lofficine-du-gueux/
ATTACH;FMTTYPE=image/jpeg:https://bouxwiller.eu/wp-content/uploads/2022/06/8-juillet-Lofficine-du-Gueux-1-scaled.jpg
END:VEVENT
BEGIN:VEVENT
DTSTART;VALUE=DATE:20220709
DTEND;VALUE=DATE:20220711
DTSTAMP:20260421T043735
CREATED:20220602T135910Z
LAST-MODIFIED:20220602T140612Z
UID:15707-1657324800-1657497599@bouxwiller.eu
SUMMARY:Événement à Griesbach le Bastberg
DESCRIPTION:
URL:https://bouxwiller.eu/event/evenement-a-griesbach-le-bastberg/
ATTACH;FMTTYPE=image/jpeg:https://bouxwiller.eu/wp-content/uploads/2022/06/IMG-20220516-WA0000.jpg
END:VEVENT
BEGIN:VEVENT
DTSTART;TZID=Europe/Paris:20220709T200000
DTEND;TZID=Europe/Paris:20220709T200000
DTSTAMP:20260421T043735
CREATED:20220705T114936Z
LAST-MODIFIED:20220705T115151Z
UID:15905-1657396800-1657396800@bouxwiller.eu
SUMMARY:Concert violoncelle et orgue
DESCRIPTION:Samedi 9 juillet 2022 à 20h à l’église protestante de Bouxwiller \nEntrée libre \n 
URL:https://bouxwiller.eu/event/concert-violoncelle-et-orgue/
ATTACH;FMTTYPE=image/jpeg:https://bouxwiller.eu/wp-content/uploads/2022/07/affiche_violoncelle_orgue_07_22-e1657025505670.jpg
END:VEVENT
BEGIN:VEVENT
DTSTART;VALUE=DATE:20220710
DTEND;VALUE=DATE:20220711
DTSTAMP:20260421T043735
CREATED:20220520T075401Z
LAST-MODIFIED:20220525T120426Z
UID:15596-1657411200-1657497599@bouxwiller.eu
SUMMARY:Dimanche de caractère / Bouxwiller :  Une cité viticole oubliée à 15H
DESCRIPTION:Dimanche 10 juillet à 15h : Dimanche de caractère /BOUXWILLER \nUne cité viticole oubliée \nRemontez le temps et partez à la découverte du passé viticole de Bouxwiller\, en compagnie de Jean-Christophe Brua\, architecte du Patrimoine.\nÀ travers les ruelles de Bouxwiller et à l’intérieur de cours privées\, vous observerez les signes architecturaux qui témoignent de l’important passé viticole de la ville. L’histoire de l’exploitation des vignes de la prestigieuse colline du Bastberg n’aura plus de secret pour vous. \nDégustation de vin du Bastberg du micro-viticulteur Arnold KARCHER d’Imbsheim et de jus de fruits de la Ferme Herrmann. \nDurée : 1h30\nAnimation gratuite\nPlaces limitées. Réservations au 03 88 00 38 39 ou contact@museedupaysdehanau.eu\nDépart : Musée du Pays de Hanau\, 3 place du Château\, 67330 Bouxwiller
URL:https://bouxwiller.eu/event/dimanche-de-caractere-bouxwiller-une-cite-viticole-oubliee-a-15h/
ATTACH;FMTTYPE=image/jpeg:https://bouxwiller.eu/wp-content/uploads/2022/05/Photo-A-L-Nyari-visite-du-10-juillet-dimanche-de-caractere-e1653483862533.jpg
END:VEVENT
BEGIN:VEVENT
DTSTART;TZID=Europe/Paris:20220711T080000
DTEND;TZID=Europe/Paris:20220711T170000
DTSTAMP:20260421T043735
CREATED:20220711T131741Z
LAST-MODIFIED:20220711T131741Z
UID:15975-1657526400-1657558800@bouxwiller.eu
SUMMARY:Visitez l’église protestante de Bouxwiller
DESCRIPTION:Découvrez la loge seigneuriale\, l’orgue Silbermann\, la chaire Renaissance\, les tableaux…\nParcours ludique pour les enfants
URL:https://bouxwiller.eu/event/visitez-leglise-protestante-de-bouxwiller-6/
ATTACH;FMTTYPE=image/jpeg:https://bouxwiller.eu/wp-content/uploads/2022/07/Affiche-Eglise-Ouverte-2022-2.jpg
END:VEVENT
BEGIN:VEVENT
DTSTART;TZID=Europe/Paris:20220713T200000
DTEND;TZID=Europe/Paris:20220713T200000
DTSTAMP:20260421T043735
CREATED:20220628T121200Z
LAST-MODIFIED:20220628T142507Z
UID:15878-1657742400-1657742400@bouxwiller.eu
SUMMARY:Fête Nationale
DESCRIPTION:
URL:https://bouxwiller.eu/event/fete-national/
ATTACH;FMTTYPE=application/pdf:https://bouxwiller.eu/wp-content/uploads/2022/06/13JUILLET2022-1.pdf
END:VEVENT
BEGIN:VEVENT
DTSTART;TZID=Europe/Paris:20220715T200000
DTEND;TZID=Europe/Paris:20220715T200000
DTSTAMP:20260421T043735
CREATED:20220604T130647Z
LAST-MODIFIED:20220706T105304Z
UID:15745-1657915200-1657915200@bouxwiller.eu
SUMMARY:Vendredi de l'été : Soirée musicale et spectacle de la compagnie Luc Amoros
DESCRIPTION:Vendredi 15 juillet – 20h \nDébut de soirée animée par Dj Member  \nCe DJ vous emportera dans son univers musical au rythme des années 80’ jusqu’à nos jours. \nBuvette et petite restauration sur place dès 19h \nLieu : Parvis du Musée du Pays de Hanau\, 3 place du Château\, 67330 Bouxwiller \nVendredi 15 juillet – 22h30 \nSpectacle « La Tortue de Gauguin » \nAvec la Compagnie Lucamoros \nDans le cadre des vendredis de l’été à Bouxwiller organisés par la commune\, la compagnie Lucamoros va interpréter son spectacle tout public « La tortue de Gauguin ». Une représentation en plein air qui nécessite l’installation place du Château d’un imposant polyptyque de métal de neuf mètres de hauteur.\nCet événement majeur est présenté grâce à la politique active de soutien à la culture menée par la Communauté de Communes de Hanau-La petite Pierre et par la Collectivité européenne d’Alsace. \nPourquoi la tortue de Gauguin ?\nAux îles Marquises\, Paul Gauguin aurait peint à même la carapace d’une jeune tortue vivante. Grâce à la longévité dont jouit cette espèce\, peut-être sillonne-t-elle encore aujourd’hui les mers du sud\, échappant ainsi à la cupidité des spéculateurs ?\nCette anecdote a inspiré à la Compagnie Lucamoros une succession de tableaux éphémères débordant de couleurs\, de textes et de musique\, pour une expérience visuelle et scénique étonnante…\nJuchés sur un échafaudage de 9 mètres de haut\, six artistes peintres\, chacun dans leur case\, face au public\, sans jamais rien voir du travail de leurs pairs\, créent simultanément des toiles qui peu à peu n’en forment qu’une seule\, elle-même s’effaçant au profit de la prochaine.\nUn musicien et une récitante occupent le premier niveau de cet impressionnant polyptyque. Le spectacle évoque des réflexions sur l’art.\nLa compagnie Lucamaros basée à Reipertswiller met depuis plus de 20 ans l’art visuel au coeur de ses spectacles et définit ainsi son travail : « Notre affaire à nous\, c’est une affaire d’images\, née d’une fascination originelle pour les ombres\, leur fantastique pouvoir d’évocation ; une affaire de transparence aussi\, une affaire de présence et d’absence à la fois ; une affaire d’écrans jetés entre nos visiteurs et nous\, et dont chacun sait qu’ils cachent tout autant qu’ils révèlent. N’ont-t-ils pas eux-mêmes l’épaisseur d’une ombre ?\nNous dessinons ainsi à grands coups d’ombres\, de pinceaux ou de caméras\, les franges d’un théâtre insolite\, un théâtre d’illusions fabriquées en direct et à vue\, entre bricolage et technologie fine\, où se jouent arts plastiques\, musique et textes\, intimement mêlés.\nNous poursuivons notre exploration dans l’espoir de percer\, le mystère de l’irrésistible fascination des hommes pour l’image en mouvement. » \nBuvette et petite restauration sur place dès 19h\nTout public\nDurée : 45mn\nLieu : Place du Château\, 67330 Bouxwiller\nRenseignements au 03 88 03 33 97 / www.bouxwiller.eu \n<iframe title= »vimeo-player » src= »https://player.vimeo.com/video/237073655?h=82f6e44af0″ width= »640″ height= »360″ frameborder= »0″ allowfullscreen></iframe> \nAuteur : Luc Amoros / Composition musicale : Alexis Thépot / Artistes en scène : Sylvie Eder – Lou Amoros Augustin – Brigitte Gonzalez – Agnès Bourgeois – Thomas Rebischung – Lea Noygues – Emmanuel Perez / Musicien : Ignacio Plaza Ponce / Direction Technique : Vincent Frossard / Régie lumière : Régis reinhardt / Régie son : Thomas Kaiser / Régie Plateau : Nicolas Jaeck / Costumes : Pauline Kocher / Chorégraphie : Eric Lutz / Administration : Mathieu Desanlis \nRebond culturel\nLa programmation de ce spectacle a été rendu possible grâce au soutien de la Collectivité européenne d’Alsace et celui de la Communauté de Communes\, toute deux impliquées dans une politique active de soutien à la culture.\nLa Collectivité européenne d’Alsace s’est engagée dans un ambitieux plan de rebond durable et solidaire afin de soutenir l’économie alsacienne\, et notamment le secteur culturel\, fortement affecté par la crise.\nCe programme vise à aider les artistes et compagnies alsaciennes privées de débouchés du fait de la situation sanitaire.\nDepuis 2017\, la Communauté de Communes de Hanau-La Petite Pierre a défini une politique culturelle coconstruite avec les acteurs locaux en répondant à trois enjeux principaux : rendre la culture accessible aux habitants\, soutenir la culture pour rendre le territoire attractif\, coordonner autour de projets communautaires. L’action poursuivie par la Communauté de Communes dans le cadre de ce dispositif s’inscrit dans les objectifs de rebond solidaire et durable portés par la CeA. \nCrédit photo : ZP. Zanotti
URL:https://bouxwiller.eu/event/vendredi-de-lete-soiree-musicale-et-spectacle-de-la-compagnie-luc-amoros/
ATTACH;FMTTYPE=image/jpeg:https://bouxwiller.eu/wp-content/uploads/2022/06/Credit-Asan-Street-festival-2-scaled.jpg
END:VEVENT
BEGIN:VEVENT
DTSTART;VALUE=DATE:20220716
DTEND;VALUE=DATE:20220718
DTSTAMP:20260421T043735
CREATED:20220711T130608Z
LAST-MODIFIED:20220711T132726Z
UID:15960-1657929600-1658102399@bouxwiller.eu
SUMMARY:Visitez l'église protestante de Bouxwiller
DESCRIPTION:Découvrez la loge seigneuriale \, l’orgue Silbermann\, la chaire Renaissance\, les tableaux… \nParcours ludique pour les enfants
URL:https://bouxwiller.eu/event/visitez-leglise-protestante-de-bouxwiller/
END:VEVENT
BEGIN:VEVENT
DTSTART;VALUE=DATE:20220717
DTEND;VALUE=DATE:20220718
DTSTAMP:20260421T043735
CREATED:20220613T124015Z
LAST-MODIFIED:20220613T124101Z
UID:15798-1658016000-1658102399@bouxwiller.eu
SUMMARY:Balade nature et pique-nique 10H
DESCRIPTION:
URL:https://bouxwiller.eu/event/balade-nature-10h/
ATTACH;FMTTYPE=image/jpeg:https://bouxwiller.eu/wp-content/uploads/2022/06/FLYER-BALADE-NATURE-BASTBERG-17-JUILLET-scaled.jpg
END:VEVENT
BEGIN:VEVENT
DTSTART;VALUE=DATE:20220720
DTEND;VALUE=DATE:20220721
DTSTAMP:20260421T043735
CREATED:20220520T075453Z
LAST-MODIFIED:20220520T081731Z
UID:15598-1658275200-1658361599@bouxwiller.eu
SUMMARY:Visite guidée insolite de la ville de Bouxwiller\, entre mythe et réalité à 15H
DESCRIPTION:Mercredi 20 juillet à 15h  \nVisite guidée insolite de la ville de Bouxwiller\, entre mythe et réalité \nEn compagnie de Laure LICKEL\, chargée de médiation\, découvrez la cité mystérieuse de Bouxwiller\, entre légendes et réalité. Laissez-vous emporter par le tourbillon du Temps qui vous propulsera dans le passé\, où croyances\, sorcellerie et symbolisme se côtoyaient quotidiennement. Peut-être\, serez-vous surpris au détour d’une rue par une créature sortie d’un monde merveilleux\, où sorcières\, animaux fantastiques et personnages curieux se coudoient. Seules les âmes pures et sensibles pourront prétendre à ces rencontres extraordinaires et cela uniquement à Minuit ! \nCependant\, ne soyez pas déçu(e)s\, d’autres mystères seront dévoilés qui eux vous mèneront sur des sentiers semés d’énigmes… \nMais chut\, ne dévoilons pas tout\, le mystère doit rester entier ! \n  \nAnimation gratuite \nDurée : 2h \nPlaces limitées. Réservations obligatoires au 03 88 00 38 39 ou contact@museedupaysdehanau.eu \nLieu de départ : Musée du Pays de Hanau – 3 place du Château 67330 Bouxwiller
URL:https://bouxwiller.eu/event/visite-guidee-insolite-de-la-ville-de-bouxwiller-entre-mythe-et-realite-a-15h/
ATTACH;FMTTYPE=image/jpeg:https://bouxwiller.eu/wp-content/uploads/2022/05/VG_20-juillet-scaled.jpg
END:VEVENT
BEGIN:VEVENT
DTSTART;TZID=Europe/Paris:20220720T140000
DTEND;TZID=Europe/Paris:20220720T140000
DTSTAMP:20260421T043735
CREATED:20220718T132909Z
LAST-MODIFIED:20220718T132909Z
UID:16041-1658325600-1658325600@bouxwiller.eu
SUMMARY:Après-midi jeux de société à la librairie Bouq's
DESCRIPTION:Vous aimer jouer ? Ou voulez tester de nouveaux jeux ?\n\n\nNous organisons une après-midi Jeux de société :\n\n\nMercredi 20 juillet 2022\nÀ partir de 14h\n\n\nAu programme :\n\n\nPlein de jeux à tester pour tous les âges et tous les goûts. (Enfants et adultes y sont conviés)\nUne petite collation et des boissons rafraîchissantes offertes par la librairie.\nNous mettrons à votre disposition une grande partie de nos jeux de démos !\n\n\nOuvert à tous\, gratuit et sans inscription !
URL:https://bouxwiller.eu/event/apres-midi-jeux-de-societe-a-la-librairie-bouqs/
LOCATION:Librairie Bouq’s\, 25 grand'rue\, Bouxwiller
ATTACH;FMTTYPE=image/jpeg:https://bouxwiller.eu/wp-content/uploads/2022/07/293370876_512229894008755_2373914054962672222_n.jpg
END:VEVENT
BEGIN:VEVENT
DTSTART;TZID=Europe/Paris:20220720T160000
DTEND;TZID=Europe/Paris:20220720T160000
DTSTAMP:20260421T043735
CREATED:20220712T051536Z
LAST-MODIFIED:20220712T145303Z
UID:15995-1658332800-1658332800@bouxwiller.eu
SUMMARY:Café mortel - La mort\, parlons-en
DESCRIPTION:Rendez-vous convivial dans un lieu ouvert à tous où chacun est invité à s’exprimer autour du thème de la mort.
URL:https://bouxwiller.eu/event/cafe-mortel-la-mort-parlons-en/
ATTACH;FMTTYPE=image/jpeg:https://bouxwiller.eu/wp-content/uploads/2022/07/Cafe-mortel-e1657606498610.jpg
END:VEVENT
BEGIN:VEVENT
DTSTART;TZID=Europe/Paris:20220720T173000
DTEND;TZID=Europe/Paris:20220720T173000
DTSTAMP:20260421T043735
CREATED:20220718T112457Z
LAST-MODIFIED:20220718T121028Z
UID:16022-1658338200-1658338200@bouxwiller.eu
SUMMARY:Les Ateliers d'Alysses - Marionnettes en récup'art
DESCRIPTION:A partir de matériaux de récupération\, réalisez vos marionnettes avec Anne en vous inspirant des oiseaux exotiques qui peuplaient les jardins disparus de Bouxwiller.
URL:https://bouxwiller.eu/event/les-ateliers-dalysses-marionnettes-en-recupart/
LOCATION:Jardin de la place du Château\, Place du château\, Bouxwiller
ATTACH;FMTTYPE=image/jpeg:https://bouxwiller.eu/wp-content/uploads/2022/07/Capture-decran-2022-07-18-142316.jpg
END:VEVENT
BEGIN:VEVENT
DTSTART;TZID=Europe/Paris:20220722T203000
DTEND;TZID=Europe/Paris:20220722T203000
DTSTAMP:20260421T043735
CREATED:20220604T130824Z
LAST-MODIFIED:20220723T140654Z
UID:15747-1658521800-1658521800@bouxwiller.eu
SUMMARY:Vendredi de l'été : Concert Die Zwei Hofemer
DESCRIPTION:Concert du groupe «Die Zwei Hofemer ». \n En été 1993\, deux amis d’enfance\, Tobias Badstübner et Maik Ramsperger\, fondent le duo « Die Zwei Hofemer ». \nLe groupe se déplace pour leurs représentations dans toute l’Allemagne\, l’Autriche\, la Suisse\, le Tyrol du Sud\, la France\, l’Irlande et la Belgique. Leur grande polyvalence leur permet d’interpréter des airs allant de la polka aux derniers tubes à la mode. \nGrâce à leur naturel enthousiaste\, ils se sont rapidement fait connaître bien au-delà des frontières de leur ville natale\, Spaichingen. \nLeur devise est : « RIEN n’est plus beau que la musique en LIVE ! » \nVous pourrez compter sur ces deux Sunnyboys pour mettre de feu sur le parvis du musée !! \nAmbiance fête de la bière – Ballermann – bonne humeur garantie \n  \nAnimation gratuite proposée dans le cadre des Vendredis de l’été de Bouxwiller  \nBuvette et tartes flambées sur place dès 19h \nTout public \nLieu : Parvis du Musée du Pays de Hanau\, 3 place du Château 67330 Bouxwiller \nRenseignements au 03 88 03 33 97 / www.bouxwiller.eu \n 
URL:https://bouxwiller.eu/event/vendredi-de-lete-concert-badstuebi-marie/
ATTACH;FMTTYPE=image/jpeg:https://bouxwiller.eu/wp-content/uploads/2022/06/22-juillet-photo-Die-Zwei-hofemer-scaled.jpg
END:VEVENT
BEGIN:VEVENT
DTSTART;VALUE=DATE:20220723
DTEND;VALUE=DATE:20220725
DTSTAMP:20260421T043735
CREATED:20220613T083035Z
LAST-MODIFIED:20220718T115806Z
UID:15793-1658534400-1658707199@bouxwiller.eu
SUMMARY:Portes Ouvertes d'Imbsheim le 23 -24 juillet
DESCRIPTION:https://www.facebook.com/Portes-Ouvertes-Imbsheim-23-et-24-Juillet-2022-Alsace-610422459131210 \n 
URL:https://bouxwiller.eu/event/portes-ouvertes-dimbseim-le-23-24-juillet/
ATTACH;FMTTYPE=image/jpeg:https://bouxwiller.eu/wp-content/uploads/2022/06/257789224_2050220175151424_8592233557041382652_n.jpg
END:VEVENT
BEGIN:VEVENT
DTSTART;VALUE=DATE:20220723
DTEND;VALUE=DATE:20220725
DTSTAMP:20260421T043735
CREATED:20220711T131234Z
LAST-MODIFIED:20220711T132844Z
UID:15966-1658534400-1658707199@bouxwiller.eu
SUMMARY:Visitez l’église protestante de Bouxwiller
DESCRIPTION:Découvrez la loge seigneuriale\, l’orgue Silbermann\, la chaire Renaissance\, les tableaux… \nParcours ludique pour les enfants
URL:https://bouxwiller.eu/event/visitez-leglise-protestante-de-bouxwiller-2/
ATTACH;FMTTYPE=image/jpeg:https://bouxwiller.eu/wp-content/uploads/2022/07/Affiche-Eglise-Ouverte-2022-2.jpg
END:VEVENT
BEGIN:VEVENT
DTSTART;TZID=Europe/Paris:20220727T173000
DTEND;TZID=Europe/Paris:20220727T173000
DTSTAMP:20260421T043735
CREATED:20220718T113043Z
LAST-MODIFIED:20220718T121121Z
UID:16025-1658943000-1658943000@bouxwiller.eu
SUMMARY:Les Ateliers d'Alysse - contes et histoires
DESCRIPTION:Rejoignez-nous sous le kiosque pour entendre les contes et histoires d’Isabelle et Marie-Hélène. Écoutons\, écrivons et partageons un moment poétique.
URL:https://bouxwiller.eu/event/les-ateliers-dalysse-contes-et-histoires/
LOCATION:Jardin de la place du Château\, Place du château\, Bouxwiller
ATTACH;FMTTYPE=image/jpeg:https://bouxwiller.eu/wp-content/uploads/2022/07/Capture-decran-2022-07-18-142316.jpg
END:VEVENT
BEGIN:VEVENT
DTSTART;VALUE=DATE:20220728
DTEND;VALUE=DATE:20220729
DTSTAMP:20260421T043735
CREATED:20220520T075537Z
LAST-MODIFIED:20220520T083052Z
UID:15600-1658966400-1659052799@bouxwiller.eu
SUMMARY:Visite guidée « Marie Hart à travers la ville de Bouxwiller » à 16H
DESCRIPTION:Jeudi 28 juillet à 16h  \nVisite guidée « Marie Hart à travers la ville de Bouxwiller » \nEn compagnie de Laure Lickel\, chargée de médiation\, découvrez la ville de Bouxwiller à travers les yeux de Marie Hart\, romancière et poétesse née en 1856. Vous découvrirez les lieux qui lui sont liés et avec eux la passionnante histoire d’une femme de caractère ayant vécu l’époque de la Grande Guerre. \n  \nAnimation gratuite \nDurée : 1h30 \nPlaces limitées. Réservations obligatoires au 03 88 00 38 39 ou contact@museedupaysdehanau.eu \nLieu de départ : Musée du Pays de Hanau – 3 place du Château 67330 Bouxwiller
URL:https://bouxwiller.eu/event/visite-guidee-marie-hart-a-travers-la-ville-de-bouxwiller-a-16h/
ATTACH;FMTTYPE=image/jpeg:https://bouxwiller.eu/wp-content/uploads/2022/05/VG-28-juillet.jpg
END:VEVENT
BEGIN:VEVENT
DTSTART;VALUE=DATE:20220729
DTEND;VALUE=DATE:20220730
DTSTAMP:20260421T043735
CREATED:20220520T075616Z
LAST-MODIFIED:20220629T062046Z
UID:15602-1659052800-1659139199@bouxwiller.eu
SUMMARY:Visite guidée de l’exposition « Inspiration Alsace » à 17H
DESCRIPTION:Vendredi 29 juillet à 17h : \nVisite guidée de l’exposition « Inspiration Alsace » \nDécouvrez le travail inspiré et inspirant de la couturière et costumière Rita Tataï\, mis en regard avec des pièces anciennes. En créant la marque Geht’s In\, elle s’est inspirée de pièces du costume traditionnel alsacien pour remettre au goût du jour des motifs\, des tissus\, une allure…En compagnie de Laure Lickel\, chargée de médiation\, dépoussiérez votre vision du costume alsacien ! \nExposition visible jusqu’au 23 octobre 2022. \nDurée : 1h\nTarif : Gratuit\nPlaces limitées. Réservations au 03 88 00 38 39 ou contact@museedupaysdehanau.eu\nLieu : Musée du Pays de Hanau\, 3 place du Château\, 67330 Bouxwiller
URL:https://bouxwiller.eu/event/visite-guidee-de-lexposition-inspiration-alsace-a-18h/
ATTACH;FMTTYPE=image/jpeg:https://bouxwiller.eu/wp-content/uploads/2022/05/VG-expo-29-juillet-scaled-e1653484928330.jpg
END:VEVENT
BEGIN:VEVENT
DTSTART;TZID=Europe/Paris:20220729T180000
DTEND;TZID=Europe/Paris:20220729T180000
DTSTAMP:20260421T043735
CREATED:20220604T130912Z
LAST-MODIFIED:20220624T080548Z
UID:15749-1659117600-1659117600@bouxwiller.eu
SUMMARY:Vendredi de l'été : Soirée folklorique
DESCRIPTION:Vendredi 29 juillet\, 18h-22h \nSoirée de danses folkloriques \nAvec le Groupe folklorique du Pays de Hanau de Bouxwiller  \nEn compagnie du Groupe de danse folklorique  »Lous Bouscas » intergénérationnel\, constitué d’enfants « Les Mini-Bouscas » et d’adultes « Les Bouscas ». \nVenez passer une soirée folklorique\, entre l’Alsace et le Cantal\, pleine de surprises et de bonne humeur. Les prestations de danses vous donneront l’occasion de découvrir les costumes et traditions de chacun de ces groupes ! \nAu programme de la soirée : \n\n18-19 h : danses en commun pour les enfants d’ici & d ailleurs\n19-20 h : tartes flambées & grillades sur fond musical\n20-22 h : danses du Cantal & d’Alsace\, en alternance\n\nAnimation gratuite proposée dans le cadre des Vendredis de l’été de Bouxwiller  \nBuvette\, tartes flambées et petite restauration sur place \nDès 3 ans \nLieu : Parvis du Musée du Pays de Hanau\, 3 place du Château 67330 Bouxwiller \nRenseignements au 03 88 03 33 97 / www.bouxwiller.eu
URL:https://bouxwiller.eu/event/vendredi-de-lete-soiree-folklorique-2/
ATTACH;FMTTYPE=image/jpeg:https://bouxwiller.eu/wp-content/uploads/2022/06/29-juillet-GF-cantal-photo-groupe-folklorique-Lous-Bouscas.jpg
END:VEVENT
BEGIN:VEVENT
DTSTART;VALUE=DATE:20220730
DTEND;VALUE=DATE:20220801
DTSTAMP:20260421T043735
CREATED:20220711T131449Z
LAST-MODIFIED:20220711T132959Z
UID:15969-1659139200-1659311999@bouxwiller.eu
SUMMARY:Visitez l’église protestante de Bouxwiller
DESCRIPTION:Découvrez la loge seigneuriale\, l’orgue Silbermann\, la chaire Renaissance\, les tableaux… \nParcours ludique pour les enfants \n \n 
URL:https://bouxwiller.eu/event/visitez-leglise-protestante-de-bouxwiller-3/
ATTACH;FMTTYPE=image/jpeg:https://bouxwiller.eu/wp-content/uploads/2022/07/Affiche-Eglise-Ouverte-2022-2.jpg
END:VEVENT
END:VCALENDAR