BEGIN:VCALENDAR
VERSION:2.0
PRODID:-//Mairie de Bouxwiller - ECPv6.15.18//NONSGML v1.0//EN
CALSCALE:GREGORIAN
METHOD:PUBLISH
X-WR-CALNAME:Mairie de Bouxwiller
X-ORIGINAL-URL:https://bouxwiller.eu
X-WR-CALDESC:Évènements pour Mairie de Bouxwiller
REFRESH-INTERVAL;VALUE=DURATION:PT1H
X-Robots-Tag:noindex
X-PUBLISHED-TTL:PT1H
BEGIN:VTIMEZONE
TZID:Europe/Paris
BEGIN:DAYLIGHT
TZOFFSETFROM:+0100
TZOFFSETTO:+0200
TZNAME:CEST
DTSTART:20220327T010000
END:DAYLIGHT
BEGIN:STANDARD
TZOFFSETFROM:+0200
TZOFFSETTO:+0100
TZNAME:CET
DTSTART:20221030T010000
END:STANDARD
BEGIN:DAYLIGHT
TZOFFSETFROM:+0100
TZOFFSETTO:+0200
TZNAME:CEST
DTSTART:20230326T010000
END:DAYLIGHT
BEGIN:STANDARD
TZOFFSETFROM:+0200
TZOFFSETTO:+0100
TZNAME:CET
DTSTART:20231029T010000
END:STANDARD
BEGIN:DAYLIGHT
TZOFFSETFROM:+0100
TZOFFSETTO:+0200
TZNAME:CEST
DTSTART:20240331T010000
END:DAYLIGHT
BEGIN:STANDARD
TZOFFSETFROM:+0200
TZOFFSETTO:+0100
TZNAME:CET
DTSTART:20241027T010000
END:STANDARD
END:VTIMEZONE
BEGIN:VEVENT
DTSTART;TZID=Europe/Paris:20231001T150000
DTEND;TZID=Europe/Paris:20231001T150000
DTSTAMP:20260421T151145
CREATED:20230902T120741Z
LAST-MODIFIED:20230902T120829Z
UID:18486-1696172400-1696172400@bouxwiller.eu
SUMMARY:Visite sensorielle « Le musée dans tous les sens »
DESCRIPTION:À partir de 7 ans \nRedécouvrez le Musée du Pays de Hanau à travers une visite insolite qui fera appel à tous vos sens. Respirez les parfums des jardins princiers disparus. Savourez la légende de la Bretzel. Écoutez les mystérieuses histoires des sorcières du Bastberg et touchez les belles coiffes du Pays de Hanau. \nVisite proposée dans le cadre de l’événement d’octobre « Éveil des sens » : une découverte du patrimoine des Vosges du nord pour tous et adaptée à chacun ! \nDurée : 1h30\nAnimation gratuite\nPlaces limitées. Réservation obligatoire au 03 88 00 38 39 ou contact@museedupaysdehanau.eu\nLieu : Musée du Pays de Hanau – 3 place du Château 67330 Bouxwiller
URL:https://bouxwiller.eu/event/visite-sensorielle-le-musee-dans-tous-les-sens/
ATTACH;FMTTYPE=image/jpeg:https://bouxwiller.eu/wp-content/uploads/2023/09/Visite-sensorielle-1-octobre-Photo-Melanie-Le-Hir-scaled-e1693660105413.jpg
END:VEVENT
BEGIN:VEVENT
DTSTART;TZID=Europe/Paris:20231007T190000
DTEND;TZID=Europe/Paris:20231007T190000
DTSTAMP:20260421T151145
CREATED:20231003T134339Z
LAST-MODIFIED:20231003T134339Z
UID:18892-1696705200-1696705200@bouxwiller.eu
SUMMARY:Messti party Mix dès 19h
DESCRIPTION:
URL:https://bouxwiller.eu/event/messti-party-mix-des-19h/
ATTACH;FMTTYPE=image/jpeg:https://bouxwiller.eu/wp-content/uploads/2023/10/379731680_868236071403682_2531792843442377257_n.jpg
END:VEVENT
BEGIN:VEVENT
DTSTART;TZID=Europe/Paris:20231008T100000
DTEND;TZID=Europe/Paris:20231008T190000
DTSTAMP:20260421T151145
CREATED:20230308T080004Z
LAST-MODIFIED:20230926T113819Z
UID:17539-1696759200-1696791600@bouxwiller.eu
SUMMARY:Producteurs de fruits
DESCRIPTION:Au programme du dimanche 8 octobre : \nDécouverte de notre exposition avec son splendide décors.\nRencontre avec la société mycologique\, découverte d’une multitude de champignons\,\nRencontre avec différents artistes et artisans \nVous aurez également la possibilité de commander vos arbres fruitiers auprès de l’association  \nBuvette\, petite restauration et tombolas sont au rendez vous
URL:https://bouxwiller.eu/event/producteurs-de-fruits/
LOCATION:Centre culturel Marie Hart\, Bouxwiller
ATTACH;FMTTYPE=image/jpeg:https://bouxwiller.eu/wp-content/uploads/2023/03/378271738_619003880394528_747011034253900458_n.jpg
END:VEVENT
BEGIN:VEVENT
DTSTART;TZID=Europe/Paris:20231008T150000
DTEND;TZID=Europe/Paris:20231008T190000
DTSTAMP:20260421T151145
CREATED:20231003T134120Z
LAST-MODIFIED:20231003T134234Z
UID:18887-1696777200-1696791600@bouxwiller.eu
SUMMARY:Après midi dansant dès 15h
DESCRIPTION:
URL:https://bouxwiller.eu/event/messti-party-mix/
ATTACH;FMTTYPE=image/jpeg:https://bouxwiller.eu/wp-content/uploads/2023/10/379731680_868236071403682_2531792843442377257_n.jpg
END:VEVENT
BEGIN:VEVENT
DTSTART;TZID=Europe/Paris:20231009T180000
DTEND;TZID=Europe/Paris:20231009T180000
DTSTAMP:20260421T151145
CREATED:20231003T134438Z
LAST-MODIFIED:20231003T134438Z
UID:18894-1696874400-1696874400@bouxwiller.eu
SUMMARY:Soirée Harengs marinés / jambon braisé
DESCRIPTION:
URL:https://bouxwiller.eu/event/soiree-harengs-marines-jambon-braise/
ATTACH;FMTTYPE=image/jpeg:https://bouxwiller.eu/wp-content/uploads/2023/10/379731680_868236071403682_2531792843442377257_n.jpg
END:VEVENT
BEGIN:VEVENT
DTSTART;TZID=Europe/Paris:20231013T180000
DTEND;TZID=Europe/Paris:20231013T180000
DTSTAMP:20260421T151145
CREATED:20231006T091846Z
LAST-MODIFIED:20231006T091905Z
UID:18969-1697220000-1697220000@bouxwiller.eu
SUMMARY:Finissage de l’exposition « Youhou : sculptures de Jeanluc Hattemer »
DESCRIPTION:Au programme de la soirée : \n18h : Dernière visite guidée de l’exposition par l’artiste \nLaissez-vous entraîner dans l’univers atypique et poétique de Jeanluc Hattemer\, sculpteur originaire du Ried et installé près de Bouxwiller depuis de nombreuses années. À travers des œuvres parfois colorées et empreintes d’humour\, il nous invite au souvenir\, à la nostalgie de l’enfance ou nous questionne sur notre rapport à la nature. \nLa visite sera suivie d’un mot de la fin.\nVerre de l’amitié offert.\nAnimation gratuite.\nPlaces limitées. Réservation obligatoire au 03 88 00 38 39 ou contact@museedupaysdehanau.eu \n  \n19h : Concert avec le groupe de jazz/funk le « Good Quartet »\nQuatre musiciens\, étudiants au Conservatoire\, Lafcadio Calmeil\, Ilann de Carpentier\, Emiliano Leclerc et Baptiste Wolf\, vous proposent un set de jazz étonnant\, au sein même de l’exposition « Youhou ». \nEntrée libre\, plateau pour les artistes.\nSur réservation.\nDurée : 45 minutes\nPlaces limitées. Réservation obligatoire au 03 88 00 38 39 ou contact@museedupaysdehanau.eu
URL:https://bouxwiller.eu/event/finissage-de-lexposition-youhou-sculptures-de-jeanluc-hattemer/
ATTACH;FMTTYPE=image/jpeg:https://bouxwiller.eu/wp-content/uploads/2023/10/Finissage-Exposition-Youhou-2023-4-Photo-Thomas-Lincker-scaled-e1696587181305.jpg
END:VEVENT
BEGIN:VEVENT
DTSTART;TZID=Europe/Paris:20231014T140000
DTEND;TZID=Europe/Paris:20231014T173000
DTSTAMP:20260421T151145
CREATED:20230920T142508Z
LAST-MODIFIED:20230920T142508Z
UID:18849-1697292000-1697304600@bouxwiller.eu
SUMMARY:Journée régionale de collecte du film amateur au Centre Culturel Marie Hart
DESCRIPTION:Vos films sont notre histoire !\nVous avez tourné chez vous ou en voyage\, au travail ou pendant vos loisirs : ces images privées font partie de notre patrimoine. Elles sont le témoignages d’une époque et constituent des sources historiques précieuses. Confiez-les aux Cinémathèques du Grand Est\, MIRA en Alsace et Image’Est en Lorraine et en Champagne- Ardenne\, elles seront inventoriées\, numérisées et valorisées. \nVous êtes un particulier\, une association\, une entreprise\, une collectivité\, une institution… Rendez-vous samedi 14 octobre 2023 au Centre culturel Marie Hart pour nous rencontrer et déposer vos films sur pellicule aux formats 9\,5 mm\, 16 mm\, 17\,5 mm\, 8 mm\, Super 8 mm.
URL:https://bouxwiller.eu/event/journee-regionale-de-collecte-du-film-amateur-au-centre-culturel-marie-hart/
LOCATION:Centre culturel Marie Hart\, Bouxwiller
END:VEVENT
BEGIN:VEVENT
DTSTART;TZID=Europe/Paris:20231014T183000
DTEND;TZID=Europe/Paris:20231014T183000
DTSTAMP:20260421T151145
CREATED:20230926T142523Z
LAST-MODIFIED:20230926T143155Z
UID:18877-1697308200-1697308200@bouxwiller.eu
SUMMARY:HABITER AILLEURS : installation / performance / théâtre et danse / fête
DESCRIPTION:samedi 14 octobre 2023 à partir de 18h30 au théâtre Christiane Stroë\n \nCompagnie les patries imaginaires / Artiste-compagnon Perrine MAURIN \n\n\n\nDéroulé de la soirée :\n18h30 : ouverture de l’exposition et sieste sonore\nPossibilité de restauration auprès du camion à nourriture Hanau Flam’s installé place du Château (traditionnelle et gratinées uniquement)\n20h30 : performance des artistes ayant participé à la résidence\n22h : soirée dansante \n\n\n\n\n\n\n\n\n\n\nAprès trois années de résidence et de pérégrinations dans le territoire\, Perrine MAURIN et sa compagnie les patries imaginaires exposent des souvenirs\, des témoignages\, des images de leurs aventures\, des livres qui les ont guidés… Elles proposent aussi de redécouvrir la sieste sonore conçue avec le compositeur Antoine ARLOT\, d’assister à une performance du groupe d’artistes qui a mené la résidence\, mêlant mouvement et textes documentaires ou poétiques. Pour clore la résidence\, c’est la piste de danse qui s’ouvre aux envies de partager\, de bouger\, de rire et d’imaginer comment habiter cette soirée festive\, joyeuse\, documentaire et bien sûr improvisée. \n\n\n\nAvec : Antoine ARLOT\, Augustin BÉCARD\, Vidal BINI\, Marie CAMBOIS\, Mélina FAGOT\, Hélène GÉHIN\, Galaad Le GOASTER\, Perrine MAURIN et Elsa PION \n\n\n\n\n\n\n\n\nCrédit photographique : Benoît de CARPENTIER
URL:https://bouxwiller.eu/event/habiter-ailleurs-installation-performance-theatre-et-danse-fete/
LOCATION:Théâtre Christiane Stroë\, 5 place du Château\, BOUXWILLER\, 67330\, France
ATTACH;FMTTYPE=image/jpeg:https://bouxwiller.eu/wp-content/uploads/2023/09/DSC_3594-833x540-1.jpg
END:VEVENT
BEGIN:VEVENT
DTSTART;TZID=Europe/Paris:20231020T200000
DTEND;TZID=Europe/Paris:20231020T220000
DTSTAMP:20260421T151145
CREATED:20231009T120552Z
LAST-MODIFIED:20231009T120619Z
UID:18972-1697832000-1697839200@bouxwiller.eu
SUMMARY:Séance de cinéma exceptionnelle
DESCRIPTION:Séance de cinéma exceptionnelle le vendredi 20 octobre à 20h00 au Centre Culturel Marie Hart. \n  \n 
URL:https://bouxwiller.eu/event/seance-de-cinema-exceptionnelle/
ATTACH;FMTTYPE=image/png:https://bouxwiller.eu/wp-content/uploads/2023/10/Affiche-Octobre-Rose.png
END:VEVENT
BEGIN:VEVENT
DTSTART;TZID=Europe/Paris:20231021T200000
DTEND;TZID=Europe/Paris:20231021T200000
DTSTAMP:20260421T151145
CREATED:20230920T142123Z
LAST-MODIFIED:20231014T133659Z
UID:18844-1697918400-1697918400@bouxwiller.eu
SUMMARY:Concert violon et piano à l'église protestante
DESCRIPTION:
URL:https://bouxwiller.eu/event/concert-violon-et-piano/
LOCATION:Eglise protestante de Bouxwiller
ATTACH;FMTTYPE=image/png:https://bouxwiller.eu/wp-content/uploads/2023/09/affiche_mairet_iffrig_2023.png
END:VEVENT
BEGIN:VEVENT
DTSTART;TZID=Europe/Paris:20231024T143000
DTEND;TZID=Europe/Paris:20231024T143000
DTSTAMP:20260421T151145
CREATED:20230902T122327Z
LAST-MODIFIED:20230902T123127Z
UID:18499-1698157800-1698157800@bouxwiller.eu
SUMMARY:Cinéma "Les As de la jungle 2 : opération tour du monde"
DESCRIPTION:Lieu : Centre culturel Marie Hart\, 5 place du Château 67330 BOUXWILLER \n 
URL:https://bouxwiller.eu/event/cinema-les-as-de-la-jungle-2-operation-tour-du-monde/
END:VEVENT
BEGIN:VEVENT
DTSTART;TZID=Europe/Paris:20231025T100000
DTEND;TZID=Europe/Paris:20231025T100000
DTSTAMP:20260421T151145
CREATED:20230902T120956Z
LAST-MODIFIED:20230902T120956Z
UID:18491-1698228000-1698228000@bouxwiller.eu
SUMMARY:Visite contée – atelier « Vive les mariés ! »
DESCRIPTION:À partir de 4 ans \nLes participants seront transportés jusqu’au 19e siècle par une guide costumée. Celle-ci prépare un mariage\, mais le peintre qui devait décorer les meubles des futurs mariés est tombé malade. Pour sauver le mariage\, les participants devront rechercher les motifs peints sur les meubles en sapin exposés pour s’en inspirer et réaliser un beau décor à l’aide de pochoirs et de tampons.\nVisite pour les familles\, avec enfant à partir de 4 ans.\nÉgalement adaptée aux personnes en situation de handicap mental. \nVisite proposée dans le cadre de l’événement d’octobre « Éveil des sens » : une découverte du patrimoine des Vosges du nord pour tous et adaptée à chacun ! \nDurée : 1h15\nAnimation gratuite\nPlaces limitées. Réservation obligatoire au 03 88 00 38 39 ou contact@museedupaysdehanau.eu\nLieu : Musée du Pays de Hanau – 3 place du Château 67330 Bouxwiller
URL:https://bouxwiller.eu/event/visite-contee-atelier-vive-les-maries/
ATTACH;FMTTYPE=image/jpeg:https://bouxwiller.eu/wp-content/uploads/2023/09/Visite-contee-25-octobre-Photo-Musee-du-Pays-de-Hanau--scaled-e1693660170927.jpg
END:VEVENT
BEGIN:VEVENT
DTSTART;TZID=Europe/Paris:20231027T143000
DTEND;TZID=Europe/Paris:20231027T143000
DTSTAMP:20260421T151145
CREATED:20231017T120743Z
LAST-MODIFIED:20231017T120743Z
UID:19023-1698417000-1698417000@bouxwiller.eu
SUMMARY:Atelier pour les 7-12 ans : En chemin vers Halloween
DESCRIPTION:Durant cet atelier\, les enfants fabriqueront des lanternes et des décorations en bois à poser\, qui vous donneront des frissons ! Grâce à cette activité\, encadrée par les bénévoles de l’Association des Amis du Musée\, les enfants seront parés pour vivre de belles fêtes d’Halloween.\nIls découvriront également le musée autrement\, grâce aux sombres légendes qui leur seront dévoilées par notre guide Laure Lickel. \nTarif : 5€ (comprend l’entrée du Musée) + goûter offert\nDurée : 2h30\nPlaces limitées. Réservation obligatoire au 03 88 00 38 39 ou contact@museedupaysdehanau.eu\nAtelier proposé par les Amis du Musée du Pays de Hanau\nLieu : Musée du Pays de Hanau – 3 place du Château 67330 Bouxwiller
URL:https://bouxwiller.eu/event/atelier-pour-les-7-12-ans-en-chemin-vers-halloween/
ATTACH;FMTTYPE=image/jpeg:https://bouxwiller.eu/wp-content/uploads/2023/10/1000010988.jpg
END:VEVENT
BEGIN:VEVENT
DTSTART;TZID=Europe/Paris:20231029T150000
DTEND;TZID=Europe/Paris:20231029T150000
DTSTAMP:20260421T151145
CREATED:20230902T121346Z
LAST-MODIFIED:20230902T121346Z
UID:18494-1698591600-1698591600@bouxwiller.eu
SUMMARY:Visite tactile « Les maisons à colombages du Pays de Hanau »
DESCRIPTION:Découvrez l’architecture du Pays de Hanau grâce à une belle maquette de ferme traditionnelle et de nombreux outils pour mieux comprendre le colombage.\nAprès une présentation au musée\, le guide accompagnera les participants dans les rues de Bouxwiller pour apprécier les nombreuses maisons en pan-de-bois de son centre-ville.\nAdultes voyants\, malvoyants et non-voyants \nVisite proposée dans le cadre de l’événement d’octobre « Éveil des sens » : une découverte du patrimoine des Vosges du nord pour tous et adaptée à chacun !\nDurée : 2h\nAnimation gratuite\nPlaces limitées. Réservation obligatoire au 03 88 00 38 39 ou contact@museedupaysdehanau.eu\nLieu : Musée du Pays de Hanau – 3 place du Château 67330 Bouxwiller
URL:https://bouxwiller.eu/event/visite-tactile-les-maisons-a-colombages-du-pays-de-hanau/
ATTACH;FMTTYPE=image/jpeg:https://bouxwiller.eu/wp-content/uploads/2023/09/Visite-tactile-Photo-Melanie-Le-Hir-scaled-e1693660423606.jpg
END:VEVENT
BEGIN:VEVENT
DTSTART;TZID=Europe/Paris:20231031T143000
DTEND;TZID=Europe/Paris:20231031T143000
DTSTAMP:20260421T151145
CREATED:20230902T122410Z
LAST-MODIFIED:20231030T133416Z
UID:18501-1698762600-1698762600@bouxwiller.eu
SUMMARY:Cinéma "Sacrées momies"
DESCRIPTION:Lieu : Centre culturel Marie Hart\, 5 place du Château 67330 BOUXWILLER \n 
URL:https://bouxwiller.eu/event/cinema-sacrees-momies/
ATTACH;FMTTYPE=image/jpeg:https://bouxwiller.eu/wp-content/uploads/2023/09/387102980_345502871166924_909773038720755661_n-e1698672848466.jpg
END:VEVENT
BEGIN:VEVENT
DTSTART;TZID=Europe/Paris:20231031T180000
DTEND;TZID=Europe/Paris:20231031T230000
DTSTAMP:20260421T151145
CREATED:20231017T084324Z
LAST-MODIFIED:20231017T084324Z
UID:19020-1698775200-1698793200@bouxwiller.eu
SUMMARY:Halloween au Hexe Hoft 🦇🧙‍♀️🎃
DESCRIPTION:
URL:https://bouxwiller.eu/event/halloween-au-hexe-hoft-%f0%9f%a6%87%f0%9f%a7%99%e2%99%80%ef%b8%8f%f0%9f%8e%83/
ATTACH;FMTTYPE=image/jpeg:https://bouxwiller.eu/wp-content/uploads/2023/10/hh.jpg
END:VEVENT
END:VCALENDAR