BEGIN:VCALENDAR
VERSION:2.0
PRODID:-//Mairie de Bouxwiller - ECPv6.15.18//NONSGML v1.0//EN
CALSCALE:GREGORIAN
METHOD:PUBLISH
X-WR-CALNAME:Mairie de Bouxwiller
X-ORIGINAL-URL:https://bouxwiller.eu
X-WR-CALDESC:Évènements pour Mairie de Bouxwiller
REFRESH-INTERVAL;VALUE=DURATION:PT1H
X-Robots-Tag:noindex
X-PUBLISHED-TTL:PT1H
BEGIN:VTIMEZONE
TZID:Europe/Paris
BEGIN:DAYLIGHT
TZOFFSETFROM:+0100
TZOFFSETTO:+0200
TZNAME:CEST
DTSTART:20220327T010000
END:DAYLIGHT
BEGIN:STANDARD
TZOFFSETFROM:+0200
TZOFFSETTO:+0100
TZNAME:CET
DTSTART:20221030T010000
END:STANDARD
BEGIN:DAYLIGHT
TZOFFSETFROM:+0100
TZOFFSETTO:+0200
TZNAME:CEST
DTSTART:20230326T010000
END:DAYLIGHT
BEGIN:STANDARD
TZOFFSETFROM:+0200
TZOFFSETTO:+0100
TZNAME:CET
DTSTART:20231029T010000
END:STANDARD
BEGIN:DAYLIGHT
TZOFFSETFROM:+0100
TZOFFSETTO:+0200
TZNAME:CEST
DTSTART:20240331T010000
END:DAYLIGHT
BEGIN:STANDARD
TZOFFSETFROM:+0200
TZOFFSETTO:+0100
TZNAME:CET
DTSTART:20241027T010000
END:STANDARD
END:VTIMEZONE
BEGIN:VEVENT
DTSTART;TZID=Europe/Paris:20231104T140000
DTEND;TZID=Europe/Paris:20231104T180000
DTSTAMP:20260421T103613
CREATED:20231020T053904Z
LAST-MODIFIED:20231020T053904Z
UID:19048-1699106400-1699120800@bouxwiller.eu
SUMMARY:Exposition de la société d'aviculture de Bouxwiller et environs
DESCRIPTION:
URL:https://bouxwiller.eu/event/exposition-de-la-societe-daviculture-de-bouxwiller-et-environs/
ATTACH;FMTTYPE=image/jpeg:https://bouxwiller.eu/wp-content/uploads/2023/10/392827353_1798759357226485_8461012742248944650_n.jpg
END:VEVENT
BEGIN:VEVENT
DTSTART;TZID=Europe/Paris:20231105T090000
DTEND;TZID=Europe/Paris:20231105T180000
DTSTAMP:20260421T103613
CREATED:20231020T054013Z
LAST-MODIFIED:20231020T054032Z
UID:19052-1699174800-1699207200@bouxwiller.eu
SUMMARY:Exposition de la société d'aviculture de Bouxwiller et environs
DESCRIPTION:
URL:https://bouxwiller.eu/event/exposition-de-la-societe-daviculture-de-bouxwiller-et-environs-2/
ATTACH;FMTTYPE=image/jpeg:https://bouxwiller.eu/wp-content/uploads/2023/10/392827353_1798759357226485_8461012742248944650_n.jpg
END:VEVENT
BEGIN:VEVENT
DTSTART;TZID=Europe/Paris:20231105T150000
DTEND;TZID=Europe/Paris:20231105T150000
DTSTAMP:20260421T103613
CREATED:20230925T135848Z
LAST-MODIFIED:20230925T135848Z
UID:18867-1699196400-1699196400@bouxwiller.eu
SUMMARY:Immersion sensorielle au musée
DESCRIPTION:Visitez le Musée du Pays de Hanau avec tous vos sens en éveil\, en compagnie de la sophrologue Sabrina Quaeybeur et d’une médiatrice du musée. À travers plusieurs ateliers\, devenez acteurs de vos découvertes\, lors de cette visite insolite\, pour appréhender autrement l’histoire du territoire\, l’environnement naturel\, et les arts et traditions populaires. Explorez les capacités insoupçonnées de vos sens et prenez conscience de leur étendue.\nUne visite placée sous le signe de l’échange et de la convivialité ! \nAnimation pour adulte.\nDurée : 2h\nTarif : 5 euros\nPlaces limitées. Réservation obligatoire au 03 88 00 38 39 ou contact@museedupaysdehanau.eu \nLieu : Musée du Pays de Hanau – 3 place du Château 67330 Bouxwiller
URL:https://bouxwiller.eu/event/immersion-sensorielle-au-musee/
ATTACH;FMTTYPE=image/jpeg:https://bouxwiller.eu/wp-content/uploads/2023/09/visite-du-5-novembre-Photo-Melanie-Le-Hir-scaled-e1695653923207.jpg
END:VEVENT
BEGIN:VEVENT
DTSTART;TZID=Europe/Paris:20231110T183000
DTEND;TZID=Europe/Paris:20231110T183000
DTSTAMP:20260421T103613
CREATED:20231028T142355Z
LAST-MODIFIED:20231028T142355Z
UID:19107-1699641000-1699641000@bouxwiller.eu
SUMMARY:Soirée tarte flambée
DESCRIPTION:
URL:https://bouxwiller.eu/event/soiree-tarte-flambee-4/
LOCATION:Foyer Protestant
ATTACH;FMTTYPE=image/png:https://bouxwiller.eu/wp-content/uploads/2023/10/affiche_tarte_flambee_automne_23.png
END:VEVENT
BEGIN:VEVENT
DTSTART;TZID=Europe/Paris:20231112T170000
DTEND;TZID=Europe/Paris:20231112T170000
DTSTAMP:20260421T103613
CREATED:20230920T142218Z
LAST-MODIFIED:20231028T141037Z
UID:18846-1699808400-1699808400@bouxwiller.eu
SUMMARY:Concert de l’ensemble de flûtes à bec “Fiatabec” à l'église protestante
DESCRIPTION:
URL:https://bouxwiller.eu/event/concert-de-lensemble-de-flutes-a-bec-fiatabec/
LOCATION:Eglise Protestante\, rue de l'Eglise\, BOUXWILLER\, 67330\, France
ATTACH;FMTTYPE=image/png:https://bouxwiller.eu/wp-content/uploads/2023/09/affiche_definitive_concert.png
END:VEVENT
BEGIN:VEVENT
DTSTART;TZID=Europe/Paris:20231114T163000
DTEND;TZID=Europe/Paris:20231114T200000
DTSTAMP:20260421T103613
CREATED:20231010T115223Z
LAST-MODIFIED:20231010T115223Z
UID:18990-1699979400-1699992000@bouxwiller.eu
SUMMARY:Don de sang
DESCRIPTION:
URL:https://bouxwiller.eu/event/don-de-sang-3/
ATTACH;FMTTYPE=image/jpeg:https://bouxwiller.eu/wp-content/uploads/2023/10/affiche_103173_Bouxwiller_gest_generique_rdv_2022_A3P_20231009101940-scaled.jpg
END:VEVENT
BEGIN:VEVENT
DTSTART;TZID=Europe/Paris:20231116T183000
DTEND;TZID=Europe/Paris:20231116T183000
DTSTAMP:20260421T103613
CREATED:20231030T145142Z
LAST-MODIFIED:20231030T145142Z
UID:19121-1700159400-1700159400@bouxwiller.eu
SUMMARY:Conférence "La nature férale ou le retour du sauvage"
DESCRIPTION:Salle polyvalente du Lycée de Bouxwiller
URL:https://bouxwiller.eu/event/conference-la-nature-ferale-ou-le-retour-du-sauvage/
ATTACH;FMTTYPE=image/jpeg:https://bouxwiller.eu/wp-content/uploads/2023/10/396047068_662663632644370_8372315685872897390_n.jpg
END:VEVENT
BEGIN:VEVENT
DTSTART;TZID=Europe/Paris:20231117T193000
DTEND;TZID=Europe/Paris:20231117T193000
DTSTAMP:20260421T103613
CREATED:20230926T142742Z
LAST-MODIFIED:20230926T142753Z
UID:18880-1700249400-1700249400@bouxwiller.eu
SUMMARY:Stammtisch #1 : Andriana [Ɂn.’dƷj.nɁ]
DESCRIPTION:vendredi 17 novembre 2023 à 19h30 au théâtre Christiane Stroë \nCompagnie Et roturière par surcroît / Paul ANDRIAMANANA RASOAMIARAMANANA \ndanse / sortie de résidence et repas \nPrésentation : entrée libre. Repas et une boisson (pour ceux qui le souhaitent) : 8€. \nRésidence du 13 au 17 novembre 2023 et du 3 au 7 juin 2024 \n«Un homme adulte\, de 33 ans\, métis franco-malgache\, joue avec les représentations que son nom de famille a générées chez lui depuis l’âge de sept ans. Son nom devient un palais\, ou un jardin dans lequel passent les protagonistes d’une histoire jamais articulée. Une galerie de manifestations. »\nPaul ANDRIAMANANA RASOAMIARAMANANA \nPour le premier Stammtisch de la saison\, le Théâtre du Marché aux Grains accueille Paul ANDRIAMANANA RASOAMIARAMANANA en résidence de création d’une semaine pour son prochain spectacle chorégraphique Andriana [Ɂn.’dƷj.nɁ]. Durant cette soirée\, l’artiste présentera son travail sur scène\, avant d’échanger avec le public\, autour d’un repas\, sur sa démarche artistique. \nChorégraphe\, interprète et costumier : Paul ANDRIAMANANA RASOAMIARAMANANA\nDramaturge : Lucie MOLLIER \nAccueil à Bouxwiller en partenariat avec le Laboratoire Chorégraphique – Reims.\nAccueils en résidence : Performing Art Forum\, Saint-Erme-Outre-et-Ramecour\, La Corvette\, Hameau d’Evelle\, Baubigny\, Université de Strasbourg\, Laboratoire Chorégraphique – Reims. \nStammtisch :\nÀ l’issue d’une résidence\, l’équipe artistique accueillie par le Théâtre du Marché aux Grains présente au public son travail\, ses expérimentations et ses recherches. S’en suit le partage d’un repas durant lequel spectateurs et artistes peuvent échanger ensemble.\nLes soirées Stammtisch sont pensées pour favoriser des temps de rencontre entre les artistes et les publics. \nCrédit photographique : Paul ANDRIAMANANA RASOAMIARAMANANA
URL:https://bouxwiller.eu/event/stammtisch-1-andriana-%c9%82n-d%ca%92j-n%c9%82/
LOCATION:Théâtre Christiane Stroë\, 5 place du Château\, BOUXWILLER\, 67330\, France
ATTACH;FMTTYPE=image/png:https://bouxwiller.eu/wp-content/uploads/2023/09/Sans-titre-833x540-1.png
END:VEVENT
BEGIN:VEVENT
DTSTART;TZID=Europe/Paris:20231118T090000
DTEND;TZID=Europe/Paris:20231118T140000
DTSTAMP:20260421T103613
CREATED:20231110T141212Z
LAST-MODIFIED:20231110T141212Z
UID:19245-1700298000-1700316000@bouxwiller.eu
SUMMARY:Chantier nature participatif
DESCRIPTION:Venez participer à la gestion du site « RNR du Bastberg » au sein de la commune de Bouxwiller ! (67)\nCe chantier nature participatif se déroulera sur la journée et débutera à 9h et 14h sur le parking du cimetière à Imbsheim où le technicien du CEN Alsace et/ou le conservateur bénévole du site vous accueilleront puis vous amèneront sur le site. Une fois le milieu et ses enjeux présentés\, le technicien et/ou le conservateur bénévole vous guideront dans la réalisation des différentes tâches en vous distribuant les outils adaptés. Rassurez-vous\, les tâches à effectuer sont accessibles à tous ! Vous pourrez prendre part à ce chantier dans la mesure de vos capacités et de vos envies.\nLe site dont il est question est constitué d’une prairie calcaire à orchidées\, gentiane ciliée et bosquets arbustifs.\nLes travaux à effectuer consisteront principalement à ratisser de l’herbe et tailler les haies champêtres. Cela permettra de maintenir la prairie et d’entretenir les haies pour éviter la fermeture du milieu.\nSi vous souhaitez vous joindre à nous\, rien de plus simple ! Rendez-vous simplement à l’heure indiquée sur le lieu du rendez-vous\, aucune inscription n’est nécessaire.\nPour plus de renseignements\, vous pouvez appeler le 03 89 83 34 10 ou nous envoyer un mail à antenne.bas-rhin@conservatoire-sites-alsaciens.eu .\nSi vous avez des gants adaptés aux travaux extérieurs\, pensez à les apporter avec vous.\nAlors n’hésitez plus ! Rejoignez-nous et venez mettre la main à la pâte pour entretenir ces milieux riches en biodiversité !
URL:https://bouxwiller.eu/event/chantier-nature-participatif-5/
LOCATION:Colline du Bastberg\, Imbsheim
ATTACH;FMTTYPE=image/jpeg:https://bouxwiller.eu/wp-content/uploads/2023/11/thumbnail_BOUXWILLER-RNR-du-Bastberg.jpg
END:VEVENT
BEGIN:VEVENT
DTSTART;TZID=Europe/Paris:20231119T090000
DTEND;TZID=Europe/Paris:20231119T140000
DTSTAMP:20260421T103613
CREATED:20231024T060703Z
LAST-MODIFIED:20231024T060703Z
UID:19058-1700384400-1700402400@bouxwiller.eu
SUMMARY:Bourse aux jouets
DESCRIPTION:
URL:https://bouxwiller.eu/event/bourse-aux-jouets/
ATTACH;FMTTYPE=image/jpeg:https://bouxwiller.eu/wp-content/uploads/2023/10/Screenshot_20231018-191611_1.jpg
END:VEVENT
BEGIN:VEVENT
DTSTART;TZID=Europe/Paris:20231119T113000
DTEND;TZID=Europe/Paris:20231119T173000
DTSTAMP:20260421T103613
CREATED:20231026T114407Z
LAST-MODIFIED:20231026T114407Z
UID:19099-1700393400-1700415000@bouxwiller.eu
SUMMARY:🥨🍺Déjeuner dansant organisé par l' U.S.Imbsheim le dimanche 19 novembre à partir de 11h30.
DESCRIPTION:
URL:https://bouxwiller.eu/event/%f0%9f%a5%a8%f0%9f%8d%badejeuner-dansant-organise-par-l-u-s-imbsheim-le-dimanche-19-novembre-a-partir-de-11h30/
ATTACH;FMTTYPE=image/jpeg:https://bouxwiller.eu/wp-content/uploads/2023/10/facebook_1698320076342_7123270689482863707.jpg
END:VEVENT
BEGIN:VEVENT
DTSTART;TZID=Europe/Paris:20231122T143000
DTEND;TZID=Europe/Paris:20231122T143000
DTSTAMP:20260421T103613
CREATED:20230902T122906Z
LAST-MODIFIED:20230902T123229Z
UID:18503-1700663400-1700663400@bouxwiller.eu
SUMMARY:Cinéma "La Pat' Patrouille 2"
DESCRIPTION:Lieu : Centre culturel Marie Hart\, 5 place du Château 67330 BOUXWILLER
URL:https://bouxwiller.eu/event/cinema-la-pat-patrouille-2/
END:VEVENT
BEGIN:VEVENT
DTSTART;TZID=Europe/Paris:20231124T203000
DTEND;TZID=Europe/Paris:20231124T203000
DTSTAMP:20260421T103613
CREATED:20230926T143254Z
LAST-MODIFIED:20230926T143254Z
UID:18884-1700857800-1700857800@bouxwiller.eu
SUMMARY:NARR – Le concert
DESCRIPTION:vendredi 24 novembre 2023 à 20h30 au théâtre Christiane Stroë\nCompagnie partenaire KiloHertZ / Vidal BINI \nLe spectacle NARR : pour entrer dans la nuit\, librement inspiré de l’épidémie de danse qui a frappé Strasbourg à l’été 1518\, a marqué les esprits notamment par l’intensité de sa musique live\, qui mêle percussions traditionnelles et musique électronique expérimentale. \nKiloHertZ convie le public à une version concert de NARR pour un changement de focale\, du mouvement chorégraphique vers le geste du musicien. Avec Étienne GRUEL (percussions)\, Olivier MEYER et Geoffrey SORGIUS (synthétiseurs)\, c’est un voyage entre influences médiévales\, samples venus des quatre coins du monde et beats électro. Basée sur des rythmiques et des sonorités particulières\, la musique de NARR propose une traversée à la fois étrange et festive\, qui réveille nos imaginaires collectifs de transe et de danse ! \nPercussions : Étienne GRUEL\nMusiques électroniques : Olivier MEYER et Geoffrey SORGIUS\nCoordination : Vidal BINI \nProduction : KiloHertZ\, compagnie conventionnée avec la DRAC Grand Est\, la Région Grand Est et la Ville de Strasbourg pour les années 2023-2025. \nCrédit photographique : Vidal BINI\, illustration Johanny MELLOUL
URL:https://bouxwiller.eu/event/narr-le-concert/
ATTACH;FMTTYPE=image/jpeg:https://bouxwiller.eu/wp-content/uploads/2023/09/P9_NARR-le-concert_©Vidal-BINI-833x540-1.jpg
END:VEVENT
BEGIN:VEVENT
DTSTART;TZID=Europe/Paris:20231125T170000
DTEND;TZID=Europe/Paris:20231125T190000
DTSTAMP:20260421T103613
CREATED:20231010T063801Z
LAST-MODIFIED:20231010T063812Z
UID:18975-1700931600-1700938800@bouxwiller.eu
SUMMARY:Spectacle de feu « Fuego » Ouverture des festivités Noël au Pays de Hanau
DESCRIPTION:Venez admirer la compagnie Acroballes lors d’un spectacle flamboyant ! « Le feu étincelle\, fumée ou flamme\, coule\, vole ou éclate dans sa folie\, enveloppant les corps dans une danse endiablée au rythme de la musique tsigane et autres musiques du monde. » \nAnimation proposée dans le cadre des festivités de Noël au Pays de Hanau. \n  \nLieu : Place du Château \nGratuit / vin chaud et Bredele offert par le comité du Marché de Noël \nOuverture de l’exposition « Un Noël enneigé au Pays de Hanau » dès 14h au Musée du Pays de Hanau. \n 
URL:https://bouxwiller.eu/event/spectacle-de-feu-fuego-ouverture-des-festivites-noel-au-pays-de-hanau/
ATTACH;FMTTYPE=image/jpeg:https://bouxwiller.eu/wp-content/uploads/2023/10/11.25-Spectacle-Fuego-©Groupe-Fuego-scaled.jpg
END:VEVENT
BEGIN:VEVENT
DTSTART;TZID=Europe/Paris:20231126T120000
DTEND;TZID=Europe/Paris:20231126T170000
DTSTAMP:20260421T103613
CREATED:20231116T131254Z
LAST-MODIFIED:20231116T131254Z
UID:19271-1701000000-1701018000@bouxwiller.eu
SUMMARY:Déjeuner Paëlla à Griesbach-le-Bastberg
DESCRIPTION:
URL:https://bouxwiller.eu/event/dejeuner-paella-a-griesbach-le-bastberg/
ATTACH;FMTTYPE=image/jpeg:https://bouxwiller.eu/wp-content/uploads/2023/11/20231116113118304-scaled-e1700140308454.jpg
END:VEVENT
BEGIN:VEVENT
DTSTART;TZID=Europe/Paris:20231126T150000
DTEND;TZID=Europe/Paris:20231126T160000
DTSTAMP:20260421T103613
CREATED:20231010T063923Z
LAST-MODIFIED:20231010T063923Z
UID:18978-1701010800-1701014400@bouxwiller.eu
SUMMARY:Visite guidée de l’exposition « Un Noël enneigé au Pays de Hanau. »
DESCRIPTION:Emmenés par Laure Lickel\, chargée de médiation au Musée du Pays de Hanau\, laissez-vous guider dans cette exposition consacrée au froid ! Vous découvrez comment on vivait lorsque la neige recouvrait le Pays de Hanau. \n  \nAnimation proposée dans le cadre des festivités de Noël au Pays de Hanau. \nExposition visible jusqu’au 23 décembre\, aux heures d’ouverture du Musée \nDurée : 1h \nAnimation gratuite \nPlaces limitées. Réservation obligatoire au 03 88 00 38 39 ou contact@museedupaysdehanau.eu \nLieu : Musée du Pays de Hanau – 3 place du Château 67330 Bouxwiller \n 
URL:https://bouxwiller.eu/event/visite-guidee-de-lexposition-un-noel-enneige-au-pays-de-hanau/
ATTACH;FMTTYPE=image/jpeg:https://bouxwiller.eu/wp-content/uploads/2023/10/11.26-VG-expo-copyright-Musee-du-Pays-de-Hanau-scaled.jpg
END:VEVENT
BEGIN:VEVENT
DTSTART;TZID=Europe/Paris:20231126T160000
DTEND;TZID=Europe/Paris:20231126T170000
DTSTAMP:20260421T103613
CREATED:20231010T064053Z
LAST-MODIFIED:20231010T064318Z
UID:18982-1701014400-1701018000@bouxwiller.eu
SUMMARY:Concert des Dorli’Sings
DESCRIPTION:Concert proposé par l’association Musique en Pays de Hanau. \nConcert de Noël au Rythme jazz-swing \nEntrée libre\, plateau. \nLieu : Centre Culturel\, 5 place du Château\, 67330 Bouxwiller \nAnimation proposée dans le cadre des festivités de Noël au Pays de Hanau.
URL:https://bouxwiller.eu/event/concert-des-dorlisings/
END:VEVENT
BEGIN:VEVENT
DTSTART;TZID=Europe/Paris:20231129T143000
DTEND;TZID=Europe/Paris:20231129T170000
DTSTAMP:20260421T103613
CREATED:20231010T064526Z
LAST-MODIFIED:20231010T064553Z
UID:18984-1701268200-1701277200@bouxwiller.eu
SUMMARY:Atelier de Noël pour enfants
DESCRIPTION:Les enfants entre 7 et 12 ans réaliseront des bricolages de Noël. Cette activité ludique leur permettra de rentrer joyeusement dans le temps des fêtes ! \n  \nTarif : 3 € + Goûter offert \nPlaces limitées. Réservations au 07 69 21 66 21 ou centre.culturel@bouxwiller.eu \nLieu : Centre Culturel\, 5 place du Château\, 67330 Bouxwiller \nAnimation proposée dans le cadre des festivités de Noël au Pays de Hanau.
URL:https://bouxwiller.eu/event/atelier-de-noel-pour-enfants-3/
ATTACH;FMTTYPE=image/jpeg:https://bouxwiller.eu/wp-content/uploads/2023/10/11.29-atelier-enfant-@-Musee-du-Pays-de-Hanau-scaled.jpg
END:VEVENT
BEGIN:VEVENT
DTSTART;TZID=Europe/Paris:20231130T190000
DTEND;TZID=Europe/Paris:20231130T210000
DTSTAMP:20260421T103613
CREATED:20231010T065012Z
LAST-MODIFIED:20231010T070043Z
UID:18987-1701370800-1701378000@bouxwiller.eu
SUMMARY:Soirée décoration de salle
DESCRIPTION:Appel à bénévoles pour une « Soirée déco » \nLe Marché de Noël du Pays de Hanau approche à grands pas. Les bénévoles du Comité « Noël au Pays de Hanau » font appel à toutes les personnes souhaitant participer à la décoration des salles qui accueilleront les futurs exposants. Pour cette soirée\, pas besoin d’être un spécialiste de la déco : le rendez-vous est donné à tous ceux qui souhaitent donner un coup de main en toute convivialité. Une petite précision toutefois\, n’oubliez pas de vous munir de votre sécateur afin de pouvoir couper les branches de sapin ! \nRenseignements : au 07 69 21 66 21 ou centre.culturel@bouxwiller.eu \nLieu : Centre culturel\, Place du Château\, 67330 Bouxwiller
URL:https://bouxwiller.eu/event/soiree-decoration-de-salle/
ATTACH;FMTTYPE=image/jpeg:https://bouxwiller.eu/wp-content/uploads/2023/10/11.30-soiree-deco-©-Laurine-REICHEL-scaled.jpg
END:VEVENT
END:VCALENDAR